BEGIN:VCALENDAR
PRODID:-//gdesolutions.com//MV Framework 1.0.0.1607 Calendar//EN
VERSION:2.0
METHOD:PUBLISH
CALSCALE:GREGORIAN
BEGIN:VEVENT
UID:g7f44@games.golnetwork.com
LOCATION:Louis Riel #3
GEO:45.4410208;-75.5715394
CREATED:20150803T232150Z
DTSTART:20150806T223000Z
DTEND:20150807T000000Z
DTSTAMP:20260421T042428Z
SUMMARY:Let the Drummer Kick vs. Cleat Elite
DESCRIPTION:Cleat Elite vs. Let the Drummer KickPlus d'info : #146
X-ALT-DESC;FMTTYPE=text/html:<!DOCTYPE HTML PUBLIC "-//W3C//DTD HTML 3.2//E
	N">\n<HTML>\n<HEAD>\n<TITLE></TITLE>\n</HEAD>\n<BODY>\n<h3>Cleat Elite vs. 
	Let the Drummer Kick</h3>Plus d'info : <a href="https://www.golnetwork.com/
	game/v/73415/">#146</a>\n\n</BODY>\n</HTML>
STATUS:CONFIRMED
CLASS:PUBLIC
URL:https://www.golnetwork.com/game/v/73415/
X-MICROSOFT-CDO-BUSYSTATUS:BUSY
X-MICROSOFT-CDO-IMPORTANCE:1
END:VEVENT
BEGIN:VEVENT
UID:g7f42@games.golnetwork.com
LOCATION:McCarthy Park Field #5
GEO:45.3517739;-75.6718247
CREATED:20150803T232128Z
DTSTART:20150806T224500Z
DTEND:20150807T001500Z
DTSTAMP:20260421T042428Z
SUMMARY:Int Individuals 1 vs. Spartans
DESCRIPTION:Spartans vs. Int Individuals 1Plus d'info : #151
X-ALT-DESC;FMTTYPE=text/html:<!DOCTYPE HTML PUBLIC "-//W3C//DTD HTML 3.2//E
	N">\n<HTML>\n<HEAD>\n<TITLE></TITLE>\n</HEAD>\n<BODY>\n<h3>Spartans vs. Int
	 Individuals 1</h3>Plus d'info : <a href="https://www.golnetwork.com/game/v
	/73414/">#151</a>\n\n</BODY>\n</HTML>
STATUS:CONFIRMED
CLASS:PUBLIC
URL:https://www.golnetwork.com/game/v/73414/
X-MICROSOFT-CDO-BUSYSTATUS:BUSY
X-MICROSOFT-CDO-IMPORTANCE:1
END:VEVENT
BEGIN:VEVENT
UID:g7f46@games.golnetwork.com
LOCATION:Louis Riel #3
GEO:45.4410208;-75.5715394
CREATED:20150803T232208Z
DTSTART:20150807T013000Z
DTEND:20150807T030000Z
DTSTAMP:20260421T042428Z
SUMMARY:Pas l'temps de niaser vs. FC AA
DESCRIPTION:FC AA vs. Pas l'temps de niaserPlus d'info : #159
X-ALT-DESC;FMTTYPE=text/html:<!DOCTYPE HTML PUBLIC "-//W3C//DTD HTML 3.2//E
	N">\n<HTML>\n<HEAD>\n<TITLE></TITLE>\n</HEAD>\n<BODY>\n<h3>FC AA vs. Pas l'
	temps de niaser</h3>Plus d'info : <a href="https://www.golnetwork.com/game/
	v/73416/">#159</a>\n\n</BODY>\n</HTML>
STATUS:CONFIRMED
CLASS:PUBLIC
URL:https://www.golnetwork.com/game/v/73416/
X-MICROSOFT-CDO-BUSYSTATUS:BUSY
X-MICROSOFT-CDO-IMPORTANCE:1
END:VEVENT
BEGIN:VEVENT
UID:g7f9l@games.golnetwork.com
LOCATION:Louis Riel #2
GEO:45.4410208;-75.5715394
CREATED:20150809T180213Z
DTSTART:20150814T000000Z
DTEND:20150814T013000Z
DTSTAMP:20260421T042428Z
SUMMARY:Spartans vs. FC AA
DESCRIPTION:FC AA vs. SpartansPlus d'info : #171
X-ALT-DESC;FMTTYPE=text/html:<!DOCTYPE HTML PUBLIC "-//W3C//DTD HTML 3.2//E
	N">\n<HTML>\n<HEAD>\n<TITLE></TITLE>\n</HEAD>\n<BODY>\n<h3>FC AA vs. Sparta
	ns</h3>Plus d'info : <a href="https://www.golnetwork.com/game/v/73491/">#17
	1</a>\n\n</BODY>\n</HTML>
STATUS:CONFIRMED
CLASS:PUBLIC
URL:https://www.golnetwork.com/game/v/73491/
X-MICROSOFT-CDO-BUSYSTATUS:BUSY
X-MICROSOFT-CDO-IMPORTANCE:1
END:VEVENT
BEGIN:VEVENT
UID:g7f9j@games.golnetwork.com
LOCATION:Louis Riel #3
GEO:45.4410208;-75.5715394
CREATED:20150809T180155Z
DTSTART:20150814T000000Z
DTEND:20150814T013000Z
DTSTAMP:20260421T042428Z
SUMMARY:Let the Drummer Kick vs. Pas l'temps de niaser
DESCRIPTION:Pas l'temps de niaser vs. Let the Drummer KickPlus d'info : #17
	2
X-ALT-DESC;FMTTYPE=text/html:<!DOCTYPE HTML PUBLIC "-//W3C//DTD HTML 3.2//E
	N">\n<HTML>\n<HEAD>\n<TITLE></TITLE>\n</HEAD>\n<BODY>\n<h3>Pas l'temps de n
	iaser vs. Let the Drummer Kick</h3>Plus d'info : <a href="https://www.golne
	twork.com/game/v/73490/">#172</a>\n\n</BODY>\n</HTML>
STATUS:CONFIRMED
CLASS:PUBLIC
URL:https://www.golnetwork.com/game/v/73490/
X-MICROSOFT-CDO-BUSYSTATUS:BUSY
X-MICROSOFT-CDO-IMPORTANCE:1
END:VEVENT
BEGIN:VEVENT
UID:g7ghg@games.golnetwork.com
LOCATION:McCarthy Park Field #3
GEO:45.3518541;-75.6719009
CREATED:20150817T174937Z
DTSTART:20150820T224500Z
DTEND:20150821T001500Z
DTSTAMP:20260421T042428Z
SUMMARY:Let the Drummer Kick vs. Spartans
DESCRIPTION:Spartans vs. Let the Drummer KickPlus d'info : #181
X-ALT-DESC;FMTTYPE=text/html:<!DOCTYPE HTML PUBLIC "-//W3C//DTD HTML 3.2//E
	N">\n<HTML>\n<HEAD>\n<TITLE></TITLE>\n</HEAD>\n<BODY>\n<h3>Spartans vs. Let
	 the Drummer Kick</h3>Plus d'info : <a href="https://www.golnetwork.com/gam
	e/v/73961/">#181</a>\n\n</BODY>\n</HTML>
STATUS:CONFIRMED
CLASS:PUBLIC
URL:https://www.golnetwork.com/game/v/73961/
X-MICROSOFT-CDO-BUSYSTATUS:BUSY
X-MICROSOFT-CDO-IMPORTANCE:1
END:VEVENT
BEGIN:VEVENT
UID:g7ghk@games.golnetwork.com
LOCATION:Lester B Pearson Field #3
GEO:45.4433016;-75.5957775
CREATED:20150817T175019Z
DTSTART:20150820T224500Z
DTEND:20150821T001500Z
DTSTAMP:20260421T042428Z
SUMMARY:Just For Kicks vs. Cleat Elite
DESCRIPTION:Cleat Elite vs. Just For KicksPlus d'info : #185
X-ALT-DESC;FMTTYPE=text/html:<!DOCTYPE HTML PUBLIC "-//W3C//DTD HTML 3.2//E
	N">\n<HTML>\n<HEAD>\n<TITLE></TITLE>\n</HEAD>\n<BODY>\n<h3>Cleat Elite vs. 
	Just For Kicks</h3>Plus d'info : <a href="https://www.golnetwork.com/game/v
	/73963/">#185</a>\n\n</BODY>\n</HTML>
STATUS:RESCHEDULED
CLASS:PUBLIC
URL:https://www.golnetwork.com/game/v/73963/
X-MICROSOFT-CDO-BUSYSTATUS:BUSY
X-MICROSOFT-CDO-IMPORTANCE:1
END:VEVENT
BEGIN:VEVENT
UID:g7ghe@games.golnetwork.com
LOCATION:Louis Riel #3
GEO:45.4410208;-75.5715394
CREATED:20150817T174914Z
DTSTART:20150821T000000Z
DTEND:20150821T013000Z
DTSTAMP:20260421T042428Z
SUMMARY:Pas l'temps de niaser vs. FC AA
DESCRIPTION:FC AA vs. Pas l'temps de niaserPlus d'info : #188
X-ALT-DESC;FMTTYPE=text/html:<!DOCTYPE HTML PUBLIC "-//W3C//DTD HTML 3.2//E
	N">\n<HTML>\n<HEAD>\n<TITLE></TITLE>\n</HEAD>\n<BODY>\n<h3>FC AA vs. Pas l'
	temps de niaser</h3>Plus d'info : <a href="https://www.golnetwork.com/game/
	v/73960/">#188</a>\n\n</BODY>\n</HTML>
STATUS:CONFIRMED
CLASS:PUBLIC
URL:https://www.golnetwork.com/game/v/73960/
X-MICROSOFT-CDO-BUSYSTATUS:BUSY
X-MICROSOFT-CDO-IMPORTANCE:1
END:VEVENT
BEGIN:VEVENT
UID:g7ghi@games.golnetwork.com
LOCATION:Louis Riel #3
GEO:45.4410208;-75.5715394
CREATED:20150817T175005Z
DTSTART:20150821T013000Z
DTEND:20150821T030000Z
DTSTAMP:20260421T042428Z
SUMMARY:50 Shades of Pink vs. Int Individuals 1
DESCRIPTION:Int Individuals 1 vs. 50 Shades of PinkPlus d'info : #191
X-ALT-DESC;FMTTYPE=text/html:<!DOCTYPE HTML PUBLIC "-//W3C//DTD HTML 3.2//E
	N">\n<HTML>\n<HEAD>\n<TITLE></TITLE>\n</HEAD>\n<BODY>\n<h3>Int Individuals 
	1 vs. 50 Shades of Pink</h3>Plus d'info : <a href="https://www.golnetwork.c
	om/game/v/73962/">#191</a>\n\n</BODY>\n</HTML>
STATUS:CONFIRMED
CLASS:PUBLIC
URL:https://www.golnetwork.com/game/v/73962/
X-MICROSOFT-CDO-BUSYSTATUS:BUSY
X-MICROSOFT-CDO-IMPORTANCE:1
END:VEVENT
BEGIN:VEVENT
UID:g7gn0@games.golnetwork.com
LOCATION:McCarthy Park Field #1
GEO:45.3518541;-75.6719009
CREATED:20150824T142922Z
DTSTART:20150827T223000Z
DTEND:20150828T000000Z
DTSTAMP:20260421T042428Z
SUMMARY:Let the Drummer Kick vs. Spartans
DESCRIPTION:Spartans vs. Let the Drummer KickPlus d'info : #192
X-ALT-DESC;FMTTYPE=text/html:<!DOCTYPE HTML PUBLIC "-//W3C//DTD HTML 3.2//E
	N">\n<HTML>\n<HEAD>\n<TITLE></TITLE>\n</HEAD>\n<BODY>\n<h3>Spartans vs. Let
	 the Drummer Kick</h3>Plus d'info : <a href="https://www.golnetwork.com/gam
	e/v/74034/">#192</a>\n\n</BODY>\n</HTML>
STATUS:CONFIRMED
CLASS:PUBLIC
URL:https://www.golnetwork.com/game/v/74034/
X-MICROSOFT-CDO-BUSYSTATUS:BUSY
X-MICROSOFT-CDO-IMPORTANCE:1
END:VEVENT
BEGIN:VEVENT
UID:g7gn2@games.golnetwork.com
LOCATION:McCarthy Park Field #3
GEO:45.3518541;-75.6719009
CREATED:20150824T142950Z
DTSTART:20150827T223000Z
DTEND:20150828T000000Z
DTSTAMP:20260421T042428Z
SUMMARY:Just For Kicks vs. Cleat Elite
DESCRIPTION:Cleat Elite vs. Just For KicksPlus d'info : #194
X-ALT-DESC;FMTTYPE=text/html:<!DOCTYPE HTML PUBLIC "-//W3C//DTD HTML 3.2//E
	N">\n<HTML>\n<HEAD>\n<TITLE></TITLE>\n</HEAD>\n<BODY>\n<h3>Cleat Elite vs. 
	Just For Kicks</h3>Plus d'info : <a href="https://www.golnetwork.com/game/v
	/74035/">#194</a>\n\n</BODY>\n</HTML>
STATUS:CONFIRMED
CLASS:PUBLIC
URL:https://www.golnetwork.com/game/v/74035/
X-MICROSOFT-CDO-BUSYSTATUS:BUSY
X-MICROSOFT-CDO-IMPORTANCE:1
END:VEVENT
END:VCALENDAR
