BEGIN:VCALENDAR
PRODID:-//gdesolutions.com//MV Framework 1.0.0.1607 Calendar//EN
VERSION:2.0
METHOD:PUBLISH
CALSCALE:GREGORIAN
BEGIN:VEVENT
UID:g7f4q@games.golnetwork.com
LOCATION:Louis Riel #2
GEO:45.4410208;-75.5715394
CREATED:20150803T232709Z
DTSTART:20150806T223000Z
DTEND:20150807T000000Z
DTSTAMP:20260426T034910Z
SUMMARY:50 Shades of Pink vs. Flamingos
DESCRIPTION:Flamingos vs. 50 Shades of PinkPlus d'info : #145
X-ALT-DESC;FMTTYPE=text/html:<!DOCTYPE HTML PUBLIC "-//W3C//DTD HTML 3.2//E
	N">\n<HTML>\n<HEAD>\n<TITLE></TITLE>\n</HEAD>\n<BODY>\n<h3>Flamingos vs. 50
	 Shades of Pink</h3>Plus d'info : <a href="https://www.golnetwork.com/game/
	v/73426/">#145</a>\n\n</BODY>\n</HTML>
STATUS:CONFIRMED
CLASS:PUBLIC
URL:https://www.golnetwork.com/game/v/73426/
X-MICROSOFT-CDO-BUSYSTATUS:BUSY
X-MICROSOFT-CDO-IMPORTANCE:1
END:VEVENT
BEGIN:VEVENT
UID:g7f4o@games.golnetwork.com
LOCATION:McCarthy Park Field #4
GEO:45.3518541;-75.6719009
CREATED:20150803T232642Z
DTSTART:20150806T224500Z
DTEND:20150807T001500Z
DTSTAMP:20260426T034910Z
SUMMARY:Real Ale Madrid vs. Mamonas Miserables
DESCRIPTION:Mamonas Miserables vs. Real Ale MadridPlus d'info : #150
X-ALT-DESC;FMTTYPE=text/html:<!DOCTYPE HTML PUBLIC "-//W3C//DTD HTML 3.2//E
	N">\n<HTML>\n<HEAD>\n<TITLE></TITLE>\n</HEAD>\n<BODY>\n<h3>Mamonas Miserabl
	es vs. Real Ale Madrid</h3>Plus d'info : <a href="https://www.golnetwork.co
	m/game/v/73425/">#150</a>\n\n</BODY>\n</HTML>
STATUS:CONFIRMED
CLASS:PUBLIC
URL:https://www.golnetwork.com/game/v/73425/
X-MICROSOFT-CDO-BUSYSTATUS:BUSY
X-MICROSOFT-CDO-IMPORTANCE:1
END:VEVENT
BEGIN:VEVENT
UID:g7f51@games.golnetwork.com
LOCATION:Louis Riel #2
GEO:45.4410208;-75.5715394
CREATED:20150803T232729Z
DTSTART:20150807T000000Z
DTEND:20150807T013000Z
DTSTAMP:20260426T034910Z
SUMMARY:Just For Kicks vs. Strikers FC
DESCRIPTION:Strikers FC vs. Just For KicksPlus d'info : #156
X-ALT-DESC;FMTTYPE=text/html:<!DOCTYPE HTML PUBLIC "-//W3C//DTD HTML 3.2//E
	N">\n<HTML>\n<HEAD>\n<TITLE></TITLE>\n</HEAD>\n<BODY>\n<h3>Strikers FC vs. 
	Just For Kicks</h3>Plus d'info : <a href="https://www.golnetwork.com/game/v
	/73427/">#156</a>\n\n</BODY>\n</HTML>
STATUS:CONFIRMED
CLASS:PUBLIC
URL:https://www.golnetwork.com/game/v/73427/
X-MICROSOFT-CDO-BUSYSTATUS:BUSY
X-MICROSOFT-CDO-IMPORTANCE:1
END:VEVENT
BEGIN:VEVENT
UID:g7f4m@games.golnetwork.com
LOCATION:Louis Riel #2
GEO:45.4410208;-75.5715394
CREATED:20150803T232618Z
DTSTART:20150807T013000Z
DTEND:20150807T030000Z
DTSTAMP:20260426T034910Z
SUMMARY:Fluorescent Platypuses vs. Junkyard Dogs
DESCRIPTION:Junkyard Dogs vs. Fluorescent PlatypusesPlus d'info : #158
X-ALT-DESC;FMTTYPE=text/html:<!DOCTYPE HTML PUBLIC "-//W3C//DTD HTML 3.2//E
	N">\n<HTML>\n<HEAD>\n<TITLE></TITLE>\n</HEAD>\n<BODY>\n<h3>Junkyard Dogs vs
	. Fluorescent Platypuses</h3>Plus d'info : <a href="https://www.golnetwork.
	com/game/v/73424/">#158</a>\n\n</BODY>\n</HTML>
STATUS:CONFIRMED
CLASS:PUBLIC
URL:https://www.golnetwork.com/game/v/73424/
X-MICROSOFT-CDO-BUSYSTATUS:BUSY
X-MICROSOFT-CDO-IMPORTANCE:1
END:VEVENT
BEGIN:VEVENT
UID:g7f9b@games.golnetwork.com
LOCATION:McCarthy Park Field #3
GEO:45.3518541;-75.6719009
CREATED:20150808T222921Z
DTSTART:20150813T224500Z
DTEND:20150814T001500Z
DTSTAMP:20260426T034910Z
SUMMARY:Strikers FC vs. Mamonas Miserables
DESCRIPTION:Mamonas Miserables vs. Strikers FCPlus d'info : #166
X-ALT-DESC;FMTTYPE=text/html:<!DOCTYPE HTML PUBLIC "-//W3C//DTD HTML 3.2//E
	N">\n<HTML>\n<HEAD>\n<TITLE></TITLE>\n</HEAD>\n<BODY>\n<h3>Mamonas Miserabl
	es vs. Strikers FC</h3>Plus d'info : <a href="https://www.golnetwork.com/ga
	me/v/73486/">#166</a>\n\n</BODY>\n</HTML>
STATUS:CONFIRMED
CLASS:PUBLIC
URL:https://www.golnetwork.com/game/v/73486/
X-MICROSOFT-CDO-BUSYSTATUS:BUSY
X-MICROSOFT-CDO-IMPORTANCE:1
END:VEVENT
BEGIN:VEVENT
UID:g7fa8@games.golnetwork.com
LOCATION:McCarthy Park Field #4
GEO:45.3518541;-75.6719009
CREATED:20150809T180825Z
DTSTART:20150813T224500Z
DTEND:20150814T001500Z
DTSTAMP:20260426T034910Z
SUMMARY:Fluorescent Platypuses vs. 50 Shades of Pink
DESCRIPTION:50 Shades of Pink vs. Fluorescent PlatypusesPlus d'info : #167
X-ALT-DESC;FMTTYPE=text/html:<!DOCTYPE HTML PUBLIC "-//W3C//DTD HTML 3.2//E
	N">\n<HTML>\n<HEAD>\n<TITLE></TITLE>\n</HEAD>\n<BODY>\n<h3>50 Shades of Pin
	k vs. Fluorescent Platypuses</h3>Plus d'info : <a href="https://www.golnetw
	ork.com/game/v/73498/">#167</a>\n\n</BODY>\n</HTML>
STATUS:CONFIRMED
CLASS:PUBLIC
URL:https://www.golnetwork.com/game/v/73498/
X-MICROSOFT-CDO-BUSYSTATUS:BUSY
X-MICROSOFT-CDO-IMPORTANCE:1
END:VEVENT
BEGIN:VEVENT
UID:g7f97@games.golnetwork.com
LOCATION:Louis Riel #1
GEO:45.4410208;-75.5715394
CREATED:20150808T222833Z
DTSTART:20150814T013000Z
DTEND:20150814T030000Z
DTSTAMP:20260426T034910Z
SUMMARY:Real Ale Madrid vs. Just For Kicks
DESCRIPTION:Just For Kicks vs. Real Ale MadridPlus d'info : #173
X-ALT-DESC;FMTTYPE=text/html:<!DOCTYPE HTML PUBLIC "-//W3C//DTD HTML 3.2//E
	N">\n<HTML>\n<HEAD>\n<TITLE></TITLE>\n</HEAD>\n<BODY>\n<h3>Just For Kicks v
	s. Real Ale Madrid</h3>Plus d'info : <a href="https://www.golnetwork.com/ga
	me/v/73484/">#173</a>\n\n</BODY>\n</HTML>
STATUS:CONFIRMED
CLASS:PUBLIC
URL:https://www.golnetwork.com/game/v/73484/
X-MICROSOFT-CDO-BUSYSTATUS:BUSY
X-MICROSOFT-CDO-IMPORTANCE:1
END:VEVENT
BEGIN:VEVENT
UID:g7f99@games.golnetwork.com
LOCATION:Louis Riel #2
GEO:45.4410208;-75.5715394
CREATED:20150808T222854Z
DTSTART:20150814T013000Z
DTEND:20150814T030000Z
DTSTAMP:20260426T034910Z
SUMMARY:Flamingos vs. Junkyard Dogs
DESCRIPTION:Junkyard Dogs vs. FlamingosPlus d'info : #174
X-ALT-DESC;FMTTYPE=text/html:<!DOCTYPE HTML PUBLIC "-//W3C//DTD HTML 3.2//E
	N">\n<HTML>\n<HEAD>\n<TITLE></TITLE>\n</HEAD>\n<BODY>\n<h3>Junkyard Dogs vs
	. Flamingos</h3>Plus d'info : <a href="https://www.golnetwork.com/game/v/73
	485/">#174</a>\n\n</BODY>\n</HTML>
STATUS:CONFIRMED
CLASS:PUBLIC
URL:https://www.golnetwork.com/game/v/73485/
X-MICROSOFT-CDO-BUSYSTATUS:BUSY
X-MICROSOFT-CDO-IMPORTANCE:1
END:VEVENT
BEGIN:VEVENT
UID:g7gho@games.golnetwork.com
LOCATION:Louis Riel #3
GEO:45.4410208;-75.5715394
CREATED:20150817T175208Z
DTSTART:20150820T223000Z
DTEND:20150821T000000Z
DTSTAMP:20260426T034910Z
SUMMARY:Flamingos vs. Strikers FC
DESCRIPTION:Strikers FC vs. FlamingosPlus d'info : #178
X-ALT-DESC;FMTTYPE=text/html:<!DOCTYPE HTML PUBLIC "-//W3C//DTD HTML 3.2//E
	N">\n<HTML>\n<HEAD>\n<TITLE></TITLE>\n</HEAD>\n<BODY>\n<h3>Strikers FC vs. 
	Flamingos</h3>Plus d'info : <a href="https://www.golnetwork.com/game/v/7396
	5/">#178</a>\n\n</BODY>\n</HTML>
STATUS:CONFIRMED
CLASS:PUBLIC
URL:https://www.golnetwork.com/game/v/73965/
X-MICROSOFT-CDO-BUSYSTATUS:BUSY
X-MICROSOFT-CDO-IMPORTANCE:1
END:VEVENT
BEGIN:VEVENT
UID:g7ghq@games.golnetwork.com
LOCATION:McCarthy Park Field #5
GEO:45.3517739;-75.6718247
CREATED:20150817T175239Z
DTSTART:20150820T224500Z
DTEND:20150821T001500Z
DTSTAMP:20260426T034910Z
SUMMARY:Where's Josh vs. Manchesthair United
DESCRIPTION:Manchesthair United vs. Where's JoshPlus d'info : #183
X-ALT-DESC;FMTTYPE=text/html:<!DOCTYPE HTML PUBLIC "-//W3C//DTD HTML 3.2//E
	N">\n<HTML>\n<HEAD>\n<TITLE></TITLE>\n</HEAD>\n<BODY>\n<h3>Manchesthair Uni
	ted vs. Where's Josh</h3>Plus d'info : <a href="https://www.golnetwork.com/
	game/v/73966/">#183</a>\n\n</BODY>\n</HTML>
STATUS:CONFIRMED
CLASS:PUBLIC
URL:https://www.golnetwork.com/game/v/73966/
X-MICROSOFT-CDO-BUSYSTATUS:BUSY
X-MICROSOFT-CDO-IMPORTANCE:1
END:VEVENT
BEGIN:VEVENT
UID:g7ghm@games.golnetwork.com
LOCATION:Louis Riel #2
GEO:45.4410208;-75.5715394
CREATED:20150817T175131Z
DTSTART:20150821T013000Z
DTEND:20150821T030000Z
DTSTAMP:20260426T034910Z
SUMMARY:Mamonas Miserables vs. Junkyard Dogs
DESCRIPTION:Junkyard Dogs vs. Mamonas MiserablesPlus d'info : #190
X-ALT-DESC;FMTTYPE=text/html:<!DOCTYPE HTML PUBLIC "-//W3C//DTD HTML 3.2//E
	N">\n<HTML>\n<HEAD>\n<TITLE></TITLE>\n</HEAD>\n<BODY>\n<h3>Junkyard Dogs vs
	. Mamonas Miserables</h3>Plus d'info : <a href="https://www.golnetwork.com/
	game/v/73964/">#190</a>\n\n</BODY>\n</HTML>
STATUS:CONFIRMED
CLASS:PUBLIC
URL:https://www.golnetwork.com/game/v/73964/
X-MICROSOFT-CDO-BUSYSTATUS:BUSY
X-MICROSOFT-CDO-IMPORTANCE:1
END:VEVENT
END:VCALENDAR
