BEGIN:VCALENDAR
PRODID:-//gdesolutions.com//MV Framework 1.0.0.1607 Calendar//EN
VERSION:2.0
METHOD:PUBLISH
CALSCALE:GREGORIAN
BEGIN:VEVENT
UID:g75cg@games.golnetwork.com
LOCATION:Louis Riel #1
GEO:45.4410208;-75.5715394
CREATED:20150523T091649Z
DTSTART:20150528T223000Z
DTEND:20150529T000000Z
DTSTAMP:20260420T203514Z
SUMMARY:The Kickers vs. The Miseducation
DESCRIPTION:The Miseducation vs. The KickersPlus d'info : #6
X-ALT-DESC;FMTTYPE=text/html:<!DOCTYPE HTML PUBLIC "-//W3C//DTD HTML 3.2//E
	N">\n<HTML>\n<HEAD>\n<TITLE></TITLE>\n</HEAD>\n<BODY>\n<h3>The Miseducation
	 vs. The Kickers</h3>Plus d'info : <a href="https://www.golnetwork.com/game
	/v/69884/">#6</a>\n\n</BODY>\n</HTML>
STATUS:CONFIRMED
CLASS:PUBLIC
URL:https://www.golnetwork.com/game/v/69884/
X-MICROSOFT-CDO-BUSYSTATUS:BUSY
X-MICROSOFT-CDO-IMPORTANCE:1
END:VEVENT
BEGIN:VEVENT
UID:g75c8@games.golnetwork.com
LOCATION:McCarthy Park Field #2
GEO:45.3518541;-75.6719009
CREATED:20150523T091649Z
DTSTART:20150528T224500Z
DTEND:20150529T001500Z
DTSTAMP:20260420T203514Z
SUMMARY:The Yellow Devils vs. Fusion
DESCRIPTION:Fusion vs. The Yellow DevilsPlus d'info : #2
X-ALT-DESC;FMTTYPE=text/html:<!DOCTYPE HTML PUBLIC "-//W3C//DTD HTML 3.2//E
	N">\n<HTML>\n<HEAD>\n<TITLE></TITLE>\n</HEAD>\n<BODY>\n<h3>Fusion vs. The Y
	ellow Devils</h3>Plus d'info : <a href="https://www.golnetwork.com/game/v/6
	9880/">#2</a>\n\n</BODY>\n</HTML>
STATUS:CONFIRMED
CLASS:PUBLIC
URL:https://www.golnetwork.com/game/v/69880/
X-MICROSOFT-CDO-BUSYSTATUS:BUSY
X-MICROSOFT-CDO-IMPORTANCE:1
END:VEVENT
BEGIN:VEVENT
UID:g75cm@games.golnetwork.com
LOCATION:Louis Riel #1
GEO:45.4410208;-75.5715394
CREATED:20150523T091650Z
DTSTART:20150529T000000Z
DTEND:20150529T013000Z
DTSTAMP:20260420T203514Z
SUMMARY:Junkyard Dogs vs. Accountants United
DESCRIPTION:Accountants United vs. Junkyard DogsPlus d'info : #9
X-ALT-DESC;FMTTYPE=text/html:<!DOCTYPE HTML PUBLIC "-//W3C//DTD HTML 3.2//E
	N">\n<HTML>\n<HEAD>\n<TITLE></TITLE>\n</HEAD>\n<BODY>\n<h3>Accountants Unit
	ed vs. Junkyard Dogs</h3>Plus d'info : <a href="https://www.golnetwork.com/
	game/v/69887/">#9</a>\n\n</BODY>\n</HTML>
STATUS:CONFIRMED
CLASS:PUBLIC
URL:https://www.golnetwork.com/game/v/69887/
X-MICROSOFT-CDO-BUSYSTATUS:BUSY
X-MICROSOFT-CDO-IMPORTANCE:1
END:VEVENT
BEGIN:VEVENT
UID:g75d1@games.golnetwork.com
LOCATION:Louis Riel #1
GEO:45.4410208;-75.5715394
CREATED:20150523T091650Z
DTSTART:20150529T013000Z
DTEND:20150529T030000Z
DTSTAMP:20260420T203514Z
SUMMARY:Arsenanal FC vs. JFC
DESCRIPTION:JFC vs. Arsenanal FCPlus d'info : #12
X-ALT-DESC;FMTTYPE=text/html:<!DOCTYPE HTML PUBLIC "-//W3C//DTD HTML 3.2//E
	N">\n<HTML>\n<HEAD>\n<TITLE></TITLE>\n</HEAD>\n<BODY>\n<h3>JFC vs. Arsenana
	l FC</h3>Plus d'info : <a href="https://www.golnetwork.com/game/v/69890/">#
	12</a>\n\n</BODY>\n</HTML>
STATUS:CONFIRMED
CLASS:PUBLIC
URL:https://www.golnetwork.com/game/v/69890/
X-MICROSOFT-CDO-BUSYSTATUS:BUSY
X-MICROSOFT-CDO-IMPORTANCE:1
END:VEVENT
BEGIN:VEVENT
UID:g777j@games.golnetwork.com
LOCATION:Louis Riel #2
GEO:45.4410208;-75.5715394
CREATED:20150529T221254Z
DTSTART:20150604T223000Z
DTEND:20150605T000000Z
DTSTAMP:20260420T203514Z
SUMMARY:TMNT vs. JFC
DESCRIPTION:JFC vs. TMNTPlus d'info : #7
X-ALT-DESC;FMTTYPE=text/html:<!DOCTYPE HTML PUBLIC "-//W3C//DTD HTML 3.2//E
	N">\n<HTML>\n<HEAD>\n<TITLE></TITLE>\n</HEAD>\n<BODY>\n<h3>JFC vs. TMNT</h3
	>Plus d'info : <a href="https://www.golnetwork.com/game/v/70547/">#7</a>\n\
	n</BODY>\n</HTML>
STATUS:CONFIRMED
CLASS:PUBLIC
URL:https://www.golnetwork.com/game/v/70547/
X-MICROSOFT-CDO-BUSYSTATUS:BUSY
X-MICROSOFT-CDO-IMPORTANCE:1
END:VEVENT
BEGIN:VEVENT
UID:g7777@games.golnetwork.com
LOCATION:McCarthy Park Field #1
GEO:45.3518541;-75.6719009
CREATED:20150529T221253Z
DTSTART:20150604T224500Z
DTEND:20150605T001500Z
DTSTAMP:20260420T203514Z
SUMMARY:Fusion vs. The Miseducation
DESCRIPTION:The Miseducation vs. FusionPlus d'info : #1
X-ALT-DESC;FMTTYPE=text/html:<!DOCTYPE HTML PUBLIC "-//W3C//DTD HTML 3.2//E
	N">\n<HTML>\n<HEAD>\n<TITLE></TITLE>\n</HEAD>\n<BODY>\n<h3>The Miseducation
	 vs. Fusion</h3>Plus d'info : <a href="https://www.golnetwork.com/game/v/70
	541/">#1</a>\n\n</BODY>\n</HTML>
STATUS:CONFIRMED
CLASS:PUBLIC
URL:https://www.golnetwork.com/game/v/70541/
X-MICROSOFT-CDO-BUSYSTATUS:BUSY
X-MICROSOFT-CDO-IMPORTANCE:1
END:VEVENT
BEGIN:VEVENT
UID:g777d@games.golnetwork.com
LOCATION:McCarthy Park Field #4
GEO:45.3518541;-75.6719009
CREATED:20150529T221254Z
DTSTART:20150604T224500Z
DTEND:20150605T001500Z
DTSTAMP:20260420T203514Z
SUMMARY:The Yellow Devils vs. Accountants United
DESCRIPTION:Accountants United vs. The Yellow DevilsPlus d'info : #4
X-ALT-DESC;FMTTYPE=text/html:<!DOCTYPE HTML PUBLIC "-//W3C//DTD HTML 3.2//E
	N">\n<HTML>\n<HEAD>\n<TITLE></TITLE>\n</HEAD>\n<BODY>\n<h3>Accountants Unit
	ed vs. The Yellow Devils</h3>Plus d'info : <a href="https://www.golnetwork.
	com/game/v/70544/">#4</a>\n\n</BODY>\n</HTML>
STATUS:CONFIRMED
CLASS:PUBLIC
URL:https://www.golnetwork.com/game/v/70544/
X-MICROSOFT-CDO-BUSYSTATUS:BUSY
X-MICROSOFT-CDO-IMPORTANCE:1
END:VEVENT
BEGIN:VEVENT
UID:g777n@games.golnetwork.com
LOCATION:Louis Riel #1
GEO:45.4410208;-75.5715394
CREATED:20150529T221255Z
DTSTART:20150605T000000Z
DTEND:20150605T013000Z
DTSTAMP:20260420T203514Z
SUMMARY:The Kickers vs. Junkyard Dogs
DESCRIPTION:Junkyard Dogs vs. The KickersPlus d'info : #9
X-ALT-DESC;FMTTYPE=text/html:<!DOCTYPE HTML PUBLIC "-//W3C//DTD HTML 3.2//E
	N">\n<HTML>\n<HEAD>\n<TITLE></TITLE>\n</HEAD>\n<BODY>\n<h3>Junkyard Dogs vs
	. The Kickers</h3>Plus d'info : <a href="https://www.golnetwork.com/game/v/
	70549/">#9</a>\n\n</BODY>\n</HTML>
STATUS:CONFIRMED
CLASS:PUBLIC
URL:https://www.golnetwork.com/game/v/70549/
X-MICROSOFT-CDO-BUSYSTATUS:BUSY
X-MICROSOFT-CDO-IMPORTANCE:1
END:VEVENT
BEGIN:VEVENT
UID:g77jh@games.golnetwork.com
LOCATION:McCarthy Park Field #3
GEO:45.3518541;-75.6719009
CREATED:20150608T174040Z
DTSTART:20150611T224500Z
DTEND:20150612T001500Z
DTSTAMP:20260420T203514Z
SUMMARY:Manchesthair United vs. The Yellow Devils
DESCRIPTION:The Yellow Devils vs. Manchesthair UnitedPlus d'info : #36
X-ALT-DESC;FMTTYPE=text/html:<!DOCTYPE HTML PUBLIC "-//W3C//DTD HTML 3.2//E
	N">\n<HTML>\n<HEAD>\n<TITLE></TITLE>\n</HEAD>\n<BODY>\n<h3>The Yellow Devil
	s vs. Manchesthair United</h3>Plus d'info : <a href="https://www.golnetwork
	.com/game/v/70708/">#36</a>\n\n</BODY>\n</HTML>
STATUS:CONFIRMED
CLASS:PUBLIC
URL:https://www.golnetwork.com/game/v/70708/
X-MICROSOFT-CDO-BUSYSTATUS:BUSY
X-MICROSOFT-CDO-IMPORTANCE:1
END:VEVENT
BEGIN:VEVENT
UID:g7799@games.golnetwork.com
LOCATION:Lester B. Pearson Field 1
GEO:45.4429892;-75.5963901
CREATED:20150530T191930Z
DTSTART:20150611T224500Z
DTEND:20150612T001500Z
DTSTAMP:20260420T203514Z
SUMMARY:Fusion vs. TMNT
DESCRIPTION:TMNT vs. FusionPlus d'info : #15
X-ALT-DESC;FMTTYPE=text/html:<!DOCTYPE HTML PUBLIC "-//W3C//DTD HTML 3.2//E
	N">\n<HTML>\n<HEAD>\n<TITLE></TITLE>\n</HEAD>\n<BODY>\n<h3>TMNT vs. Fusion<
	/h3>Plus d'info : <a href="https://www.golnetwork.com/game/v/70569/">#15</a
	>\n\n</BODY>\n</HTML>
STATUS:CONFIRMED
CLASS:PUBLIC
URL:https://www.golnetwork.com/game/v/70569/
X-MICROSOFT-CDO-BUSYSTATUS:BUSY
X-MICROSOFT-CDO-IMPORTANCE:1
END:VEVENT
BEGIN:VEVENT
UID:g77nj@games.golnetwork.com
LOCATION:Louis Riel #1
GEO:45.4410208;-75.5715394
CREATED:20150609T164043Z
DTSTART:20150612T000000Z
DTEND:20150612T013000Z
DTSTAMP:20260420T203514Z
SUMMARY:Just For Kicks vs. JFC
DESCRIPTION:JFC vs. Just For KicksPlus d'info : #41
X-ALT-DESC;FMTTYPE=text/html:<!DOCTYPE HTML PUBLIC "-//W3C//DTD HTML 3.2//E
	N">\n<HTML>\n<HEAD>\n<TITLE></TITLE>\n</HEAD>\n<BODY>\n<h3>JFC vs. Just For
	 Kicks</h3>Plus d'info : <a href="https://www.golnetwork.com/game/v/70763/"
	>#41</a>\n\n</BODY>\n</HTML>
STATUS:CONFIRMED
CLASS:PUBLIC
URL:https://www.golnetwork.com/game/v/70763/
X-MICROSOFT-CDO-BUSYSTATUS:BUSY
X-MICROSOFT-CDO-IMPORTANCE:1
END:VEVENT
BEGIN:VEVENT
UID:g779f@games.golnetwork.com
LOCATION:McCarthy Park Field #2
GEO:45.3518541;-75.6719009
CREATED:20150530T191930Z
DTSTART:20150618T224500Z
DTEND:20150619T001500Z
DTSTAMP:20260420T203514Z
SUMMARY:The Yellow Devils vs. The Miseducation
DESCRIPTION:The Miseducation vs. The Yellow DevilsPlus d'info : #18
X-ALT-DESC;FMTTYPE=text/html:<!DOCTYPE HTML PUBLIC "-//W3C//DTD HTML 3.2//E
	N">\n<HTML>\n<HEAD>\n<TITLE></TITLE>\n</HEAD>\n<BODY>\n<h3>The Miseducation
	 vs. The Yellow Devils</h3>Plus d'info : <a href="https://www.golnetwork.co
	m/game/v/70572/">#18</a>\n\n</BODY>\n</HTML>
STATUS:CONFIRMED
CLASS:PUBLIC
URL:https://www.golnetwork.com/game/v/70572/
X-MICROSOFT-CDO-BUSYSTATUS:BUSY
X-MICROSOFT-CDO-IMPORTANCE:1
END:VEVENT
BEGIN:VEVENT
UID:g779l@games.golnetwork.com
LOCATION:McCarthy Park Field #5
GEO:45.3517739;-75.6718247
CREATED:20150530T191930Z
DTSTART:20150618T224500Z
DTEND:20150619T001500Z
DTSTAMP:20260420T203514Z
SUMMARY:Accountants United vs. Fusion
DESCRIPTION:Fusion vs. Accountants UnitedPlus d'info : #21
X-ALT-DESC;FMTTYPE=text/html:<!DOCTYPE HTML PUBLIC "-//W3C//DTD HTML 3.2//E
	N">\n<HTML>\n<HEAD>\n<TITLE></TITLE>\n</HEAD>\n<BODY>\n<h3>Fusion vs. Accou
	ntants United</h3>Plus d'info : <a href="https://www.golnetwork.com/game/v/
	70575/">#21</a>\n\n</BODY>\n</HTML>
STATUS:CONFIRMED
CLASS:PUBLIC
URL:https://www.golnetwork.com/game/v/70575/
X-MICROSOFT-CDO-BUSYSTATUS:BUSY
X-MICROSOFT-CDO-IMPORTANCE:1
END:VEVENT
BEGIN:VEVENT
UID:g779n@games.golnetwork.com
LOCATION:Louis Riel #1
GEO:45.4410208;-75.5715394
CREATED:20150530T191930Z
DTSTART:20150619T000000Z
DTEND:20150619T013000Z
DTSTAMP:20260420T203514Z
SUMMARY:JFC vs. Junkyard Dogs
DESCRIPTION:Junkyard Dogs vs. JFCPlus d'info : #22
X-ALT-DESC;FMTTYPE=text/html:<!DOCTYPE HTML PUBLIC "-//W3C//DTD HTML 3.2//E
	N">\n<HTML>\n<HEAD>\n<TITLE></TITLE>\n</HEAD>\n<BODY>\n<h3>Junkyard Dogs vs
	. JFC</h3>Plus d'info : <a href="https://www.golnetwork.com/game/v/70576/">
	#22</a>\n\n</BODY>\n</HTML>
STATUS:CONFIRMED
CLASS:PUBLIC
URL:https://www.golnetwork.com/game/v/70576/
X-MICROSOFT-CDO-BUSYSTATUS:BUSY
X-MICROSOFT-CDO-IMPORTANCE:1
END:VEVENT
BEGIN:VEVENT
UID:g77aa@games.golnetwork.com
LOCATION:Louis Riel #2
GEO:45.4410208;-75.5715394
CREATED:20150530T191931Z
DTSTART:20150619T013000Z
DTEND:20150619T030000Z
DTSTAMP:20260420T203514Z
SUMMARY:The Kickers vs. TMNT
DESCRIPTION:TMNT vs. The KickersPlus d'info : #29
X-ALT-DESC;FMTTYPE=text/html:<!DOCTYPE HTML PUBLIC "-//W3C//DTD HTML 3.2//E
	N">\n<HTML>\n<HEAD>\n<TITLE></TITLE>\n</HEAD>\n<BODY>\n<h3>TMNT vs. The Kic
	kers</h3>Plus d'info : <a href="https://www.golnetwork.com/game/v/70583/">#
	29</a>\n\n</BODY>\n</HTML>
STATUS:CONFIRMED
CLASS:PUBLIC
URL:https://www.golnetwork.com/game/v/70583/
X-MICROSOFT-CDO-BUSYSTATUS:BUSY
X-MICROSOFT-CDO-IMPORTANCE:1
END:VEVENT
BEGIN:VEVENT
UID:g78mb@games.golnetwork.com
LOCATION:Louis Riel #1
GEO:45.4410208;-75.5715394
CREATED:20150622T201104Z
DTSTART:20150625T223000Z
DTEND:20150626T000000Z
DTSTAMP:20260420T203514Z
SUMMARY:JFC vs. The Kickers
DESCRIPTION:The Kickers vs. JFCPlus d'info : #6
X-ALT-DESC;FMTTYPE=text/html:<!DOCTYPE HTML PUBLIC "-//W3C//DTD HTML 3.2//E
	N">\n<HTML>\n<HEAD>\n<TITLE></TITLE>\n</HEAD>\n<BODY>\n<h3>The Kickers vs. 
	JFC</h3>Plus d'info : <a href="https://www.golnetwork.com/game/v/71110/">#6
	</a>\n\n</BODY>\n</HTML>
STATUS:CONFIRMED
CLASS:PUBLIC
URL:https://www.golnetwork.com/game/v/71110/
X-MICROSOFT-CDO-BUSYSTATUS:BUSY
X-MICROSOFT-CDO-IMPORTANCE:1
END:VEVENT
BEGIN:VEVENT
UID:g78m7@games.golnetwork.com
LOCATION:McCarthy Park Field #4
GEO:45.3518541;-75.6719009
CREATED:20150622T201104Z
DTSTART:20150625T224500Z
DTEND:20150626T001500Z
DTSTAMP:20260420T203514Z
SUMMARY:Fusion vs. Where's Josh
DESCRIPTION:Where's Josh vs. FusionPlus d'info : #4
X-ALT-DESC;FMTTYPE=text/html:<!DOCTYPE HTML PUBLIC "-//W3C//DTD HTML 3.2//E
	N">\n<HTML>\n<HEAD>\n<TITLE></TITLE>\n</HEAD>\n<BODY>\n<h3>Where's Josh vs.
	 Fusion</h3>Plus d'info : <a href="https://www.golnetwork.com/game/v/71108/
	">#4</a>\n\n</BODY>\n</HTML>
STATUS:CONFIRMED
CLASS:PUBLIC
URL:https://www.golnetwork.com/game/v/71108/
X-MICROSOFT-CDO-BUSYSTATUS:BUSY
X-MICROSOFT-CDO-IMPORTANCE:1
END:VEVENT
BEGIN:VEVENT
UID:g78n2@games.golnetwork.com
LOCATION:Lester B. Pearson Field 1
GEO:45.4429892;-75.5963901
CREATED:20150622T201105Z
DTSTART:20150625T224500Z
DTEND:20150626T001500Z
DTSTAMP:20260420T203514Z
SUMMARY:Foot Loose FC vs. Accountants United
DESCRIPTION:Accountants United vs. Foot Loose FCPlus d'info : #16
X-ALT-DESC;FMTTYPE=text/html:<!DOCTYPE HTML PUBLIC "-//W3C//DTD HTML 3.2//E
	N">\n<HTML>\n<HEAD>\n<TITLE></TITLE>\n</HEAD>\n<BODY>\n<h3>Accountants Unit
	ed vs. Foot Loose FC</h3>Plus d'info : <a href="https://www.golnetwork.com/
	game/v/71119/">#16</a>\n\n</BODY>\n</HTML>
STATUS:CONFIRMED
CLASS:PUBLIC
URL:https://www.golnetwork.com/game/v/71119/
X-MICROSOFT-CDO-BUSYSTATUS:BUSY
X-MICROSOFT-CDO-IMPORTANCE:1
END:VEVENT
BEGIN:VEVENT
UID:g78mh@games.golnetwork.com
LOCATION:Louis Riel #1
GEO:45.4410208;-75.5715394
CREATED:20150622T201104Z
DTSTART:20150626T000000Z
DTEND:20150626T013000Z
DTSTAMP:20260420T203514Z
SUMMARY:The Miseducation vs. TMNT
DESCRIPTION:TMNT vs. The MiseducationPlus d'info : #9
X-ALT-DESC;FMTTYPE=text/html:<!DOCTYPE HTML PUBLIC "-//W3C//DTD HTML 3.2//E
	N">\n<HTML>\n<HEAD>\n<TITLE></TITLE>\n</HEAD>\n<BODY>\n<h3>TMNT vs. The Mis
	education</h3>Plus d'info : <a href="https://www.golnetwork.com/game/v/7111
	3/">#9</a>\n\n</BODY>\n</HTML>
STATUS:CONFIRMED
CLASS:PUBLIC
URL:https://www.golnetwork.com/game/v/71113/
X-MICROSOFT-CDO-BUSYSTATUS:BUSY
X-MICROSOFT-CDO-IMPORTANCE:1
END:VEVENT
BEGIN:VEVENT
UID:g78mj@games.golnetwork.com
LOCATION:Louis Riel #2
GEO:45.4410208;-75.5715394
CREATED:20150622T201104Z
DTSTART:20150626T000000Z
DTEND:20150626T013000Z
DTSTAMP:20260420T203514Z
SUMMARY:The Yellow Devils vs. Picante Pelotas
DESCRIPTION:Picante Pelotas vs. The Yellow DevilsPlus d'info : #10
X-ALT-DESC;FMTTYPE=text/html:<!DOCTYPE HTML PUBLIC "-//W3C//DTD HTML 3.2//E
	N">\n<HTML>\n<HEAD>\n<TITLE></TITLE>\n</HEAD>\n<BODY>\n<h3>Picante Pelotas 
	vs. The Yellow Devils</h3>Plus d'info : <a href="https://www.golnetwork.com
	/game/v/71114/">#10</a>\n\n</BODY>\n</HTML>
STATUS:CONFIRMED
CLASS:PUBLIC
URL:https://www.golnetwork.com/game/v/71114/
X-MICROSOFT-CDO-BUSYSTATUS:BUSY
X-MICROSOFT-CDO-IMPORTANCE:1
END:VEVENT
BEGIN:VEVENT
UID:g78o1@games.golnetwork.com
LOCATION:Louis Riel #1
GEO:45.4410208;-75.5715394
CREATED:20150622T201106Z
DTSTART:20150702T223000Z
DTEND:20150703T000000Z
DTSTAMP:20260420T203514Z
SUMMARY:The Kickers vs. Where's Josh
DESCRIPTION:Where's Josh vs. The KickersPlus d'info : #29
X-ALT-DESC;FMTTYPE=text/html:<!DOCTYPE HTML PUBLIC "-//W3C//DTD HTML 3.2//E
	N">\n<HTML>\n<HEAD>\n<TITLE></TITLE>\n</HEAD>\n<BODY>\n<h3>Where's Josh vs.
	 The Kickers</h3>Plus d'info : <a href="https://www.golnetwork.com/game/v/7
	1132/">#29</a>\n\n</BODY>\n</HTML>
STATUS:CONFIRMED
CLASS:PUBLIC
URL:https://www.golnetwork.com/game/v/71132/
X-MICROSOFT-CDO-BUSYSTATUS:BUSY
X-MICROSOFT-CDO-IMPORTANCE:1
END:VEVENT
BEGIN:VEVENT
UID:g78nc@games.golnetwork.com
LOCATION:McCarthy Park Field #4
GEO:45.3518541;-75.6719009
CREATED:20150622T201106Z
DTSTART:20150702T224500Z
DTEND:20150703T001500Z
DTSTAMP:20260420T203514Z
SUMMARY:The Miseducation vs. Picante Pelotas
DESCRIPTION:Picante Pelotas vs. The MiseducationPlus d'info : #21
X-ALT-DESC;FMTTYPE=text/html:<!DOCTYPE HTML PUBLIC "-//W3C//DTD HTML 3.2//E
	N">\n<HTML>\n<HEAD>\n<TITLE></TITLE>\n</HEAD>\n<BODY>\n<h3>Picante Pelotas 
	vs. The Miseducation</h3>Plus d'info : <a href="https://www.golnetwork.com/
	game/v/71124/">#21</a>\n\n</BODY>\n</HTML>
STATUS:CONFIRMED
CLASS:PUBLIC
URL:https://www.golnetwork.com/game/v/71124/
X-MICROSOFT-CDO-BUSYSTATUS:BUSY
X-MICROSOFT-CDO-IMPORTANCE:1
END:VEVENT
BEGIN:VEVENT
UID:g78o7@games.golnetwork.com
LOCATION:Lester B. Pearson Field 1
GEO:45.4429892;-75.5963901
CREATED:20150622T201107Z
DTSTART:20150702T224500Z
DTEND:20150703T001500Z
DTSTAMP:20260420T203514Z
SUMMARY:Accountants United vs. TMNT
DESCRIPTION:TMNT vs. Accountants UnitedPlus d'info : #32
X-ALT-DESC;FMTTYPE=text/html:<!DOCTYPE HTML PUBLIC "-//W3C//DTD HTML 3.2//E
	N">\n<HTML>\n<HEAD>\n<TITLE></TITLE>\n</HEAD>\n<BODY>\n<h3>TMNT vs. Account
	ants United</h3>Plus d'info : <a href="https://www.golnetwork.com/game/v/71
	135/">#32</a>\n\n</BODY>\n</HTML>
STATUS:CONFIRMED
CLASS:PUBLIC
URL:https://www.golnetwork.com/game/v/71135/
X-MICROSOFT-CDO-BUSYSTATUS:BUSY
X-MICROSOFT-CDO-IMPORTANCE:1
END:VEVENT
BEGIN:VEVENT
UID:g78no@games.golnetwork.com
LOCATION:Louis Riel #2
GEO:45.4410208;-75.5715394
CREATED:20150622T201106Z
DTSTART:20150703T000000Z
DTEND:20150703T013000Z
DTSTAMP:20260420T203514Z
SUMMARY:Just For Kicks vs. Fusion
DESCRIPTION:Fusion vs. Just For KicksPlus d'info : #27
X-ALT-DESC;FMTTYPE=text/html:<!DOCTYPE HTML PUBLIC "-//W3C//DTD HTML 3.2//E
	N">\n<HTML>\n<HEAD>\n<TITLE></TITLE>\n</HEAD>\n<BODY>\n<h3>Fusion vs. Just 
	For Kicks</h3>Plus d'info : <a href="https://www.golnetwork.com/game/v/7113
	0/">#27</a>\n\n</BODY>\n</HTML>
STATUS:CONFIRMED
CLASS:PUBLIC
URL:https://www.golnetwork.com/game/v/71130/
X-MICROSOFT-CDO-BUSYSTATUS:BUSY
X-MICROSOFT-CDO-IMPORTANCE:1
END:VEVENT
BEGIN:VEVENT
UID:g78ng@games.golnetwork.com
LOCATION:Louis Riel #1
GEO:45.4410208;-75.5715394
CREATED:20150622T201106Z
DTSTART:20150703T013000Z
DTEND:20150703T030000Z
DTSTAMP:20260420T203514Z
SUMMARY:JFC vs. The Yellow Devils
DESCRIPTION:The Yellow Devils vs. JFCPlus d'info : #23
X-ALT-DESC;FMTTYPE=text/html:<!DOCTYPE HTML PUBLIC "-//W3C//DTD HTML 3.2//E
	N">\n<HTML>\n<HEAD>\n<TITLE></TITLE>\n</HEAD>\n<BODY>\n<h3>The Yellow Devil
	s vs. JFC</h3>Plus d'info : <a href="https://www.golnetwork.com/game/v/7112
	6/">#23</a>\n\n</BODY>\n</HTML>
STATUS:CONFIRMED
CLASS:PUBLIC
URL:https://www.golnetwork.com/game/v/71126/
X-MICROSOFT-CDO-BUSYSTATUS:BUSY
X-MICROSOFT-CDO-IMPORTANCE:1
END:VEVENT
BEGIN:VEVENT
UID:g7b1j@games.golnetwork.com
LOCATION:Louis Riel #2
GEO:45.4410208;-75.5715394
CREATED:20150708T053754Z
DTSTART:20150709T223000Z
DTEND:20150710T000000Z
DTSTAMP:20260420T203514Z
SUMMARY:Where's Josh vs. Picante Pelotas
DESCRIPTION:Picante Pelotas vs. Where's JoshPlus d'info : #95
X-ALT-DESC;FMTTYPE=text/html:<!DOCTYPE HTML PUBLIC "-//W3C//DTD HTML 3.2//E
	N">\n<HTML>\n<HEAD>\n<TITLE></TITLE>\n</HEAD>\n<BODY>\n<h3>Picante Pelotas 
	vs. Where's Josh</h3>Plus d'info : <a href="https://www.golnetwork.com/game
	/v/71924/">#95</a>\n\n</BODY>\n</HTML>
STATUS:CONFIRMED
CLASS:PUBLIC
URL:https://www.golnetwork.com/game/v/71924/
X-MICROSOFT-CDO-BUSYSTATUS:BUSY
X-MICROSOFT-CDO-IMPORTANCE:1
END:VEVENT
BEGIN:VEVENT
UID:g7ahc@games.golnetwork.com
LOCATION:Lester B. Pearson Field 1
GEO:45.4429892;-75.5963901
CREATED:20150707T063051Z
DTSTART:20150709T224500Z
DTEND:20150710T001500Z
DTSTAMP:20260420T203514Z
SUMMARY:TMNT vs. The Yellow Devils
DESCRIPTION:The Yellow Devils vs. TMNTPlus d'info : #16
X-ALT-DESC;FMTTYPE=text/html:<!DOCTYPE HTML PUBLIC "-//W3C//DTD HTML 3.2//E
	N">\n<HTML>\n<HEAD>\n<TITLE></TITLE>\n</HEAD>\n<BODY>\n<h3>The Yellow Devil
	s vs. TMNT</h3>Plus d'info : <a href="https://www.golnetwork.com/game/v/717
	72/">#16</a>\n\n</BODY>\n</HTML>
STATUS:CONFIRMED
CLASS:PUBLIC
URL:https://www.golnetwork.com/game/v/71772/
X-MICROSOFT-CDO-BUSYSTATUS:BUSY
X-MICROSOFT-CDO-IMPORTANCE:1
END:VEVENT
BEGIN:VEVENT
UID:g7ah0@games.golnetwork.com
LOCATION:Louis Riel #1
GEO:45.4410208;-75.5715394
CREATED:20150707T063049Z
DTSTART:20150710T000000Z
DTEND:20150710T013000Z
DTSTAMP:20260420T203514Z
SUMMARY:JFC vs. The Miseducation
DESCRIPTION:The Miseducation vs. JFCPlus d'info : #9
X-ALT-DESC;FMTTYPE=text/html:<!DOCTYPE HTML PUBLIC "-//W3C//DTD HTML 3.2//E
	N">\n<HTML>\n<HEAD>\n<TITLE></TITLE>\n</HEAD>\n<BODY>\n<h3>The Miseducation
	 vs. JFC</h3>Plus d'info : <a href="https://www.golnetwork.com/game/v/71766
	/">#9</a>\n\n</BODY>\n</HTML>
STATUS:CONFIRMED
CLASS:PUBLIC
URL:https://www.golnetwork.com/game/v/71766/
X-MICROSOFT-CDO-BUSYSTATUS:BUSY
X-MICROSOFT-CDO-IMPORTANCE:1
END:VEVENT
BEGIN:VEVENT
UID:g7b1l@games.golnetwork.com
LOCATION:Louis Riel #3
GEO:45.4410208;-75.5715394
CREATED:20150708T053816Z
DTSTART:20150710T000000Z
DTEND:20150710T013000Z
DTSTAMP:20260420T203514Z
SUMMARY:Just For Kicks vs. Accountants United
DESCRIPTION:Accountants United vs. Just For KicksPlus d'info : #105
X-ALT-DESC;FMTTYPE=text/html:<!DOCTYPE HTML PUBLIC "-//W3C//DTD HTML 3.2//E
	N">\n<HTML>\n<HEAD>\n<TITLE></TITLE>\n</HEAD>\n<BODY>\n<h3>Accountants Unit
	ed vs. Just For Kicks</h3>Plus d'info : <a href="https://www.golnetwork.com
	/game/v/71925/">#105</a>\n\n</BODY>\n</HTML>
STATUS:CONFIRMED
CLASS:PUBLIC
URL:https://www.golnetwork.com/game/v/71925/
X-MICROSOFT-CDO-BUSYSTATUS:BUSY
X-MICROSOFT-CDO-IMPORTANCE:1
END:VEVENT
BEGIN:VEVENT
UID:g7ah6@games.golnetwork.com
LOCATION:Louis Riel #2
GEO:45.4410208;-75.5715394
CREATED:20150707T063050Z
DTSTART:20150710T013000Z
DTEND:20150710T030000Z
DTSTAMP:20260420T203514Z
SUMMARY:The Kickers vs. Fusion
DESCRIPTION:Fusion vs. The KickersPlus d'info : #12
X-ALT-DESC;FMTTYPE=text/html:<!DOCTYPE HTML PUBLIC "-//W3C//DTD HTML 3.2//E
	N">\n<HTML>\n<HEAD>\n<TITLE></TITLE>\n</HEAD>\n<BODY>\n<h3>Fusion vs. The K
	ickers</h3>Plus d'info : <a href="https://www.golnetwork.com/game/v/71769/"
	>#12</a>\n\n</BODY>\n</HTML>
STATUS:CONFIRMED
CLASS:PUBLIC
URL:https://www.golnetwork.com/game/v/71769/
X-MICROSOFT-CDO-BUSYSTATUS:BUSY
X-MICROSOFT-CDO-IMPORTANCE:1
END:VEVENT
BEGIN:VEVENT
UID:g7b1n@games.golnetwork.com
LOCATION:McCarthy Park Field #1
GEO:45.3518541;-75.6719009
CREATED:20150708T153123Z
DTSTART:20150716T224500Z
DTEND:20150717T001500Z
DTSTAMP:20260420T203514Z
SUMMARY:Accountants United vs. The Miseducation
DESCRIPTION:The Miseducation vs. Accountants UnitedPlus d'info : #1
X-ALT-DESC;FMTTYPE=text/html:<!DOCTYPE HTML PUBLIC "-//W3C//DTD HTML 3.2//E
	N">\n<HTML>\n<HEAD>\n<TITLE></TITLE>\n</HEAD>\n<BODY>\n<h3>The Miseducation
	 vs. Accountants United</h3>Plus d'info : <a href="https://www.golnetwork.c
	om/game/v/71926/">#1</a>\n\n</BODY>\n</HTML>
STATUS:CONFIRMED
CLASS:PUBLIC
URL:https://www.golnetwork.com/game/v/71926/
X-MICROSOFT-CDO-BUSYSTATUS:BUSY
X-MICROSOFT-CDO-IMPORTANCE:1
END:VEVENT
BEGIN:VEVENT
UID:g7b24@games.golnetwork.com
LOCATION:McCarthy Park Field #5
GEO:45.3517739;-75.6718247
CREATED:20150708T153123Z
DTSTART:20150716T224500Z
DTEND:20150717T001500Z
DTSTAMP:20260420T203514Z
SUMMARY:Where's Josh vs. The Yellow Devils
DESCRIPTION:The Yellow Devils vs. Where's JoshPlus d'info : #5
X-ALT-DESC;FMTTYPE=text/html:<!DOCTYPE HTML PUBLIC "-//W3C//DTD HTML 3.2//E
	N">\n<HTML>\n<HEAD>\n<TITLE></TITLE>\n</HEAD>\n<BODY>\n<h3>The Yellow Devil
	s vs. Where's Josh</h3>Plus d'info : <a href="https://www.golnetwork.com/ga
	me/v/71930/">#5</a>\n\n</BODY>\n</HTML>
STATUS:CONFIRMED
CLASS:PUBLIC
URL:https://www.golnetwork.com/game/v/71930/
X-MICROSOFT-CDO-BUSYSTATUS:BUSY
X-MICROSOFT-CDO-IMPORTANCE:1
END:VEVENT
BEGIN:VEVENT
UID:g7b2o@games.golnetwork.com
LOCATION:Lester B. Pearson Field 1
GEO:45.4429892;-75.5963901
CREATED:20150708T153125Z
DTSTART:20150716T224500Z
DTEND:20150717T001500Z
DTSTAMP:20260420T203514Z
SUMMARY:Picante Pelotas vs. TMNT
DESCRIPTION:TMNT vs. Picante PelotasPlus d'info : #16
X-ALT-DESC;FMTTYPE=text/html:<!DOCTYPE HTML PUBLIC "-//W3C//DTD HTML 3.2//E
	N">\n<HTML>\n<HEAD>\n<TITLE></TITLE>\n</HEAD>\n<BODY>\n<h3>TMNT vs. Picante
	 Pelotas</h3>Plus d'info : <a href="https://www.golnetwork.com/game/v/71940
	/">#16</a>\n\n</BODY>\n</HTML>
STATUS:CONFIRMED
CLASS:PUBLIC
URL:https://www.golnetwork.com/game/v/71940/
X-MICROSOFT-CDO-BUSYSTATUS:BUSY
X-MICROSOFT-CDO-IMPORTANCE:1
END:VEVENT
BEGIN:VEVENT
UID:g7b2q@games.golnetwork.com
LOCATION:Lester B Pearson Field 2
GEO:45.4429892;-75.5963901
CREATED:20150708T153125Z
DTSTART:20150716T224500Z
DTEND:20150717T001500Z
DTSTAMP:20260420T203514Z
SUMMARY:JFC vs. Fusion
DESCRIPTION:Fusion vs. JFCPlus d'info : #17
X-ALT-DESC;FMTTYPE=text/html:<!DOCTYPE HTML PUBLIC "-//W3C//DTD HTML 3.2//E
	N">\n<HTML>\n<HEAD>\n<TITLE></TITLE>\n</HEAD>\n<BODY>\n<h3>Fusion vs. JFC</
	h3>Plus d'info : <a href="https://www.golnetwork.com/game/v/71941/">#17</a>
	\n\n</BODY>\n</HTML>
STATUS:CONFIRMED
CLASS:PUBLIC
URL:https://www.golnetwork.com/game/v/71941/
X-MICROSOFT-CDO-BUSYSTATUS:BUSY
X-MICROSOFT-CDO-IMPORTANCE:1
END:VEVENT
BEGIN:VEVENT
UID:g7dpp@games.golnetwork.com
LOCATION:Louis Riel #2
GEO:45.4410208;-75.5715394
CREATED:20150715T182251Z
DTSTART:20150723T223000Z
DTEND:20150724T000000Z
DTSTAMP:20260420T203514Z
SUMMARY:The Yellow Devils vs. The Kickers
DESCRIPTION:The Kickers vs. The Yellow DevilsPlus d'info : #7
X-ALT-DESC;FMTTYPE=text/html:<!DOCTYPE HTML PUBLIC "-//W3C//DTD HTML 3.2//E
	N">\n<HTML>\n<HEAD>\n<TITLE></TITLE>\n</HEAD>\n<BODY>\n<h3>The Kickers vs. 
	The Yellow Devils</h3>Plus d'info : <a href="https://www.golnetwork.com/gam
	e/v/72980/">#7</a>\n\n</BODY>\n</HTML>
STATUS:CONFIRMED
CLASS:PUBLIC
URL:https://www.golnetwork.com/game/v/72980/
X-MICROSOFT-CDO-BUSYSTATUS:BUSY
X-MICROSOFT-CDO-IMPORTANCE:1
END:VEVENT
BEGIN:VEVENT
UID:g7dpf@games.golnetwork.com
LOCATION:McCarthy Park Field #2
GEO:45.3518541;-75.6719009
CREATED:20150715T182250Z
DTSTART:20150723T224500Z
DTEND:20150724T001500Z
DTSTAMP:20260420T203514Z
SUMMARY:One Kick Wonders FC vs. Accountants United
DESCRIPTION:Accountants United vs. One Kick Wonders FCPlus d'info : #2
X-ALT-DESC;FMTTYPE=text/html:<!DOCTYPE HTML PUBLIC "-//W3C//DTD HTML 3.2//E
	N">\n<HTML>\n<HEAD>\n<TITLE></TITLE>\n</HEAD>\n<BODY>\n<h3>Accountants Unit
	ed vs. One Kick Wonders FC</h3>Plus d'info : <a href="https://www.golnetwor
	k.com/game/v/72975/">#2</a>\n\n</BODY>\n</HTML>
STATUS:CONFIRMED
CLASS:PUBLIC
URL:https://www.golnetwork.com/game/v/72975/
X-MICROSOFT-CDO-BUSYSTATUS:BUSY
X-MICROSOFT-CDO-IMPORTANCE:1
END:VEVENT
BEGIN:VEVENT
UID:g7dpj@games.golnetwork.com
LOCATION:McCarthy Park Field #4
GEO:45.3518541;-75.6719009
CREATED:20150715T182250Z
DTSTART:20150723T224500Z
DTEND:20150724T001500Z
DTSTAMP:20260420T203514Z
SUMMARY:Fusion vs. Fluorescent Platypuses
DESCRIPTION:Fluorescent Platypuses vs. FusionPlus d'info : #4
X-ALT-DESC;FMTTYPE=text/html:<!DOCTYPE HTML PUBLIC "-//W3C//DTD HTML 3.2//E
	N">\n<HTML>\n<HEAD>\n<TITLE></TITLE>\n</HEAD>\n<BODY>\n<h3>Fluorescent Plat
	ypuses vs. Fusion</h3>Plus d'info : <a href="https://www.golnetwork.com/gam
	e/v/72977/">#4</a>\n\n</BODY>\n</HTML>
STATUS:CONFIRMED
CLASS:PUBLIC
URL:https://www.golnetwork.com/game/v/72977/
X-MICROSOFT-CDO-BUSYSTATUS:BUSY
X-MICROSOFT-CDO-IMPORTANCE:1
END:VEVENT
BEGIN:VEVENT
UID:g7dpl@games.golnetwork.com
LOCATION:McCarthy Park Field #5
GEO:45.3517739;-75.6718247
CREATED:20150715T182250Z
DTSTART:20150723T224500Z
DTEND:20150724T001500Z
DTSTAMP:20260420T203514Z
SUMMARY:The Miseducation vs. Real Ale Madrid
DESCRIPTION:Real Ale Madrid vs. The MiseducationPlus d'info : #5
X-ALT-DESC;FMTTYPE=text/html:<!DOCTYPE HTML PUBLIC "-//W3C//DTD HTML 3.2//E
	N">\n<HTML>\n<HEAD>\n<TITLE></TITLE>\n</HEAD>\n<BODY>\n<h3>Real Ale Madrid 
	vs. The Miseducation</h3>Plus d'info : <a href="https://www.golnetwork.com/
	game/v/72978/">#5</a>\n\n</BODY>\n</HTML>
STATUS:CONFIRMED
CLASS:PUBLIC
URL:https://www.golnetwork.com/game/v/72978/
X-MICROSOFT-CDO-BUSYSTATUS:BUSY
X-MICROSOFT-CDO-IMPORTANCE:1
END:VEVENT
BEGIN:VEVENT
UID:g7dqe@games.golnetwork.com
LOCATION:Lester B. Pearson Field 1
GEO:45.4429892;-75.5963901
CREATED:20150715T182252Z
DTSTART:20150723T224500Z
DTEND:20150724T001500Z
DTSTAMP:20260420T203514Z
SUMMARY:JFC vs. Picante Pelotas
DESCRIPTION:Picante Pelotas vs. JFCPlus d'info : #16
X-ALT-DESC;FMTTYPE=text/html:<!DOCTYPE HTML PUBLIC "-//W3C//DTD HTML 3.2//E
	N">\n<HTML>\n<HEAD>\n<TITLE></TITLE>\n</HEAD>\n<BODY>\n<h3>Picante Pelotas 
	vs. JFC</h3>Plus d'info : <a href="https://www.golnetwork.com/game/v/72988/
	">#16</a>\n\n</BODY>\n</HTML>
STATUS:CONFIRMED
CLASS:PUBLIC
URL:https://www.golnetwork.com/game/v/72988/
X-MICROSOFT-CDO-BUSYSTATUS:BUSY
X-MICROSOFT-CDO-IMPORTANCE:1
END:VEVENT
BEGIN:VEVENT
UID:g7dqi@games.golnetwork.com
LOCATION:Lester B Pearson Field #3
GEO:45.4433016;-75.5957775
CREATED:20150715T182252Z
DTSTART:20150723T224500Z
DTEND:20150724T001500Z
DTSTAMP:20260420T203514Z
SUMMARY:TMNT vs. Where's Josh
DESCRIPTION:Where's Josh vs. TMNTPlus d'info : #18
X-ALT-DESC;FMTTYPE=text/html:<!DOCTYPE HTML PUBLIC "-//W3C//DTD HTML 3.2//E
	N">\n<HTML>\n<HEAD>\n<TITLE></TITLE>\n</HEAD>\n<BODY>\n<h3>Where's Josh vs.
	 TMNT</h3>Plus d'info : <a href="https://www.golnetwork.com/game/v/72990/">
	#18</a>\n\n</BODY>\n</HTML>
STATUS:CONFIRMED
CLASS:PUBLIC
URL:https://www.golnetwork.com/game/v/72990/
X-MICROSOFT-CDO-BUSYSTATUS:BUSY
X-MICROSOFT-CDO-IMPORTANCE:1
END:VEVENT
END:VCALENDAR
