BEGIN:VCALENDAR
PRODID:-//gdesolutions.com//MV Framework 1.0.0.1607 Calendar//EN
VERSION:2.0
METHOD:PUBLISH
CALSCALE:GREGORIAN
BEGIN:VEVENT
UID:g74jk@games.golnetwork.com
LOCATION:Norm Ingram field
CREATED:20150517T221752Z
DTSTART:20150521T220000Z
DTEND:20150521T225000Z
DTSTAMP:20260423T074837Z
SUMMARY:Blue Steel vs. Misfits United
DESCRIPTION:Misfits United vs. Blue SteelPlus d'info : #32
X-ALT-DESC;FMTTYPE=text/html:<!DOCTYPE HTML PUBLIC "-//W3C//DTD HTML 3.2//E
	N">\n<HTML>\n<HEAD>\n<TITLE></TITLE>\n</HEAD>\n<BODY>\n<h3>Misfits United v
	s. Blue Steel</h3>Plus d'info : <a href="https://www.golnetwork.com/game/v/
	69616/">#32</a>\n\n</BODY>\n</HTML>
STATUS:RESCHEDULED
CLASS:PUBLIC
URL:https://www.golnetwork.com/game/v/69616/
X-MICROSOFT-CDO-BUSYSTATUS:BUSY
X-MICROSOFT-CDO-IMPORTANCE:1
END:VEVENT
BEGIN:VEVENT
UID:g74jm@games.golnetwork.com
LOCATION:Norm Ingram field
CREATED:20150517T221804Z
DTSTART:20150521T230000Z
DTEND:20150521T235000Z
DTSTAMP:20260423T074837Z
SUMMARY: Man Chest Hair United vs. Indomitable Penguins
DESCRIPTION:Indomitable Penguins vs.  Man Chest Hair UnitedPlus d'info : #3
	6
X-ALT-DESC;FMTTYPE=text/html:<!DOCTYPE HTML PUBLIC "-//W3C//DTD HTML 3.2//E
	N">\n<HTML>\n<HEAD>\n<TITLE></TITLE>\n</HEAD>\n<BODY>\n<h3>Indomitable Peng
	uins vs.  Man Chest Hair United</h3>Plus d'info : <a href="https://www.goln
	etwork.com/game/v/69617/">#36</a>\n\n</BODY>\n</HTML>
STATUS:RESCHEDULED
CLASS:PUBLIC
URL:https://www.golnetwork.com/game/v/69617/
X-MICROSOFT-CDO-BUSYSTATUS:BUSY
X-MICROSOFT-CDO-IMPORTANCE:1
END:VEVENT
BEGIN:VEVENT
UID:g74jo@games.golnetwork.com
LOCATION:Norm Ingram field
CREATED:20150518T000225Z
DTSTART:20150522T000000Z
DTEND:20150522T005000Z
DTSTAMP:20260423T074837Z
SUMMARY:Squirtle Squad vs. Here for Beer
DESCRIPTION:Here for Beer vs. Squirtle SquadPlus d'info : #40
X-ALT-DESC;FMTTYPE=text/html:<!DOCTYPE HTML PUBLIC "-//W3C//DTD HTML 3.2//E
	N">\n<HTML>\n<HEAD>\n<TITLE></TITLE>\n</HEAD>\n<BODY>\n<h3>Here for Beer vs
	. Squirtle Squad</h3>Plus d'info : <a href="https://www.golnetwork.com/game
	/v/69618/">#40</a>\n\n</BODY>\n</HTML>
STATUS:RESCHEDULED
CLASS:PUBLIC
URL:https://www.golnetwork.com/game/v/69618/
X-MICROSOFT-CDO-BUSYSTATUS:BUSY
X-MICROSOFT-CDO-IMPORTANCE:1
END:VEVENT
BEGIN:VEVENT
UID:g74jq@games.golnetwork.com
LOCATION:Norm Ingram field
CREATED:20150518T000245Z
DTSTART:20150528T220000Z
DTEND:20150528T225000Z
DTSTAMP:20260423T074837Z
SUMMARY: Man Chest Hair United vs. Squirtle Squad
DESCRIPTION:Squirtle Squad vs.  Man Chest Hair UnitedPlus d'info : #76
X-ALT-DESC;FMTTYPE=text/html:<!DOCTYPE HTML PUBLIC "-//W3C//DTD HTML 3.2//E
	N">\n<HTML>\n<HEAD>\n<TITLE></TITLE>\n</HEAD>\n<BODY>\n<h3>Squirtle Squad v
	s.  Man Chest Hair United</h3>Plus d'info : <a href="https://www.golnetwork
	.com/game/v/69619/">#76</a>\n\n</BODY>\n</HTML>
STATUS:CONFIRMED
CLASS:PUBLIC
URL:https://www.golnetwork.com/game/v/69619/
X-MICROSOFT-CDO-BUSYSTATUS:BUSY
X-MICROSOFT-CDO-IMPORTANCE:1
END:VEVENT
BEGIN:VEVENT
UID:g74k1@games.golnetwork.com
LOCATION:Norm Ingram field
CREATED:20150518T000254Z
DTSTART:20150528T230000Z
DTEND:20150528T235000Z
DTSTAMP:20260423T074837Z
SUMMARY:Blue Steel vs. Here for Beer
DESCRIPTION:Here for Beer vs. Blue SteelPlus d'info : #80
X-ALT-DESC;FMTTYPE=text/html:<!DOCTYPE HTML PUBLIC "-//W3C//DTD HTML 3.2//E
	N">\n<HTML>\n<HEAD>\n<TITLE></TITLE>\n</HEAD>\n<BODY>\n<h3>Here for Beer vs
	. Blue Steel</h3>Plus d'info : <a href="https://www.golnetwork.com/game/v/6
	9620/">#80</a>\n\n</BODY>\n</HTML>
STATUS:CONFIRMED
CLASS:PUBLIC
URL:https://www.golnetwork.com/game/v/69620/
X-MICROSOFT-CDO-BUSYSTATUS:BUSY
X-MICROSOFT-CDO-IMPORTANCE:1
END:VEVENT
BEGIN:VEVENT
UID:g74k3@games.golnetwork.com
LOCATION:Norm Ingram field
CREATED:20150518T000304Z
DTSTART:20150529T000000Z
DTEND:20150529T005000Z
DTSTAMP:20260423T074837Z
SUMMARY:Indomitable Penguins vs. Misfits United
DESCRIPTION:Misfits United vs. Indomitable PenguinsPlus d'info : #84
X-ALT-DESC;FMTTYPE=text/html:<!DOCTYPE HTML PUBLIC "-//W3C//DTD HTML 3.2//E
	N">\n<HTML>\n<HEAD>\n<TITLE></TITLE>\n</HEAD>\n<BODY>\n<h3>Misfits United v
	s. Indomitable Penguins</h3>Plus d'info : <a href="https://www.golnetwork.c
	om/game/v/69621/">#84</a>\n\n</BODY>\n</HTML>
STATUS:CONFIRMED
CLASS:PUBLIC
URL:https://www.golnetwork.com/game/v/69621/
X-MICROSOFT-CDO-BUSYSTATUS:BUSY
X-MICROSOFT-CDO-IMPORTANCE:1
END:VEVENT
BEGIN:VEVENT
UID:g74k5@games.golnetwork.com
LOCATION:Norm Ingram field
CREATED:20150518T000318Z
DTSTART:20150604T220000Z
DTEND:20150604T225000Z
DTSTAMP:20260423T074837Z
SUMMARY:Indomitable Penguins vs. Squirtle Squad
DESCRIPTION:Squirtle Squad vs. Indomitable PenguinsPlus d'info : #111
X-ALT-DESC;FMTTYPE=text/html:<!DOCTYPE HTML PUBLIC "-//W3C//DTD HTML 3.2//E
	N">\n<HTML>\n<HEAD>\n<TITLE></TITLE>\n</HEAD>\n<BODY>\n<h3>Squirtle Squad v
	s. Indomitable Penguins</h3>Plus d'info : <a href="https://www.golnetwork.c
	om/game/v/69622/">#111</a>\n\n</BODY>\n</HTML>
STATUS:CONFIRMED
CLASS:PUBLIC
URL:https://www.golnetwork.com/game/v/69622/
X-MICROSOFT-CDO-BUSYSTATUS:BUSY
X-MICROSOFT-CDO-IMPORTANCE:1
END:VEVENT
BEGIN:VEVENT
UID:g74k7@games.golnetwork.com
LOCATION:Norm Ingram field
CREATED:20150518T000329Z
DTSTART:20150604T230000Z
DTEND:20150604T235000Z
DTSTAMP:20260423T074837Z
SUMMARY:Here for Beer vs. Misfits United
DESCRIPTION:Misfits United vs. Here for BeerPlus d'info : #115
X-ALT-DESC;FMTTYPE=text/html:<!DOCTYPE HTML PUBLIC "-//W3C//DTD HTML 3.2//E
	N">\n<HTML>\n<HEAD>\n<TITLE></TITLE>\n</HEAD>\n<BODY>\n<h3>Misfits United v
	s. Here for Beer</h3>Plus d'info : <a href="https://www.golnetwork.com/game
	/v/69623/">#115</a>\n\n</BODY>\n</HTML>
STATUS:CONFIRMED
CLASS:PUBLIC
URL:https://www.golnetwork.com/game/v/69623/
X-MICROSOFT-CDO-BUSYSTATUS:BUSY
X-MICROSOFT-CDO-IMPORTANCE:1
END:VEVENT
BEGIN:VEVENT
UID:g74k9@games.golnetwork.com
LOCATION:Norm Ingram field
CREATED:20150518T000338Z
DTSTART:20150605T000000Z
DTEND:20150605T005000Z
DTSTAMP:20260423T074837Z
SUMMARY:Blue Steel vs.  Man Chest Hair United
DESCRIPTION: Man Chest Hair United vs. Blue SteelPlus d'info : #119
X-ALT-DESC;FMTTYPE=text/html:<!DOCTYPE HTML PUBLIC "-//W3C//DTD HTML 3.2//E
	N">\n<HTML>\n<HEAD>\n<TITLE></TITLE>\n</HEAD>\n<BODY>\n<h3> Man Chest Hair 
	United vs. Blue Steel</h3>Plus d'info : <a href="https://www.golnetwork.com
	/game/v/69624/">#119</a>\n\n</BODY>\n</HTML>
STATUS:CONFIRMED
CLASS:PUBLIC
URL:https://www.golnetwork.com/game/v/69624/
X-MICROSOFT-CDO-BUSYSTATUS:BUSY
X-MICROSOFT-CDO-IMPORTANCE:1
END:VEVENT
BEGIN:VEVENT
UID:g74kb@games.golnetwork.com
LOCATION:Norm Ingram field
CREATED:20150518T000352Z
DTSTART:20150611T220000Z
DTEND:20150611T225000Z
DTSTAMP:20260423T074837Z
SUMMARY:Here for Beer vs.  Man Chest Hair United
DESCRIPTION: Man Chest Hair United vs. Here for BeerPlus d'info : #152
X-ALT-DESC;FMTTYPE=text/html:<!DOCTYPE HTML PUBLIC "-//W3C//DTD HTML 3.2//E
	N">\n<HTML>\n<HEAD>\n<TITLE></TITLE>\n</HEAD>\n<BODY>\n<h3> Man Chest Hair 
	United vs. Here for Beer</h3>Plus d'info : <a href="https://www.golnetwork.
	com/game/v/69625/">#152</a>\n\n</BODY>\n</HTML>
STATUS:CONFIRMED
CLASS:PUBLIC
URL:https://www.golnetwork.com/game/v/69625/
X-MICROSOFT-CDO-BUSYSTATUS:BUSY
X-MICROSOFT-CDO-IMPORTANCE:1
END:VEVENT
BEGIN:VEVENT
UID:g74kd@games.golnetwork.com
LOCATION:Norm Ingram field
CREATED:20150518T000403Z
DTSTART:20150611T230000Z
DTEND:20150611T235000Z
DTSTAMP:20260423T074837Z
SUMMARY:Misfits United vs. Squirtle Squad
DESCRIPTION:Squirtle Squad vs. Misfits UnitedPlus d'info : #155
X-ALT-DESC;FMTTYPE=text/html:<!DOCTYPE HTML PUBLIC "-//W3C//DTD HTML 3.2//E
	N">\n<HTML>\n<HEAD>\n<TITLE></TITLE>\n</HEAD>\n<BODY>\n<h3>Squirtle Squad v
	s. Misfits United</h3>Plus d'info : <a href="https://www.golnetwork.com/gam
	e/v/69626/">#155</a>\n\n</BODY>\n</HTML>
STATUS:CONFIRMED
CLASS:PUBLIC
URL:https://www.golnetwork.com/game/v/69626/
X-MICROSOFT-CDO-BUSYSTATUS:BUSY
X-MICROSOFT-CDO-IMPORTANCE:1
END:VEVENT
BEGIN:VEVENT
UID:g74kf@games.golnetwork.com
LOCATION:Norm Ingram field
CREATED:20150518T000413Z
DTSTART:20150612T000000Z
DTEND:20150612T005000Z
DTSTAMP:20260423T074837Z
SUMMARY:Indomitable Penguins vs. Blue Steel
DESCRIPTION:Blue Steel vs. Indomitable PenguinsPlus d'info : #158
X-ALT-DESC;FMTTYPE=text/html:<!DOCTYPE HTML PUBLIC "-//W3C//DTD HTML 3.2//E
	N">\n<HTML>\n<HEAD>\n<TITLE></TITLE>\n</HEAD>\n<BODY>\n<h3>Blue Steel vs. I
	ndomitable Penguins</h3>Plus d'info : <a href="https://www.golnetwork.com/g
	ame/v/69627/">#158</a>\n\n</BODY>\n</HTML>
STATUS:CONFIRMED
CLASS:PUBLIC
URL:https://www.golnetwork.com/game/v/69627/
X-MICROSOFT-CDO-BUSYSTATUS:BUSY
X-MICROSOFT-CDO-IMPORTANCE:1
END:VEVENT
BEGIN:VEVENT
UID:g74kh@games.golnetwork.com
LOCATION:Norm Ingram field
CREATED:20150518T000429Z
DTSTART:20150618T220000Z
DTEND:20150618T225000Z
DTSTAMP:20260423T074837Z
SUMMARY:Here for Beer vs. Indomitable Penguins
DESCRIPTION:Indomitable Penguins vs. Here for BeerPlus d'info : #194
X-ALT-DESC;FMTTYPE=text/html:<!DOCTYPE HTML PUBLIC "-//W3C//DTD HTML 3.2//E
	N">\n<HTML>\n<HEAD>\n<TITLE></TITLE>\n</HEAD>\n<BODY>\n<h3>Indomitable Peng
	uins vs. Here for Beer</h3>Plus d'info : <a href="https://www.golnetwork.co
	m/game/v/69628/">#194</a>\n\n</BODY>\n</HTML>
STATUS:CONFIRMED
CLASS:PUBLIC
URL:https://www.golnetwork.com/game/v/69628/
X-MICROSOFT-CDO-BUSYSTATUS:BUSY
X-MICROSOFT-CDO-IMPORTANCE:1
END:VEVENT
BEGIN:VEVENT
UID:g74kj@games.golnetwork.com
LOCATION:Norm Ingram field
CREATED:20150518T000438Z
DTSTART:20150618T230000Z
DTEND:20150618T235000Z
DTSTAMP:20260423T074837Z
SUMMARY:Squirtle Squad vs. Blue Steel
DESCRIPTION:Blue Steel vs. Squirtle SquadPlus d'info : #197
X-ALT-DESC;FMTTYPE=text/html:<!DOCTYPE HTML PUBLIC "-//W3C//DTD HTML 3.2//E
	N">\n<HTML>\n<HEAD>\n<TITLE></TITLE>\n</HEAD>\n<BODY>\n<h3>Blue Steel vs. S
	quirtle Squad</h3>Plus d'info : <a href="https://www.golnetwork.com/game/v/
	69629/">#197</a>\n\n</BODY>\n</HTML>
STATUS:CONFIRMED
CLASS:PUBLIC
URL:https://www.golnetwork.com/game/v/69629/
X-MICROSOFT-CDO-BUSYSTATUS:BUSY
X-MICROSOFT-CDO-IMPORTANCE:1
END:VEVENT
BEGIN:VEVENT
UID:g74kl@games.golnetwork.com
LOCATION:Norm Ingram field
CREATED:20150518T000448Z
DTSTART:20150619T000000Z
DTEND:20150619T005000Z
DTSTAMP:20260423T074837Z
SUMMARY: Man Chest Hair United vs. Misfits United
DESCRIPTION:Misfits United vs.  Man Chest Hair UnitedPlus d'info : #200
X-ALT-DESC;FMTTYPE=text/html:<!DOCTYPE HTML PUBLIC "-//W3C//DTD HTML 3.2//E
	N">\n<HTML>\n<HEAD>\n<TITLE></TITLE>\n</HEAD>\n<BODY>\n<h3>Misfits United v
	s.  Man Chest Hair United</h3>Plus d'info : <a href="https://www.golnetwork
	.com/game/v/69630/">#200</a>\n\n</BODY>\n</HTML>
STATUS:CONFIRMED
CLASS:PUBLIC
URL:https://www.golnetwork.com/game/v/69630/
X-MICROSOFT-CDO-BUSYSTATUS:BUSY
X-MICROSOFT-CDO-IMPORTANCE:1
END:VEVENT
BEGIN:VEVENT
UID:g74kn@games.golnetwork.com
LOCATION:Norm Ingram field
CREATED:20150518T000504Z
DTSTART:20150625T220000Z
DTEND:20150625T225000Z
DTSTAMP:20260423T074837Z
SUMMARY:Blue Steel vs. Misfits United
DESCRIPTION:Misfits United vs. Blue SteelPlus d'info : #236
X-ALT-DESC;FMTTYPE=text/html:<!DOCTYPE HTML PUBLIC "-//W3C//DTD HTML 3.2//E
	N">\n<HTML>\n<HEAD>\n<TITLE></TITLE>\n</HEAD>\n<BODY>\n<h3>Misfits United v
	s. Blue Steel</h3>Plus d'info : <a href="https://www.golnetwork.com/game/v/
	69631/">#236</a>\n\n</BODY>\n</HTML>
STATUS:CONFIRMED
CLASS:PUBLIC
URL:https://www.golnetwork.com/game/v/69631/
X-MICROSOFT-CDO-BUSYSTATUS:BUSY
X-MICROSOFT-CDO-IMPORTANCE:1
END:VEVENT
BEGIN:VEVENT
UID:g74kp@games.golnetwork.com
LOCATION:Norm Ingram field
CREATED:20150518T000514Z
DTSTART:20150625T230000Z
DTEND:20150625T235000Z
DTSTAMP:20260423T074837Z
SUMMARY: Man Chest Hair United vs. Indomitable Penguins
DESCRIPTION:Indomitable Penguins vs.  Man Chest Hair UnitedPlus d'info : #2
	40
X-ALT-DESC;FMTTYPE=text/html:<!DOCTYPE HTML PUBLIC "-//W3C//DTD HTML 3.2//E
	N">\n<HTML>\n<HEAD>\n<TITLE></TITLE>\n</HEAD>\n<BODY>\n<h3>Indomitable Peng
	uins vs.  Man Chest Hair United</h3>Plus d'info : <a href="https://www.goln
	etwork.com/game/v/69632/">#240</a>\n\n</BODY>\n</HTML>
STATUS:CONFIRMED
CLASS:PUBLIC
URL:https://www.golnetwork.com/game/v/69632/
X-MICROSOFT-CDO-BUSYSTATUS:BUSY
X-MICROSOFT-CDO-IMPORTANCE:1
END:VEVENT
BEGIN:VEVENT
UID:g74l0@games.golnetwork.com
LOCATION:Norm Ingram field
CREATED:20150518T000522Z
DTSTART:20150626T000000Z
DTEND:20150626T005000Z
DTSTAMP:20260423T074837Z
SUMMARY:Squirtle Squad vs. Here for Beer
DESCRIPTION:Here for Beer vs. Squirtle SquadPlus d'info : #244
X-ALT-DESC;FMTTYPE=text/html:<!DOCTYPE HTML PUBLIC "-//W3C//DTD HTML 3.2//E
	N">\n<HTML>\n<HEAD>\n<TITLE></TITLE>\n</HEAD>\n<BODY>\n<h3>Here for Beer vs
	. Squirtle Squad</h3>Plus d'info : <a href="https://www.golnetwork.com/game
	/v/69633/">#244</a>\n\n</BODY>\n</HTML>
STATUS:CONFIRMED
CLASS:PUBLIC
URL:https://www.golnetwork.com/game/v/69633/
X-MICROSOFT-CDO-BUSYSTATUS:BUSY
X-MICROSOFT-CDO-IMPORTANCE:1
END:VEVENT
BEGIN:VEVENT
UID:g74l2@games.golnetwork.com
LOCATION:Norm Ingram field
CREATED:20150518T000539Z
DTSTART:20150702T220000Z
DTEND:20150702T225000Z
DTSTAMP:20260423T074837Z
SUMMARY: Man Chest Hair United vs. Squirtle Squad
DESCRIPTION:Squirtle Squad vs.  Man Chest Hair UnitedPlus d'info : #271
X-ALT-DESC;FMTTYPE=text/html:<!DOCTYPE HTML PUBLIC "-//W3C//DTD HTML 3.2//E
	N">\n<HTML>\n<HEAD>\n<TITLE></TITLE>\n</HEAD>\n<BODY>\n<h3>Squirtle Squad v
	s.  Man Chest Hair United</h3>Plus d'info : <a href="https://www.golnetwork
	.com/game/v/69634/">#271</a>\n\n</BODY>\n</HTML>
STATUS:CONFIRMED
CLASS:PUBLIC
URL:https://www.golnetwork.com/game/v/69634/
X-MICROSOFT-CDO-BUSYSTATUS:BUSY
X-MICROSOFT-CDO-IMPORTANCE:1
END:VEVENT
BEGIN:VEVENT
UID:g74l4@games.golnetwork.com
LOCATION:Norm Ingram field
CREATED:20150518T000549Z
DTSTART:20150702T230000Z
DTEND:20150702T235000Z
DTSTAMP:20260423T074837Z
SUMMARY:Blue Steel vs. Here for Beer
DESCRIPTION:Here for Beer vs. Blue SteelPlus d'info : #275
X-ALT-DESC;FMTTYPE=text/html:<!DOCTYPE HTML PUBLIC "-//W3C//DTD HTML 3.2//E
	N">\n<HTML>\n<HEAD>\n<TITLE></TITLE>\n</HEAD>\n<BODY>\n<h3>Here for Beer vs
	. Blue Steel</h3>Plus d'info : <a href="https://www.golnetwork.com/game/v/6
	9635/">#275</a>\n\n</BODY>\n</HTML>
STATUS:CONFIRMED
CLASS:PUBLIC
URL:https://www.golnetwork.com/game/v/69635/
X-MICROSOFT-CDO-BUSYSTATUS:BUSY
X-MICROSOFT-CDO-IMPORTANCE:1
END:VEVENT
BEGIN:VEVENT
UID:g74l6@games.golnetwork.com
LOCATION:Norm Ingram field
CREATED:20150518T000601Z
DTSTART:20150703T000000Z
DTEND:20150703T005000Z
DTSTAMP:20260423T074837Z
SUMMARY:Indomitable Penguins vs. Misfits United
DESCRIPTION:Misfits United vs. Indomitable PenguinsPlus d'info : #279
X-ALT-DESC;FMTTYPE=text/html:<!DOCTYPE HTML PUBLIC "-//W3C//DTD HTML 3.2//E
	N">\n<HTML>\n<HEAD>\n<TITLE></TITLE>\n</HEAD>\n<BODY>\n<h3>Misfits United v
	s. Indomitable Penguins</h3>Plus d'info : <a href="https://www.golnetwork.c
	om/game/v/69636/">#279</a>\n\n</BODY>\n</HTML>
STATUS:CONFIRMED
CLASS:PUBLIC
URL:https://www.golnetwork.com/game/v/69636/
X-MICROSOFT-CDO-BUSYSTATUS:BUSY
X-MICROSOFT-CDO-IMPORTANCE:1
END:VEVENT
BEGIN:VEVENT
UID:g74la@games.golnetwork.com
LOCATION:Norm Ingram field
CREATED:20150518T000620Z
DTSTART:20150709T220000Z
DTEND:20150709T225000Z
DTSTAMP:20260423T074837Z
SUMMARY:Indomitable Penguins vs. Squirtle Squad
DESCRIPTION:Squirtle Squad vs. Indomitable PenguinsPlus d'info : #314
X-ALT-DESC;FMTTYPE=text/html:<!DOCTYPE HTML PUBLIC "-//W3C//DTD HTML 3.2//E
	N">\n<HTML>\n<HEAD>\n<TITLE></TITLE>\n</HEAD>\n<BODY>\n<h3>Squirtle Squad v
	s. Indomitable Penguins</h3>Plus d'info : <a href="https://www.golnetwork.c
	om/game/v/69638/">#314</a>\n\n</BODY>\n</HTML>
STATUS:CONFIRMED
CLASS:PUBLIC
URL:https://www.golnetwork.com/game/v/69638/
X-MICROSOFT-CDO-BUSYSTATUS:BUSY
X-MICROSOFT-CDO-IMPORTANCE:1
END:VEVENT
BEGIN:VEVENT
UID:g74l8@games.golnetwork.com
LOCATION:Norm Ingram field
CREATED:20150518T000612Z
DTSTART:20150709T230000Z
DTEND:20150709T235000Z
DTSTAMP:20260423T074837Z
SUMMARY:Here for Beer vs. Misfits United
DESCRIPTION:Misfits United vs. Here for BeerPlus d'info : #318
X-ALT-DESC;FMTTYPE=text/html:<!DOCTYPE HTML PUBLIC "-//W3C//DTD HTML 3.2//E
	N">\n<HTML>\n<HEAD>\n<TITLE></TITLE>\n</HEAD>\n<BODY>\n<h3>Misfits United v
	s. Here for Beer</h3>Plus d'info : <a href="https://www.golnetwork.com/game
	/v/69637/">#318</a>\n\n</BODY>\n</HTML>
STATUS:CONFIRMED
CLASS:PUBLIC
URL:https://www.golnetwork.com/game/v/69637/
X-MICROSOFT-CDO-BUSYSTATUS:BUSY
X-MICROSOFT-CDO-IMPORTANCE:1
END:VEVENT
BEGIN:VEVENT
UID:g74lc@games.golnetwork.com
LOCATION:Norm Ingram field
CREATED:20150518T000629Z
DTSTART:20150710T000000Z
DTEND:20150710T005000Z
DTSTAMP:20260423T074837Z
SUMMARY:Blue Steel vs.  Man Chest Hair United
DESCRIPTION: Man Chest Hair United vs. Blue SteelPlus d'info : #322
X-ALT-DESC;FMTTYPE=text/html:<!DOCTYPE HTML PUBLIC "-//W3C//DTD HTML 3.2//E
	N">\n<HTML>\n<HEAD>\n<TITLE></TITLE>\n</HEAD>\n<BODY>\n<h3> Man Chest Hair 
	United vs. Blue Steel</h3>Plus d'info : <a href="https://www.golnetwork.com
	/game/v/69639/">#322</a>\n\n</BODY>\n</HTML>
STATUS:CONFIRMED
CLASS:PUBLIC
URL:https://www.golnetwork.com/game/v/69639/
X-MICROSOFT-CDO-BUSYSTATUS:BUSY
X-MICROSOFT-CDO-IMPORTANCE:1
END:VEVENT
BEGIN:VEVENT
UID:g75b9@games.golnetwork.com
LOCATION:Norm Ingram field
CREATED:20150522T160420Z
DTSTART:20150716T220000Z
DTEND:20150716T225000Z
DTSTAMP:20260423T074837Z
SUMMARY:Blue Steel vs. Misfits United
DESCRIPTION:Misfits United vs. Blue SteelPlus d'info : R#32
X-ALT-DESC;FMTTYPE=text/html:<!DOCTYPE HTML PUBLIC "-//W3C//DTD HTML 3.2//E
	N">\n<HTML>\n<HEAD>\n<TITLE></TITLE>\n</HEAD>\n<BODY>\n<h3>Misfits United v
	s. Blue Steel</h3>Plus d'info : <a href="https://www.golnetwork.com/game/v/
	69867/">R#32</a>\n\n</BODY>\n</HTML>
STATUS:CONFIRMED
CLASS:PUBLIC
URL:https://www.golnetwork.com/game/v/69867/
X-MICROSOFT-CDO-BUSYSTATUS:BUSY
X-MICROSOFT-CDO-IMPORTANCE:1
END:VEVENT
BEGIN:VEVENT
UID:g75bb@games.golnetwork.com
LOCATION:Norm Ingram field
CREATED:20150522T160439Z
DTSTART:20150716T230000Z
DTEND:20150716T235000Z
DTSTAMP:20260423T074837Z
SUMMARY: Man Chest Hair United vs. Indomitable Penguins
DESCRIPTION:Indomitable Penguins vs.  Man Chest Hair UnitedPlus d'info : R#
	36
X-ALT-DESC;FMTTYPE=text/html:<!DOCTYPE HTML PUBLIC "-//W3C//DTD HTML 3.2//E
	N">\n<HTML>\n<HEAD>\n<TITLE></TITLE>\n</HEAD>\n<BODY>\n<h3>Indomitable Peng
	uins vs.  Man Chest Hair United</h3>Plus d'info : <a href="https://www.goln
	etwork.com/game/v/69868/">R#36</a>\n\n</BODY>\n</HTML>
STATUS:CONFIRMED
CLASS:PUBLIC
URL:https://www.golnetwork.com/game/v/69868/
X-MICROSOFT-CDO-BUSYSTATUS:BUSY
X-MICROSOFT-CDO-IMPORTANCE:1
END:VEVENT
BEGIN:VEVENT
UID:g75bd@games.golnetwork.com
LOCATION:Norm Ingram field
CREATED:20150522T160458Z
DTSTART:20150717T000000Z
DTEND:20150717T005000Z
DTSTAMP:20260423T074837Z
SUMMARY:Squirtle Squad vs. Here for Beer
DESCRIPTION:Here for Beer vs. Squirtle SquadPlus d'info : R#40
X-ALT-DESC;FMTTYPE=text/html:<!DOCTYPE HTML PUBLIC "-//W3C//DTD HTML 3.2//E
	N">\n<HTML>\n<HEAD>\n<TITLE></TITLE>\n</HEAD>\n<BODY>\n<h3>Here for Beer vs
	. Squirtle Squad</h3>Plus d'info : <a href="https://www.golnetwork.com/game
	/v/69869/">R#40</a>\n\n</BODY>\n</HTML>
STATUS:CONFIRMED
CLASS:PUBLIC
URL:https://www.golnetwork.com/game/v/69869/
X-MICROSOFT-CDO-BUSYSTATUS:BUSY
X-MICROSOFT-CDO-IMPORTANCE:1
END:VEVENT
END:VCALENDAR
