BEGIN:VCALENDAR
PRODID:-//gdesolutions.com//MV Framework 1.0.0.1607 Calendar//EN
VERSION:2.0
METHOD:PUBLISH
CALSCALE:GREGORIAN
BEGIN:VEVENT
UID:g7dfj@games.golnetwork.com
LOCATION:Monarch Park Stadium - Field 1
GEO:43.6792789;-79.3234873
CREATED:20150713T163137Z
DTSTART:20150919T010000Z
DTEND:20150919T015000Z
DTSTAMP:20260421T075510Z
SUMMARY:Since '89 vs. XTSC Block That Shot
DESCRIPTION:XTSC Block That Shot vs. Since '89Plus d'info : #75
X-ALT-DESC;FMTTYPE=text/html:<!DOCTYPE HTML PUBLIC "-//W3C//DTD HTML 3.2//E
	N">\n<HTML>\n<HEAD>\n<TITLE></TITLE>\n</HEAD>\n<BODY>\n<h3>XTSC Block That 
	Shot vs. Since '89</h3>Plus d'info : <a href="https://www.golnetwork.com/ga
	me/v/72842/">#75</a>\n\n</BODY>\n</HTML>
STATUS:CONFIRMED
CLASS:PUBLIC
URL:https://www.golnetwork.com/game/v/72842/
X-MICROSOFT-CDO-BUSYSTATUS:BUSY
X-MICROSOFT-CDO-IMPORTANCE:1
END:VEVENT
BEGIN:VEVENT
UID:g7dfl@games.golnetwork.com
LOCATION:Monarch Park Stadium - Field 1
GEO:43.6792789;-79.3234873
CREATED:20150713T163137Z
DTSTART:20150919T020000Z
DTEND:20150919T025000Z
DTSTAMP:20260421T075510Z
SUMMARY:Bakili Bullets vs. Local vs. Everyone
DESCRIPTION:Local vs. Everyone vs. Bakili BulletsPlus d'info : #76
X-ALT-DESC;FMTTYPE=text/html:<!DOCTYPE HTML PUBLIC "-//W3C//DTD HTML 3.2//E
	N">\n<HTML>\n<HEAD>\n<TITLE></TITLE>\n</HEAD>\n<BODY>\n<h3>Local vs. Everyo
	ne vs. Bakili Bullets</h3>Plus d'info : <a href="https://www.golnetwork.com
	/game/v/72843/">#76</a>\n\n</BODY>\n</HTML>
STATUS:CONFIRMED
CLASS:PUBLIC
URL:https://www.golnetwork.com/game/v/72843/
X-MICROSOFT-CDO-BUSYSTATUS:BUSY
X-MICROSOFT-CDO-IMPORTANCE:1
END:VEVENT
BEGIN:VEVENT
UID:g7dfn@games.golnetwork.com
LOCATION:Monarch Park Stadium - Field 1
GEO:43.6792789;-79.3234873
CREATED:20150713T163137Z
DTSTART:20150926T010000Z
DTEND:20150926T015000Z
DTSTAMP:20260421T075510Z
SUMMARY:Local vs. Everyone vs. XTSC Block That Shot
DESCRIPTION:XTSC Block That Shot vs. Local vs. EveryonePlus d'info : #81
X-ALT-DESC;FMTTYPE=text/html:<!DOCTYPE HTML PUBLIC "-//W3C//DTD HTML 3.2//E
	N">\n<HTML>\n<HEAD>\n<TITLE></TITLE>\n</HEAD>\n<BODY>\n<h3>XTSC Block That 
	Shot vs. Local vs. Everyone</h3>Plus d'info : <a href="https://www.golnetwo
	rk.com/game/v/72844/">#81</a>\n\n</BODY>\n</HTML>
STATUS:CONFIRMED
CLASS:PUBLIC
URL:https://www.golnetwork.com/game/v/72844/
X-MICROSOFT-CDO-BUSYSTATUS:BUSY
X-MICROSOFT-CDO-IMPORTANCE:1
END:VEVENT
END:VCALENDAR
