BEGIN:VCALENDAR
PRODID:-//gdesolutions.com//MV Framework 1.0.0.1607 Calendar//EN
VERSION:2.0
METHOD:PUBLISH
CALSCALE:GREGORIAN
BEGIN:VEVENT
UID:g7cnm@games.golnetwork.com
LOCATION:Lamport Stadium - Field 1
GEO:43.6390028;-79.4232104
CREATED:20150710T145640Z
DTSTART:20150927T230000Z
DTEND:20150927T235000Z
DTSTAMP:20260420T104741Z
SUMMARY:Lokomotiv Bison FC 1873 vs.  Real McCafe
DESCRIPTION: Real McCafe vs. Lokomotiv Bison FC 1873Plus d'info : #85
X-ALT-DESC;FMTTYPE=text/html:<!DOCTYPE HTML PUBLIC "-//W3C//DTD HTML 3.2//E
	N">\n<HTML>\n<HEAD>\n<TITLE></TITLE>\n</HEAD>\n<BODY>\n<h3> Real McCafe vs.
	 Lokomotiv Bison FC 1873</h3>Plus d'info : <a href="https://www.golnetwork.
	com/game/v/72587/">#85</a>\n\n</BODY>\n</HTML>
STATUS:CONFIRMED
CLASS:PUBLIC
URL:https://www.golnetwork.com/game/v/72587/
X-MICROSOFT-CDO-BUSYSTATUS:BUSY
X-MICROSOFT-CDO-IMPORTANCE:1
END:VEVENT
BEGIN:VEVENT
UID:g7cno@games.golnetwork.com
LOCATION:Lamport Stadium Field 1
GEO:43.639337;-79.4248954
CREATED:20150710T145640Z
DTSTART:20150928T000000Z
DTEND:20150928T005000Z
DTSTAMP:20260420T104741Z
SUMMARY:Los Cracks vs. ScoreFC
DESCRIPTION:ScoreFC vs. Los CracksPlus d'info : #84
X-ALT-DESC;FMTTYPE=text/html:<!DOCTYPE HTML PUBLIC "-//W3C//DTD HTML 3.2//E
	N">\n<HTML>\n<HEAD>\n<TITLE></TITLE>\n</HEAD>\n<BODY>\n<h3>ScoreFC vs. Los 
	Cracks</h3>Plus d'info : <a href="https://www.golnetwork.com/game/v/72588/"
	>#84</a>\n\n</BODY>\n</HTML>
STATUS:CONFIRMED
CLASS:PUBLIC
URL:https://www.golnetwork.com/game/v/72588/
X-MICROSOFT-CDO-BUSYSTATUS:BUSY
X-MICROSOFT-CDO-IMPORTANCE:1
END:VEVENT
BEGIN:VEVENT
UID:g7cnq@games.golnetwork.com
LOCATION:Lamport Stadium Field 1
GEO:43.639337;-79.4248954
CREATED:20150710T145640Z
DTSTART:20151005T010000Z
DTEND:20151005T015000Z
DTSTAMP:20260420T104741Z
SUMMARY:ScoreFC vs. Lokomotiv Bison FC 1873
DESCRIPTION:Lokomotiv Bison FC 1873 vs. ScoreFCPlus d'info : #88
X-ALT-DESC;FMTTYPE=text/html:<!DOCTYPE HTML PUBLIC "-//W3C//DTD HTML 3.2//E
	N">\n<HTML>\n<HEAD>\n<TITLE></TITLE>\n</HEAD>\n<BODY>\n<h3>Lokomotiv Bison 
	FC 1873 vs. ScoreFC</h3>Plus d'info : <a href="https://www.golnetwork.com/g
	ame/v/72589/">#88</a>\n\n</BODY>\n</HTML>
STATUS:CONFIRMED
CLASS:PUBLIC
URL:https://www.golnetwork.com/game/v/72589/
X-MICROSOFT-CDO-BUSYSTATUS:BUSY
X-MICROSOFT-CDO-IMPORTANCE:1
END:VEVENT
END:VCALENDAR
