BEGIN:VCALENDAR
PRODID:-//gdesolutions.com//MV Framework 1.0.0.1607 Calendar//EN
VERSION:2.0
METHOD:PUBLISH
CALSCALE:GREGORIAN
BEGIN:VEVENT
UID:g7dbn@games.golnetwork.com
LOCATION:Lamport Stadium - Field 3
GEO:43.6390028;-79.4232104
CREATED:20150713T151431Z
DTSTART:20150719T220000Z
DTEND:20150719T230000Z
DTSTAMP:20260422T073452Z
SUMMARY:Moocho GrassyAss FC vs. Tree FC
DESCRIPTION:Tree FC vs. Moocho GrassyAss FCPlus d'info : #73
X-ALT-DESC;FMTTYPE=text/html:<!DOCTYPE HTML PUBLIC "-//W3C//DTD HTML 3.2//E
	N">\n<HTML>\n<HEAD>\n<TITLE></TITLE>\n</HEAD>\n<BODY>\n<h3>Tree FC vs. Mooc
	ho GrassyAss FC</h3>Plus d'info : <a href="https://www.golnetwork.com/game/
	v/72790/">#73</a>\n\n</BODY>\n</HTML>
STATUS:CONFIRMED
CLASS:PUBLIC
URL:https://www.golnetwork.com/game/v/72790/
X-MICROSOFT-CDO-BUSYSTATUS:BUSY
X-MICROSOFT-CDO-IMPORTANCE:1
END:VEVENT
BEGIN:VEVENT
UID:g7dbl@games.golnetwork.com
LOCATION:Lamport Stadium - Field 3
GEO:43.6390028;-79.4232104
CREATED:20150713T151431Z
DTSTART:20150719T230000Z
DTEND:20150720T000000Z
DTSTAMP:20260422T073452Z
SUMMARY:Victorious Secret vs. FreshBooks FC
DESCRIPTION:FreshBooks FC vs. Victorious SecretPlus d'info : #77
X-ALT-DESC;FMTTYPE=text/html:<!DOCTYPE HTML PUBLIC "-//W3C//DTD HTML 3.2//E
	N">\n<HTML>\n<HEAD>\n<TITLE></TITLE>\n</HEAD>\n<BODY>\n<h3>FreshBooks FC vs
	. Victorious Secret</h3>Plus d'info : <a href="https://www.golnetwork.com/g
	ame/v/72789/">#77</a>\n\n</BODY>\n</HTML>
STATUS:CONFIRMED
CLASS:PUBLIC
URL:https://www.golnetwork.com/game/v/72789/
X-MICROSOFT-CDO-BUSYSTATUS:BUSY
X-MICROSOFT-CDO-IMPORTANCE:1
END:VEVENT
BEGIN:VEVENT
UID:g7dc0@games.golnetwork.com
LOCATION:Lamport Stadium - Field 2
GEO:43.6390028;-79.4232104
CREATED:20150713T151431Z
DTSTART:20150720T020000Z
DTEND:20150720T030000Z
DTSTAMP:20260422T073452Z
SUMMARY:Team Nice Friends vs. Bradley Bunch
DESCRIPTION:Bradley Bunch vs. Team Nice FriendsPlus d'info : #83
X-ALT-DESC;FMTTYPE=text/html:<!DOCTYPE HTML PUBLIC "-//W3C//DTD HTML 3.2//E
	N">\n<HTML>\n<HEAD>\n<TITLE></TITLE>\n</HEAD>\n<BODY>\n<h3>Bradley Bunch vs
	. Team Nice Friends</h3>Plus d'info : <a href="https://www.golnetwork.com/g
	ame/v/72792/">#83</a>\n\n</BODY>\n</HTML>
STATUS:CONFIRMED
CLASS:PUBLIC
URL:https://www.golnetwork.com/game/v/72792/
X-MICROSOFT-CDO-BUSYSTATUS:BUSY
X-MICROSOFT-CDO-IMPORTANCE:1
END:VEVENT
BEGIN:VEVENT
UID:g7dc2@games.golnetwork.com
LOCATION:Lamport Stadium - Field 3
GEO:43.6390028;-79.4232104
CREATED:20150713T151431Z
DTSTART:20150809T210000Z
DTEND:20150809T220000Z
DTSTAMP:20260422T073452Z
SUMMARY:Team Nice Friends vs. Victorious Secret
DESCRIPTION:Victorious Secret vs. Team Nice FriendsPlus d'info : #193
X-ALT-DESC;FMTTYPE=text/html:<!DOCTYPE HTML PUBLIC "-//W3C//DTD HTML 3.2//E
	N">\n<HTML>\n<HEAD>\n<TITLE></TITLE>\n</HEAD>\n<BODY>\n<h3>Victorious Secre
	t vs. Team Nice Friends</h3>Plus d'info : <a href="https://www.golnetwork.c
	om/game/v/72793/">#193</a>\n\n</BODY>\n</HTML>
STATUS:CONFIRMED
CLASS:PUBLIC
URL:https://www.golnetwork.com/game/v/72793/
X-MICROSOFT-CDO-BUSYSTATUS:BUSY
X-MICROSOFT-CDO-IMPORTANCE:1
END:VEVENT
BEGIN:VEVENT
UID:g7dc4@games.golnetwork.com
LOCATION:Lamport Stadium - Field 3
GEO:43.6390028;-79.4232104
CREATED:20150713T151431Z
DTSTART:20150810T000000Z
DTEND:20150810T010000Z
DTSTAMP:20260422T073452Z
SUMMARY:Bradley Bunch vs. XTSC Internationals
DESCRIPTION:XTSC Internationals vs. Bradley BunchPlus d'info : #203
X-ALT-DESC;FMTTYPE=text/html:<!DOCTYPE HTML PUBLIC "-//W3C//DTD HTML 3.2//E
	N">\n<HTML>\n<HEAD>\n<TITLE></TITLE>\n</HEAD>\n<BODY>\n<h3>XTSC Internation
	als vs. Bradley Bunch</h3>Plus d'info : <a href="https://www.golnetwork.com
	/game/v/72794/">#203</a>\n\n</BODY>\n</HTML>
STATUS:CONFIRMED
CLASS:PUBLIC
URL:https://www.golnetwork.com/game/v/72794/
X-MICROSOFT-CDO-BUSYSTATUS:BUSY
X-MICROSOFT-CDO-IMPORTANCE:1
END:VEVENT
BEGIN:VEVENT
UID:g7dc6@games.golnetwork.com
LOCATION:Lamport Stadium - Field 3
GEO:43.6390028;-79.4232104
CREATED:20150713T151431Z
DTSTART:20150810T010000Z
DTEND:20150810T020000Z
DTSTAMP:20260422T073452Z
SUMMARY:Loose Cannons vs. Moocho GrassyAss FC
DESCRIPTION:Moocho GrassyAss FC vs. Loose CannonsPlus d'info : #205
X-ALT-DESC;FMTTYPE=text/html:<!DOCTYPE HTML PUBLIC "-//W3C//DTD HTML 3.2//E
	N">\n<HTML>\n<HEAD>\n<TITLE></TITLE>\n</HEAD>\n<BODY>\n<h3>Moocho GrassyAss
	 FC vs. Loose Cannons</h3>Plus d'info : <a href="https://www.golnetwork.com
	/game/v/72795/">#205</a>\n\n</BODY>\n</HTML>
STATUS:CONFIRMED
CLASS:PUBLIC
URL:https://www.golnetwork.com/game/v/72795/
X-MICROSOFT-CDO-BUSYSTATUS:BUSY
X-MICROSOFT-CDO-IMPORTANCE:1
END:VEVENT
BEGIN:VEVENT
UID:g7dc8@games.golnetwork.com
LOCATION:Lamport Stadium - Field 2
GEO:43.6390028;-79.4232104
CREATED:20150713T151431Z
DTSTART:20150810T020000Z
DTEND:20150810T030000Z
DTSTAMP:20260422T073452Z
SUMMARY:Tree FC vs. FreshBooks FC
DESCRIPTION:FreshBooks FC vs. Tree FCPlus d'info : #206
X-ALT-DESC;FMTTYPE=text/html:<!DOCTYPE HTML PUBLIC "-//W3C//DTD HTML 3.2//E
	N">\n<HTML>\n<HEAD>\n<TITLE></TITLE>\n</HEAD>\n<BODY>\n<h3>FreshBooks FC vs
	. Tree FC</h3>Plus d'info : <a href="https://www.golnetwork.com/game/v/7279
	6/">#206</a>\n\n</BODY>\n</HTML>
STATUS:CONFIRMED
CLASS:PUBLIC
URL:https://www.golnetwork.com/game/v/72796/
X-MICROSOFT-CDO-BUSYSTATUS:BUSY
X-MICROSOFT-CDO-IMPORTANCE:1
END:VEVENT
BEGIN:VEVENT
UID:g7dca@games.golnetwork.com
LOCATION:Lamport Stadium - Field 2
GEO:43.6390028;-79.4232104
CREATED:20150713T151431Z
DTSTART:20150816T210000Z
DTEND:20150816T220000Z
DTSTAMP:20260422T073452Z
SUMMARY:Victorious Secret vs. Bradley Bunch
DESCRIPTION:Bradley Bunch vs. Victorious SecretPlus d'info : #247
X-ALT-DESC;FMTTYPE=text/html:<!DOCTYPE HTML PUBLIC "-//W3C//DTD HTML 3.2//E
	N">\n<HTML>\n<HEAD>\n<TITLE></TITLE>\n</HEAD>\n<BODY>\n<h3>Bradley Bunch vs
	. Victorious Secret</h3>Plus d'info : <a href="https://www.golnetwork.com/g
	ame/v/72797/">#247</a>\n\n</BODY>\n</HTML>
STATUS:CONFIRMED
CLASS:PUBLIC
URL:https://www.golnetwork.com/game/v/72797/
X-MICROSOFT-CDO-BUSYSTATUS:BUSY
X-MICROSOFT-CDO-IMPORTANCE:1
END:VEVENT
BEGIN:VEVENT
UID:g7dcc@games.golnetwork.com
LOCATION:Lamport Stadium - Field 3
GEO:43.6390028;-79.4232104
CREATED:20150713T151431Z
DTSTART:20150816T210000Z
DTEND:20150816T220000Z
DTSTAMP:20260422T073452Z
SUMMARY:Loose Cannons vs. Team Nice Friends
DESCRIPTION:Team Nice Friends vs. Loose CannonsPlus d'info : #248
X-ALT-DESC;FMTTYPE=text/html:<!DOCTYPE HTML PUBLIC "-//W3C//DTD HTML 3.2//E
	N">\n<HTML>\n<HEAD>\n<TITLE></TITLE>\n</HEAD>\n<BODY>\n<h3>Team Nice Friend
	s vs. Loose Cannons</h3>Plus d'info : <a href="https://www.golnetwork.com/g
	ame/v/72798/">#248</a>\n\n</BODY>\n</HTML>
STATUS:CONFIRMED
CLASS:PUBLIC
URL:https://www.golnetwork.com/game/v/72798/
X-MICROSOFT-CDO-BUSYSTATUS:BUSY
X-MICROSOFT-CDO-IMPORTANCE:1
END:VEVENT
BEGIN:VEVENT
UID:g7dee@games.golnetwork.com
LOCATION:Lamport Stadium - Field 3
GEO:43.6390028;-79.4232104
CREATED:20150713T152317Z
DTSTART:20150816T220000Z
DTEND:20150816T225000Z
DTSTAMP:20260422T073452Z
SUMMARY:Loose Cannons vs. XTSC Internationals
DESCRIPTION:XTSC Internationals vs. Loose CannonsPlus d'info : #251
X-ALT-DESC;FMTTYPE=text/html:<!DOCTYPE HTML PUBLIC "-//W3C//DTD HTML 3.2//E
	N">\n<HTML>\n<HEAD>\n<TITLE></TITLE>\n</HEAD>\n<BODY>\n<h3>XTSC Internation
	als vs. Loose Cannons</h3>Plus d'info : <a href="https://www.golnetwork.com
	/game/v/72826/">#251</a>\n\n</BODY>\n</HTML>
STATUS:CONFIRMED
CLASS:PUBLIC
URL:https://www.golnetwork.com/game/v/72826/
X-MICROSOFT-CDO-BUSYSTATUS:BUSY
X-MICROSOFT-CDO-IMPORTANCE:1
END:VEVENT
BEGIN:VEVENT
UID:g7dce@games.golnetwork.com
LOCATION:Lamport Stadium - Field 3
GEO:43.6390028;-79.4232104
CREATED:20150713T151431Z
DTSTART:20150816T230000Z
DTEND:20150817T000000Z
DTSTAMP:20260422T073452Z
SUMMARY:Tree FC vs. XTSC Internationals
DESCRIPTION:XTSC Internationals vs. Tree FCPlus d'info : #254
X-ALT-DESC;FMTTYPE=text/html:<!DOCTYPE HTML PUBLIC "-//W3C//DTD HTML 3.2//E
	N">\n<HTML>\n<HEAD>\n<TITLE></TITLE>\n</HEAD>\n<BODY>\n<h3>XTSC Internation
	als vs. Tree FC</h3>Plus d'info : <a href="https://www.golnetwork.com/game/
	v/72799/">#254</a>\n\n</BODY>\n</HTML>
STATUS:CONFIRMED
CLASS:PUBLIC
URL:https://www.golnetwork.com/game/v/72799/
X-MICROSOFT-CDO-BUSYSTATUS:BUSY
X-MICROSOFT-CDO-IMPORTANCE:1
END:VEVENT
BEGIN:VEVENT
UID:g7dcg@games.golnetwork.com
LOCATION:Lamport Stadium - Field 2
GEO:43.6390028;-79.4232104
CREATED:20150713T151431Z
DTSTART:20150817T020000Z
DTEND:20150817T030000Z
DTSTAMP:20260422T073452Z
SUMMARY:FreshBooks FC vs. Moocho GrassyAss FC
DESCRIPTION:Moocho GrassyAss FC vs. FreshBooks FCPlus d'info : #260
X-ALT-DESC;FMTTYPE=text/html:<!DOCTYPE HTML PUBLIC "-//W3C//DTD HTML 3.2//E
	N">\n<HTML>\n<HEAD>\n<TITLE></TITLE>\n</HEAD>\n<BODY>\n<h3>Moocho GrassyAss
	 FC vs. FreshBooks FC</h3>Plus d'info : <a href="https://www.golnetwork.com
	/game/v/72800/">#260</a>\n\n</BODY>\n</HTML>
STATUS:CONFIRMED
CLASS:PUBLIC
URL:https://www.golnetwork.com/game/v/72800/
X-MICROSOFT-CDO-BUSYSTATUS:BUSY
X-MICROSOFT-CDO-IMPORTANCE:1
END:VEVENT
BEGIN:VEVENT
UID:g7dco@games.golnetwork.com
LOCATION:Lamport Stadium - Field 3
GEO:43.6390028;-79.4232104
CREATED:20150713T151431Z
DTSTART:20150823T210000Z
DTEND:20150823T220000Z
DTSTAMP:20260422T073452Z
SUMMARY:Moocho GrassyAss FC vs. XTSC Internationals
DESCRIPTION:XTSC Internationals vs. Moocho GrassyAss FCPlus d'info : #302
X-ALT-DESC;FMTTYPE=text/html:<!DOCTYPE HTML PUBLIC "-//W3C//DTD HTML 3.2//E
	N">\n<HTML>\n<HEAD>\n<TITLE></TITLE>\n</HEAD>\n<BODY>\n<h3>XTSC Internation
	als vs. Moocho GrassyAss FC</h3>Plus d'info : <a href="https://www.golnetwo
	rk.com/game/v/72804/">#302</a>\n\n</BODY>\n</HTML>
STATUS:CONFIRMED
CLASS:PUBLIC
URL:https://www.golnetwork.com/game/v/72804/
X-MICROSOFT-CDO-BUSYSTATUS:BUSY
X-MICROSOFT-CDO-IMPORTANCE:1
END:VEVENT
BEGIN:VEVENT
UID:g7dcm@games.golnetwork.com
LOCATION:Lamport Stadium - Field 3
GEO:43.6390028;-79.4232104
CREATED:20150713T151431Z
DTSTART:20150824T000000Z
DTEND:20150824T010000Z
DTSTAMP:20260422T073452Z
SUMMARY:FreshBooks FC vs. Team Nice Friends
DESCRIPTION:Team Nice Friends vs. FreshBooks FCPlus d'info : #313
X-ALT-DESC;FMTTYPE=text/html:<!DOCTYPE HTML PUBLIC "-//W3C//DTD HTML 3.2//E
	N">\n<HTML>\n<HEAD>\n<TITLE></TITLE>\n</HEAD>\n<BODY>\n<h3>Team Nice Friend
	s vs. FreshBooks FC</h3>Plus d'info : <a href="https://www.golnetwork.com/g
	ame/v/72803/">#313</a>\n\n</BODY>\n</HTML>
STATUS:CONFIRMED
CLASS:PUBLIC
URL:https://www.golnetwork.com/game/v/72803/
X-MICROSOFT-CDO-BUSYSTATUS:BUSY
X-MICROSOFT-CDO-IMPORTANCE:1
END:VEVENT
BEGIN:VEVENT
UID:g7dck@games.golnetwork.com
LOCATION:Lamport Stadium - Field 3
GEO:43.6390028;-79.4232104
CREATED:20150713T151431Z
DTSTART:20150824T010000Z
DTEND:20150824T020000Z
DTSTAMP:20260422T073452Z
SUMMARY:Tree FC vs. Bradley Bunch
DESCRIPTION:Bradley Bunch vs. Tree FCPlus d'info : #315
X-ALT-DESC;FMTTYPE=text/html:<!DOCTYPE HTML PUBLIC "-//W3C//DTD HTML 3.2//E
	N">\n<HTML>\n<HEAD>\n<TITLE></TITLE>\n</HEAD>\n<BODY>\n<h3>Bradley Bunch vs
	. Tree FC</h3>Plus d'info : <a href="https://www.golnetwork.com/game/v/7280
	2/">#315</a>\n\n</BODY>\n</HTML>
STATUS:CONFIRMED
CLASS:PUBLIC
URL:https://www.golnetwork.com/game/v/72802/
X-MICROSOFT-CDO-BUSYSTATUS:BUSY
X-MICROSOFT-CDO-IMPORTANCE:1
END:VEVENT
BEGIN:VEVENT
UID:g7dci@games.golnetwork.com
LOCATION:Lamport Stadium - Field 2
GEO:43.6390028;-79.4232104
CREATED:20150713T151431Z
DTSTART:20150824T020000Z
DTEND:20150824T030000Z
DTSTAMP:20260422T073452Z
SUMMARY:Loose Cannons vs. Victorious Secret
DESCRIPTION:Victorious Secret vs. Loose CannonsPlus d'info : #316
X-ALT-DESC;FMTTYPE=text/html:<!DOCTYPE HTML PUBLIC "-//W3C//DTD HTML 3.2//E
	N">\n<HTML>\n<HEAD>\n<TITLE></TITLE>\n</HEAD>\n<BODY>\n<h3>Victorious Secre
	t vs. Loose Cannons</h3>Plus d'info : <a href="https://www.golnetwork.com/g
	ame/v/72801/">#316</a>\n\n</BODY>\n</HTML>
STATUS:CONFIRMED
CLASS:PUBLIC
URL:https://www.golnetwork.com/game/v/72801/
X-MICROSOFT-CDO-BUSYSTATUS:BUSY
X-MICROSOFT-CDO-IMPORTANCE:1
END:VEVENT
BEGIN:VEVENT
UID:g7dd1@games.golnetwork.com
LOCATION:Lamport Stadium - Field 3
GEO:43.6390028;-79.4232104
CREATED:20150713T151431Z
DTSTART:20150830T210000Z
DTEND:20150830T220000Z
DTSTAMP:20260422T073452Z
SUMMARY:FreshBooks FC vs. Loose Cannons
DESCRIPTION:Loose Cannons vs. FreshBooks FCPlus d'info : #349
X-ALT-DESC;FMTTYPE=text/html:<!DOCTYPE HTML PUBLIC "-//W3C//DTD HTML 3.2//E
	N">\n<HTML>\n<HEAD>\n<TITLE></TITLE>\n</HEAD>\n<BODY>\n<h3>Loose Cannons vs
	. FreshBooks FC</h3>Plus d'info : <a href="https://www.golnetwork.com/game/
	v/72806/">#349</a>\n\n</BODY>\n</HTML>
STATUS:CONFIRMED
CLASS:PUBLIC
URL:https://www.golnetwork.com/game/v/72806/
X-MICROSOFT-CDO-BUSYSTATUS:BUSY
X-MICROSOFT-CDO-IMPORTANCE:1
END:VEVENT
BEGIN:VEVENT
UID:g7dcq@games.golnetwork.com
LOCATION:Lamport Stadium - Field 3
GEO:43.6390028;-79.4232104
CREATED:20150713T151431Z
DTSTART:20150830T220000Z
DTEND:20150830T230000Z
DTSTAMP:20260422T073452Z
SUMMARY:Victorious Secret vs. Tree FC
DESCRIPTION:Tree FC vs. Victorious SecretPlus d'info : #355
X-ALT-DESC;FMTTYPE=text/html:<!DOCTYPE HTML PUBLIC "-//W3C//DTD HTML 3.2//E
	N">\n<HTML>\n<HEAD>\n<TITLE></TITLE>\n</HEAD>\n<BODY>\n<h3>Tree FC vs. Vict
	orious Secret</h3>Plus d'info : <a href="https://www.golnetwork.com/game/v/
	72805/">#355</a>\n\n</BODY>\n</HTML>
STATUS:CONFIRMED
CLASS:PUBLIC
URL:https://www.golnetwork.com/game/v/72805/
X-MICROSOFT-CDO-BUSYSTATUS:BUSY
X-MICROSOFT-CDO-IMPORTANCE:1
END:VEVENT
BEGIN:VEVENT
UID:g7dd3@games.golnetwork.com
LOCATION:Lamport Stadium - Field 3
GEO:43.6390028;-79.4232104
CREATED:20150713T151431Z
DTSTART:20150830T230000Z
DTEND:20150831T000000Z
DTSTAMP:20260422T073452Z
SUMMARY:Moocho GrassyAss FC vs. Bradley Bunch
DESCRIPTION:Bradley Bunch vs. Moocho GrassyAss FCPlus d'info : #359
X-ALT-DESC;FMTTYPE=text/html:<!DOCTYPE HTML PUBLIC "-//W3C//DTD HTML 3.2//E
	N">\n<HTML>\n<HEAD>\n<TITLE></TITLE>\n</HEAD>\n<BODY>\n<h3>Bradley Bunch vs
	. Moocho GrassyAss FC</h3>Plus d'info : <a href="https://www.golnetwork.com
	/game/v/72807/">#359</a>\n\n</BODY>\n</HTML>
STATUS:CONFIRMED
CLASS:PUBLIC
URL:https://www.golnetwork.com/game/v/72807/
X-MICROSOFT-CDO-BUSYSTATUS:BUSY
X-MICROSOFT-CDO-IMPORTANCE:1
END:VEVENT
BEGIN:VEVENT
UID:g7dd5@games.golnetwork.com
LOCATION:Lamport Stadium - Field 2
GEO:43.6390028;-79.4232104
CREATED:20150713T151431Z
DTSTART:20150831T020000Z
DTEND:20150831T030000Z
DTSTAMP:20260422T073452Z
SUMMARY:XTSC Internationals vs. Team Nice Friends
DESCRIPTION:Team Nice Friends vs. XTSC InternationalsPlus d'info : #366
X-ALT-DESC;FMTTYPE=text/html:<!DOCTYPE HTML PUBLIC "-//W3C//DTD HTML 3.2//E
	N">\n<HTML>\n<HEAD>\n<TITLE></TITLE>\n</HEAD>\n<BODY>\n<h3>Team Nice Friend
	s vs. XTSC Internationals</h3>Plus d'info : <a href="https://www.golnetwork
	.com/game/v/72808/">#366</a>\n\n</BODY>\n</HTML>
STATUS:CONFIRMED
CLASS:PUBLIC
URL:https://www.golnetwork.com/game/v/72808/
X-MICROSOFT-CDO-BUSYSTATUS:BUSY
X-MICROSOFT-CDO-IMPORTANCE:1
END:VEVENT
BEGIN:VEVENT
UID:g7ddd@games.golnetwork.com
LOCATION:Lamport Stadium - Field 3
GEO:43.6390028;-79.4232104
CREATED:20150713T151431Z
DTSTART:20150913T210000Z
DTEND:20150913T220000Z
DTSTAMP:20260422T073452Z
SUMMARY:XTSC Internationals vs. FreshBooks FC
DESCRIPTION:FreshBooks FC vs. XTSC InternationalsPlus d'info : #417
X-ALT-DESC;FMTTYPE=text/html:<!DOCTYPE HTML PUBLIC "-//W3C//DTD HTML 3.2//E
	N">\n<HTML>\n<HEAD>\n<TITLE></TITLE>\n</HEAD>\n<BODY>\n<h3>FreshBooks FC vs
	. XTSC Internationals</h3>Plus d'info : <a href="https://www.golnetwork.com
	/game/v/72812/">#417</a>\n\n</BODY>\n</HTML>
STATUS:CONFIRMED
CLASS:PUBLIC
URL:https://www.golnetwork.com/game/v/72812/
X-MICROSOFT-CDO-BUSYSTATUS:BUSY
X-MICROSOFT-CDO-IMPORTANCE:1
END:VEVENT
BEGIN:VEVENT
UID:g7dd7@games.golnetwork.com
LOCATION:Lamport Stadium - Field 3
GEO:43.6390028;-79.4232104
CREATED:20150713T151431Z
DTSTART:20150914T000000Z
DTEND:20150914T010000Z
DTSTAMP:20260422T073452Z
SUMMARY:Moocho GrassyAss FC vs. Victorious Secret
DESCRIPTION:Victorious Secret vs. Moocho GrassyAss FCPlus d'info : #426
X-ALT-DESC;FMTTYPE=text/html:<!DOCTYPE HTML PUBLIC "-//W3C//DTD HTML 3.2//E
	N">\n<HTML>\n<HEAD>\n<TITLE></TITLE>\n</HEAD>\n<BODY>\n<h3>Victorious Secre
	t vs. Moocho GrassyAss FC</h3>Plus d'info : <a href="https://www.golnetwork
	.com/game/v/72809/">#426</a>\n\n</BODY>\n</HTML>
STATUS:CONFIRMED
CLASS:PUBLIC
URL:https://www.golnetwork.com/game/v/72809/
X-MICROSOFT-CDO-BUSYSTATUS:BUSY
X-MICROSOFT-CDO-IMPORTANCE:1
END:VEVENT
BEGIN:VEVENT
UID:g7dd9@games.golnetwork.com
LOCATION:Lamport Stadium - Field 3
GEO:43.6390028;-79.4232104
CREATED:20150713T151431Z
DTSTART:20150914T010000Z
DTEND:20150914T020000Z
DTSTAMP:20260422T073452Z
SUMMARY:Tree FC vs. Team Nice Friends
DESCRIPTION:Team Nice Friends vs. Tree FCPlus d'info : #428
X-ALT-DESC;FMTTYPE=text/html:<!DOCTYPE HTML PUBLIC "-//W3C//DTD HTML 3.2//E
	N">\n<HTML>\n<HEAD>\n<TITLE></TITLE>\n</HEAD>\n<BODY>\n<h3>Team Nice Friend
	s vs. Tree FC</h3>Plus d'info : <a href="https://www.golnetwork.com/game/v/
	72810/">#428</a>\n\n</BODY>\n</HTML>
STATUS:CONFIRMED
CLASS:PUBLIC
URL:https://www.golnetwork.com/game/v/72810/
X-MICROSOFT-CDO-BUSYSTATUS:BUSY
X-MICROSOFT-CDO-IMPORTANCE:1
END:VEVENT
BEGIN:VEVENT
UID:g7ddb@games.golnetwork.com
LOCATION:Lamport Stadium - Field 2
GEO:43.6390028;-79.4232104
CREATED:20150713T151431Z
DTSTART:20150914T020000Z
DTEND:20150914T030000Z
DTSTAMP:20260422T073452Z
SUMMARY:Bradley Bunch vs. Loose Cannons
DESCRIPTION:Loose Cannons vs. Bradley BunchPlus d'info : #429
X-ALT-DESC;FMTTYPE=text/html:<!DOCTYPE HTML PUBLIC "-//W3C//DTD HTML 3.2//E
	N">\n<HTML>\n<HEAD>\n<TITLE></TITLE>\n</HEAD>\n<BODY>\n<h3>Loose Cannons vs
	. Bradley Bunch</h3>Plus d'info : <a href="https://www.golnetwork.com/game/
	v/72811/">#429</a>\n\n</BODY>\n</HTML>
STATUS:CONFIRMED
CLASS:PUBLIC
URL:https://www.golnetwork.com/game/v/72811/
X-MICROSOFT-CDO-BUSYSTATUS:BUSY
X-MICROSOFT-CDO-IMPORTANCE:1
END:VEVENT
BEGIN:VEVENT
UID:g7ddl@games.golnetwork.com
LOCATION:Lamport Stadium - Field 3
GEO:43.6390028;-79.4232104
CREATED:20150713T151431Z
DTSTART:20150920T210000Z
DTEND:20150920T220000Z
DTSTAMP:20260422T073452Z
SUMMARY:Tree FC vs. Loose Cannons
DESCRIPTION:Loose Cannons vs. Tree FCPlus d'info : #441
X-ALT-DESC;FMTTYPE=text/html:<!DOCTYPE HTML PUBLIC "-//W3C//DTD HTML 3.2//E
	N">\n<HTML>\n<HEAD>\n<TITLE></TITLE>\n</HEAD>\n<BODY>\n<h3>Loose Cannons vs
	. Tree FC</h3>Plus d'info : <a href="https://www.golnetwork.com/game/v/7281
	6/">#441</a>\n\n</BODY>\n</HTML>
STATUS:CONFIRMED
CLASS:PUBLIC
URL:https://www.golnetwork.com/game/v/72816/
X-MICROSOFT-CDO-BUSYSTATUS:BUSY
X-MICROSOFT-CDO-IMPORTANCE:1
END:VEVENT
BEGIN:VEVENT
UID:g7ddj@games.golnetwork.com
LOCATION:Lamport Stadium - Field 3
GEO:43.6390028;-79.4232104
CREATED:20150713T151431Z
DTSTART:20150920T220000Z
DTEND:20150920T230000Z
DTSTAMP:20260422T073452Z
SUMMARY:FreshBooks FC vs. Bradley Bunch
DESCRIPTION:Bradley Bunch vs. FreshBooks FCPlus d'info : #445
X-ALT-DESC;FMTTYPE=text/html:<!DOCTYPE HTML PUBLIC "-//W3C//DTD HTML 3.2//E
	N">\n<HTML>\n<HEAD>\n<TITLE></TITLE>\n</HEAD>\n<BODY>\n<h3>Bradley Bunch vs
	. FreshBooks FC</h3>Plus d'info : <a href="https://www.golnetwork.com/game/
	v/72815/">#445</a>\n\n</BODY>\n</HTML>
STATUS:CONFIRMED
CLASS:PUBLIC
URL:https://www.golnetwork.com/game/v/72815/
X-MICROSOFT-CDO-BUSYSTATUS:BUSY
X-MICROSOFT-CDO-IMPORTANCE:1
END:VEVENT
BEGIN:VEVENT
UID:g7ddh@games.golnetwork.com
LOCATION:Lamport Stadium - Field 3
GEO:43.6390028;-79.4232104
CREATED:20150713T151431Z
DTSTART:20150920T230000Z
DTEND:20150921T000000Z
DTSTAMP:20260422T073452Z
SUMMARY:Team Nice Friends vs. Moocho GrassyAss FC
DESCRIPTION:Moocho GrassyAss FC vs. Team Nice FriendsPlus d'info : #447
X-ALT-DESC;FMTTYPE=text/html:<!DOCTYPE HTML PUBLIC "-//W3C//DTD HTML 3.2//E
	N">\n<HTML>\n<HEAD>\n<TITLE></TITLE>\n</HEAD>\n<BODY>\n<h3>Moocho GrassyAss
	 FC vs. Team Nice Friends</h3>Plus d'info : <a href="https://www.golnetwork
	.com/game/v/72814/">#447</a>\n\n</BODY>\n</HTML>
STATUS:CONFIRMED
CLASS:PUBLIC
URL:https://www.golnetwork.com/game/v/72814/
X-MICROSOFT-CDO-BUSYSTATUS:BUSY
X-MICROSOFT-CDO-IMPORTANCE:1
END:VEVENT
BEGIN:VEVENT
UID:g7ddf@games.golnetwork.com
LOCATION:Lamport Stadium - Field 2
GEO:43.6390028;-79.4232104
CREATED:20150713T151431Z
DTSTART:20150921T020000Z
DTEND:20150921T030000Z
DTSTAMP:20260422T073452Z
SUMMARY:XTSC Internationals vs. Victorious Secret
DESCRIPTION:Victorious Secret vs. XTSC InternationalsPlus d'info : #452
X-ALT-DESC;FMTTYPE=text/html:<!DOCTYPE HTML PUBLIC "-//W3C//DTD HTML 3.2//E
	N">\n<HTML>\n<HEAD>\n<TITLE></TITLE>\n</HEAD>\n<BODY>\n<h3>Victorious Secre
	t vs. XTSC Internationals</h3>Plus d'info : <a href="https://www.golnetwork
	.com/game/v/72813/">#452</a>\n\n</BODY>\n</HTML>
STATUS:CONFIRMED
CLASS:PUBLIC
URL:https://www.golnetwork.com/game/v/72813/
X-MICROSOFT-CDO-BUSYSTATUS:BUSY
X-MICROSOFT-CDO-IMPORTANCE:1
END:VEVENT
BEGIN:VEVENT
UID:g7ddn@games.golnetwork.com
LOCATION:Lamport Stadium - Field 3
GEO:43.6390028;-79.4232104
CREATED:20150713T151431Z
DTSTART:20150927T210000Z
DTEND:20150927T220000Z
DTSTAMP:20260422T073452Z
SUMMARY:Loose Cannons vs. XTSC Internationals
DESCRIPTION:XTSC Internationals vs. Loose CannonsPlus d'info : #464
X-ALT-DESC;FMTTYPE=text/html:<!DOCTYPE HTML PUBLIC "-//W3C//DTD HTML 3.2//E
	N">\n<HTML>\n<HEAD>\n<TITLE></TITLE>\n</HEAD>\n<BODY>\n<h3>XTSC Internation
	als vs. Loose Cannons</h3>Plus d'info : <a href="https://www.golnetwork.com
	/game/v/72817/">#464</a>\n\n</BODY>\n</HTML>
STATUS:CONFIRMED
CLASS:PUBLIC
URL:https://www.golnetwork.com/game/v/72817/
X-MICROSOFT-CDO-BUSYSTATUS:BUSY
X-MICROSOFT-CDO-IMPORTANCE:1
END:VEVENT
BEGIN:VEVENT
UID:g7de2@games.golnetwork.com
LOCATION:Lamport Stadium - Field 2
GEO:43.6390028;-79.4232104
CREATED:20150713T151431Z
DTSTART:20150928T020000Z
DTEND:20150928T030000Z
DTSTAMP:20260422T073452Z
SUMMARY:Victorious Secret vs. Bradley Bunch
DESCRIPTION:Bradley Bunch vs. Victorious SecretPlus d'info : #475
X-ALT-DESC;FMTTYPE=text/html:<!DOCTYPE HTML PUBLIC "-//W3C//DTD HTML 3.2//E
	N">\n<HTML>\n<HEAD>\n<TITLE></TITLE>\n</HEAD>\n<BODY>\n<h3>Bradley Bunch vs
	. Victorious Secret</h3>Plus d'info : <a href="https://www.golnetwork.com/g
	ame/v/72820/">#475</a>\n\n</BODY>\n</HTML>
STATUS:CONFIRMED
CLASS:PUBLIC
URL:https://www.golnetwork.com/game/v/72820/
X-MICROSOFT-CDO-BUSYSTATUS:BUSY
X-MICROSOFT-CDO-IMPORTANCE:1
END:VEVENT
BEGIN:VEVENT
UID:g7de4@games.golnetwork.com
LOCATION:Lamport Stadium - Field 3
GEO:43.6390028;-79.4232104
CREATED:20150713T151431Z
DTSTART:20151004T210000Z
DTEND:20151004T220000Z
DTSTAMP:20260422T073452Z
SUMMARY:Victorious Secret vs. XTSC Internationals
DESCRIPTION:XTSC Internationals vs. Victorious SecretPlus d'info : #481
X-ALT-DESC;FMTTYPE=text/html:<!DOCTYPE HTML PUBLIC "-//W3C//DTD HTML 3.2//E
	N">\n<HTML>\n<HEAD>\n<TITLE></TITLE>\n</HEAD>\n<BODY>\n<h3>XTSC Internation
	als vs. Victorious Secret</h3>Plus d'info : <a href="https://www.golnetwork
	.com/game/v/72821/">#481</a>\n\n</BODY>\n</HTML>
STATUS:CONFIRMED
CLASS:PUBLIC
URL:https://www.golnetwork.com/game/v/72821/
X-MICROSOFT-CDO-BUSYSTATUS:BUSY
X-MICROSOFT-CDO-IMPORTANCE:1
END:VEVENT
BEGIN:VEVENT
UID:g7de6@games.golnetwork.com
LOCATION:Lamport Stadium - Field 3
GEO:43.6390028;-79.4232104
CREATED:20150713T151431Z
DTSTART:20151004T220000Z
DTEND:20151004T230000Z
DTSTAMP:20260422T073452Z
SUMMARY:Loose Cannons vs. Bradley Bunch
DESCRIPTION:Bradley Bunch vs. Loose CannonsPlus d'info : #485
X-ALT-DESC;FMTTYPE=text/html:<!DOCTYPE HTML PUBLIC "-//W3C//DTD HTML 3.2//E
	N">\n<HTML>\n<HEAD>\n<TITLE></TITLE>\n</HEAD>\n<BODY>\n<h3>Bradley Bunch vs
	. Loose Cannons</h3>Plus d'info : <a href="https://www.golnetwork.com/game/
	v/72822/">#485</a>\n\n</BODY>\n</HTML>
STATUS:CONFIRMED
CLASS:PUBLIC
URL:https://www.golnetwork.com/game/v/72822/
X-MICROSOFT-CDO-BUSYSTATUS:BUSY
X-MICROSOFT-CDO-IMPORTANCE:1
END:VEVENT
BEGIN:VEVENT
UID:g7dea@games.golnetwork.com
LOCATION:Lamport Stadium - Field 2
GEO:43.6390028;-79.4232104
CREATED:20150713T151431Z
DTSTART:20151005T020000Z
DTEND:20151005T030000Z
DTSTAMP:20260422T073452Z
SUMMARY:Moocho GrassyAss FC vs. Team Nice Friends
DESCRIPTION:Team Nice Friends vs. Moocho GrassyAss FCPlus d'info : #492
X-ALT-DESC;FMTTYPE=text/html:<!DOCTYPE HTML PUBLIC "-//W3C//DTD HTML 3.2//E
	N">\n<HTML>\n<HEAD>\n<TITLE></TITLE>\n</HEAD>\n<BODY>\n<h3>Team Nice Friend
	s vs. Moocho GrassyAss FC</h3>Plus d'info : <a href="https://www.golnetwork
	.com/game/v/72824/">#492</a>\n\n</BODY>\n</HTML>
STATUS:CONFIRMED
CLASS:PUBLIC
URL:https://www.golnetwork.com/game/v/72824/
X-MICROSOFT-CDO-BUSYSTATUS:BUSY
X-MICROSOFT-CDO-IMPORTANCE:1
END:VEVENT
END:VCALENDAR
