BEGIN:VCALENDAR
PRODID:-//gdesolutions.com//MV Framework 1.0.0.1607 Calendar//EN
VERSION:2.0
METHOD:PUBLISH
CALSCALE:GREGORIAN
BEGIN:VEVENT
UID:g7d2g@games.golnetwork.com
LOCATION:Lamport Stadium - Field 3
GEO:43.6390028;-79.4232104
CREATED:20150710T151513Z
DTSTART:20150928T000000Z
DTEND:20150928T005000Z
DTSTAMP:20260420T145653Z
SUMMARY:FreshBooks FC vs. Team Nice Friends
DESCRIPTION:Team Nice Friends vs. FreshBooks FCPlus d'info : #472
X-ALT-DESC;FMTTYPE=text/html:<!DOCTYPE HTML PUBLIC "-//W3C//DTD HTML 3.2//E
	N">\n<HTML>\n<HEAD>\n<TITLE></TITLE>\n</HEAD>\n<BODY>\n<h3>Team Nice Friend
	s vs. FreshBooks FC</h3>Plus d'info : <a href="https://www.golnetwork.com/g
	ame/v/72665/">#472</a>\n\n</BODY>\n</HTML>
STATUS:CONFIRMED
CLASS:PUBLIC
URL:https://www.golnetwork.com/game/v/72665/
X-MICROSOFT-CDO-BUSYSTATUS:BUSY
X-MICROSOFT-CDO-IMPORTANCE:1
END:VEVENT
BEGIN:VEVENT
UID:g7d2i@games.golnetwork.com
LOCATION:Lamport Stadium - Field 3
GEO:43.6390028;-79.4232104
CREATED:20150710T151513Z
DTSTART:20150928T010000Z
DTEND:20150928T015000Z
DTSTAMP:20260420T145653Z
SUMMARY:Tree FC vs. Moocho GrassyAss FC
DESCRIPTION:Moocho GrassyAss FC vs. Tree FCPlus d'info : #474
X-ALT-DESC;FMTTYPE=text/html:<!DOCTYPE HTML PUBLIC "-//W3C//DTD HTML 3.2//E
	N">\n<HTML>\n<HEAD>\n<TITLE></TITLE>\n</HEAD>\n<BODY>\n<h3>Moocho GrassyAss
	 FC vs. Tree FC</h3>Plus d'info : <a href="https://www.golnetwork.com/game/
	v/72666/">#474</a>\n\n</BODY>\n</HTML>
STATUS:CONFIRMED
CLASS:PUBLIC
URL:https://www.golnetwork.com/game/v/72666/
X-MICROSOFT-CDO-BUSYSTATUS:BUSY
X-MICROSOFT-CDO-IMPORTANCE:1
END:VEVENT
BEGIN:VEVENT
UID:g7d2k@games.golnetwork.com
LOCATION:Lamport Stadium - Field 3
GEO:43.6390028;-79.4232104
CREATED:20150710T151513Z
DTSTART:20151004T230000Z
DTEND:20151004T235000Z
DTSTAMP:20260420T145653Z
SUMMARY:Tree FC vs. FreshBooks FC
DESCRIPTION:FreshBooks FC vs. Tree FCPlus d'info : #487
X-ALT-DESC;FMTTYPE=text/html:<!DOCTYPE HTML PUBLIC "-//W3C//DTD HTML 3.2//E
	N">\n<HTML>\n<HEAD>\n<TITLE></TITLE>\n</HEAD>\n<BODY>\n<h3>FreshBooks FC vs
	. Tree FC</h3>Plus d'info : <a href="https://www.golnetwork.com/game/v/7266
	7/">#487</a>\n\n</BODY>\n</HTML>
STATUS:CONFIRMED
CLASS:PUBLIC
URL:https://www.golnetwork.com/game/v/72667/
X-MICROSOFT-CDO-BUSYSTATUS:BUSY
X-MICROSOFT-CDO-IMPORTANCE:1
END:VEVENT
END:VCALENDAR
