BEGIN:VCALENDAR
PRODID:-//gdesolutions.com//MV Framework 1.0.0.1607 Calendar//EN
VERSION:2.0
METHOD:PUBLISH
CALSCALE:GREGORIAN
BEGIN:VEVENT
UID:g7d8c@games.golnetwork.com
LOCATION:Lamport Stadium - Field 3
GEO:43.6390028;-79.4232104
CREATED:20150710T152052Z
DTSTART:20150927T220000Z
DTEND:20150927T225000Z
DTSTAMP:20260422T073002Z
SUMMARY:Boogie Time United vs. Kensington Tours United
DESCRIPTION:Kensington Tours United vs. Boogie Time UnitedPlus d'info : #46
	8
X-ALT-DESC;FMTTYPE=text/html:<!DOCTYPE HTML PUBLIC "-//W3C//DTD HTML 3.2//E
	N">\n<HTML>\n<HEAD>\n<TITLE></TITLE>\n</HEAD>\n<BODY>\n<h3>Kensington Tours
	 United vs. Boogie Time United</h3>Plus d'info : <a href="https://www.golne
	twork.com/game/v/72744/">#468</a>\n\n</BODY>\n</HTML>
STATUS:CONFIRMED
CLASS:PUBLIC
URL:https://www.golnetwork.com/game/v/72744/
X-MICROSOFT-CDO-BUSYSTATUS:BUSY
X-MICROSOFT-CDO-IMPORTANCE:1
END:VEVENT
BEGIN:VEVENT
UID:g7d8a@games.golnetwork.com
LOCATION:Lamport Stadium - Field 3
GEO:43.6390028;-79.4232104
CREATED:20150710T152052Z
DTSTART:20150927T230000Z
DTEND:20150927T235000Z
DTSTAMP:20260422T073002Z
SUMMARY:Tinder FC vs. bmd
DESCRIPTION:bmd vs. Tinder FCPlus d'info : #470
X-ALT-DESC;FMTTYPE=text/html:<!DOCTYPE HTML PUBLIC "-//W3C//DTD HTML 3.2//E
	N">\n<HTML>\n<HEAD>\n<TITLE></TITLE>\n</HEAD>\n<BODY>\n<h3>bmd vs. Tinder F
	C</h3>Plus d'info : <a href="https://www.golnetwork.com/game/v/72743/">#470
	</a>\n\n</BODY>\n</HTML>
STATUS:CONFIRMED
CLASS:PUBLIC
URL:https://www.golnetwork.com/game/v/72743/
X-MICROSOFT-CDO-BUSYSTATUS:BUSY
X-MICROSOFT-CDO-IMPORTANCE:1
END:VEVENT
BEGIN:VEVENT
UID:g7d8e@games.golnetwork.com
LOCATION:Lamport Stadium - Field 3
GEO:43.6390028;-79.4232104
CREATED:20150710T152052Z
DTSTART:20151005T000000Z
DTEND:20151005T005000Z
DTSTAMP:20260422T073002Z
SUMMARY:Kensington Tours United vs. Tinder FC
DESCRIPTION:Tinder FC vs. Kensington Tours UnitedPlus d'info : #489
X-ALT-DESC;FMTTYPE=text/html:<!DOCTYPE HTML PUBLIC "-//W3C//DTD HTML 3.2//E
	N">\n<HTML>\n<HEAD>\n<TITLE></TITLE>\n</HEAD>\n<BODY>\n<h3>Tinder FC vs. Ke
	nsington Tours United</h3>Plus d'info : <a href="https://www.golnetwork.com
	/game/v/72745/">#489</a>\n\n</BODY>\n</HTML>
STATUS:CONFIRMED
CLASS:PUBLIC
URL:https://www.golnetwork.com/game/v/72745/
X-MICROSOFT-CDO-BUSYSTATUS:BUSY
X-MICROSOFT-CDO-IMPORTANCE:1
END:VEVENT
END:VCALENDAR
