BEGIN:VCALENDAR
PRODID:-//gdesolutions.com//MV Framework 1.0.0.1607 Calendar//EN
VERSION:2.0
METHOD:PUBLISH
CALSCALE:GREGORIAN
BEGIN:VEVENT
UID:g7hhj@games.golnetwork.com
LOCATION:Louis Riel #3
GEO:45.4410208;-75.5715394
CREATED:20150907T175135Z
DTSTART:20150911T003000Z
DTEND:20150911T012000Z
DTSTAMP:20260420T094339Z
SUMMARY:Spartans FC vs. Dynamo FC
DESCRIPTION:Dynamo FC vs. Spartans FCPlus d'info : #9
X-ALT-DESC;FMTTYPE=text/html:<!DOCTYPE HTML PUBLIC "-//W3C//DTD HTML 3.2//E
	N">\n<HTML>\n<HEAD>\n<TITLE></TITLE>\n</HEAD>\n<BODY>\n<h3>Dynamo FC vs. Sp
	artans FC</h3>Plus d'info : <a href="https://www.golnetwork.com/game/v/7432
	7/">#9</a>\n\n</BODY>\n</HTML>
STATUS:CONFIRMED
CLASS:PUBLIC
URL:https://www.golnetwork.com/game/v/74327/
X-MICROSOFT-CDO-BUSYSTATUS:BUSY
X-MICROSOFT-CDO-IMPORTANCE:1
END:VEVENT
BEGIN:VEVENT
UID:g7hh7@games.golnetwork.com
LOCATION:Louis Riel #3
GEO:45.4410208;-75.5715394
CREATED:20150907T175134Z
DTSTART:20150911T013000Z
DTEND:20150911T022000Z
DTSTAMP:20260420T094339Z
SUMMARY:Pas l'temps de niaser vs. Flamingos
DESCRIPTION:Flamingos vs. Pas l'temps de niaserPlus d'info : #3
X-ALT-DESC;FMTTYPE=text/html:<!DOCTYPE HTML PUBLIC "-//W3C//DTD HTML 3.2//E
	N">\n<HTML>\n<HEAD>\n<TITLE></TITLE>\n</HEAD>\n<BODY>\n<h3>Flamingos vs. Pa
	s l'temps de niaser</h3>Plus d'info : <a href="https://www.golnetwork.com/g
	ame/v/74321/">#3</a>\n\n</BODY>\n</HTML>
STATUS:CONFIRMED
CLASS:PUBLIC
URL:https://www.golnetwork.com/game/v/74321/
X-MICROSOFT-CDO-BUSYSTATUS:BUSY
X-MICROSOFT-CDO-IMPORTANCE:1
END:VEVENT
BEGIN:VEVENT
UID:g7k3o@games.golnetwork.com
LOCATION:Louis Riel #3
GEO:45.4410208;-75.5715394
CREATED:20150915T062418Z
DTSTART:20150918T003000Z
DTEND:20150918T012000Z
DTSTAMP:20260420T094339Z
SUMMARY:FC AA vs. Flamingos
DESCRIPTION:Flamingos vs. FC AAPlus d'info : #24
X-ALT-DESC;FMTTYPE=text/html:<!DOCTYPE HTML PUBLIC "-//W3C//DTD HTML 3.2//E
	N">\n<HTML>\n<HEAD>\n<TITLE></TITLE>\n</HEAD>\n<BODY>\n<h3>Flamingos vs. FC
	 AA</h3>Plus d'info : <a href="https://www.golnetwork.com/game/v/75234/">#2
	4</a>\n\n</BODY>\n</HTML>
STATUS:CONFIRMED
CLASS:PUBLIC
URL:https://www.golnetwork.com/game/v/75234/
X-MICROSOFT-CDO-BUSYSTATUS:BUSY
X-MICROSOFT-CDO-IMPORTANCE:1
END:VEVENT
BEGIN:VEVENT
UID:g7hj1@games.golnetwork.com
LOCATION:Louis Riel #3
GEO:45.4410208;-75.5715394
CREATED:20150907T175136Z
DTSTART:20150918T013000Z
DTEND:20150918T022000Z
DTSTAMP:20260420T094339Z
SUMMARY:Strikers FC vs. Dynamo FC
DESCRIPTION:Dynamo FC vs. Strikers FCPlus d'info : #27
X-ALT-DESC;FMTTYPE=text/html:<!DOCTYPE HTML PUBLIC "-//W3C//DTD HTML 3.2//E
	N">\n<HTML>\n<HEAD>\n<TITLE></TITLE>\n</HEAD>\n<BODY>\n<h3>Dynamo FC vs. St
	rikers FC</h3>Plus d'info : <a href="https://www.golnetwork.com/game/v/7434
	5/">#27</a>\n\n</BODY>\n</HTML>
STATUS:CONFIRMED
CLASS:PUBLIC
URL:https://www.golnetwork.com/game/v/74345/
X-MICROSOFT-CDO-BUSYSTATUS:BUSY
X-MICROSOFT-CDO-IMPORTANCE:1
END:VEVENT
BEGIN:VEVENT
UID:g7hj7@games.golnetwork.com
LOCATION:Louis Riel #3
GEO:45.4410208;-75.5715394
CREATED:20150907T175136Z
DTSTART:20150918T023000Z
DTEND:20150918T032000Z
DTSTAMP:20260420T094339Z
SUMMARY:Spartans FC vs. Pas l'temps de niaser
DESCRIPTION:Pas l'temps de niaser vs. Spartans FCPlus d'info : #30
X-ALT-DESC;FMTTYPE=text/html:<!DOCTYPE HTML PUBLIC "-//W3C//DTD HTML 3.2//E
	N">\n<HTML>\n<HEAD>\n<TITLE></TITLE>\n</HEAD>\n<BODY>\n<h3>Pas l'temps de n
	iaser vs. Spartans FC</h3>Plus d'info : <a href="https://www.golnetwork.com
	/game/v/74348/">#30</a>\n\n</BODY>\n</HTML>
STATUS:CONFIRMED
CLASS:PUBLIC
URL:https://www.golnetwork.com/game/v/74348/
X-MICROSOFT-CDO-BUSYSTATUS:BUSY
X-MICROSOFT-CDO-IMPORTANCE:1
END:VEVENT
BEGIN:VEVENT
UID:g7hjj@games.golnetwork.com
LOCATION:Louis Riel #3
GEO:45.4410208;-75.5715394
CREATED:20150907T175136Z
DTSTART:20150924T233000Z
DTEND:20150925T002000Z
DTSTAMP:20260420T094339Z
SUMMARY:UpRise FC vs. Pas l'temps de niaser
DESCRIPTION:Pas l'temps de niaser vs. UpRise FCPlus d'info : #36
X-ALT-DESC;FMTTYPE=text/html:<!DOCTYPE HTML PUBLIC "-//W3C//DTD HTML 3.2//E
	N">\n<HTML>\n<HEAD>\n<TITLE></TITLE>\n</HEAD>\n<BODY>\n<h3>Pas l'temps de n
	iaser vs. UpRise FC</h3>Plus d'info : <a href="https://www.golnetwork.com/g
	ame/v/74354/">#36</a>\n\n</BODY>\n</HTML>
STATUS:CONFIRMED
CLASS:PUBLIC
URL:https://www.golnetwork.com/game/v/74354/
X-MICROSOFT-CDO-BUSYSTATUS:BUSY
X-MICROSOFT-CDO-IMPORTANCE:1
END:VEVENT
BEGIN:VEVENT
UID:g7k3q@games.golnetwork.com
LOCATION:Louis Riel #3
GEO:45.4410208;-75.5715394
CREATED:20150915T063538Z
DTSTART:20150925T003000Z
DTEND:20150925T012000Z
DTSTAMP:20260420T094339Z
SUMMARY:FC AA vs. Spartans FC
DESCRIPTION:Spartans FC vs. FC AAPlus d'info : #39
X-ALT-DESC;FMTTYPE=text/html:<!DOCTYPE HTML PUBLIC "-//W3C//DTD HTML 3.2//E
	N">\n<HTML>\n<HEAD>\n<TITLE></TITLE>\n</HEAD>\n<BODY>\n<h3>Spartans FC vs. 
	FC AA</h3>Plus d'info : <a href="https://www.golnetwork.com/game/v/75235/">
	#39</a>\n\n</BODY>\n</HTML>
STATUS:CONFIRMED
CLASS:PUBLIC
URL:https://www.golnetwork.com/game/v/75235/
X-MICROSOFT-CDO-BUSYSTATUS:BUSY
X-MICROSOFT-CDO-IMPORTANCE:1
END:VEVENT
BEGIN:VEVENT
UID:g7ke9@games.golnetwork.com
LOCATION:Louis Riel #3
GEO:45.4410208;-75.5715394
CREATED:20150916T025538Z
DTSTART:20150925T023000Z
DTEND:20150925T032000Z
DTSTAMP:20260420T094339Z
SUMMARY:Intermediate Individuals 1 vs. Dynamo FC
DESCRIPTION:Dynamo FC vs. Intermediate Individuals 1Plus d'info : #45
X-ALT-DESC;FMTTYPE=text/html:<!DOCTYPE HTML PUBLIC "-//W3C//DTD HTML 3.2//E
	N">\n<HTML>\n<HEAD>\n<TITLE></TITLE>\n</HEAD>\n<BODY>\n<h3>Dynamo FC vs. In
	termediate Individuals 1</h3>Plus d'info : <a href="https://www.golnetwork.
	com/game/v/75375/">#45</a>\n\n</BODY>\n</HTML>
STATUS:CONFIRMED
CLASS:PUBLIC
URL:https://www.golnetwork.com/game/v/75375/
X-MICROSOFT-CDO-BUSYSTATUS:BUSY
X-MICROSOFT-CDO-IMPORTANCE:1
END:VEVENT
BEGIN:VEVENT
UID:g7k47@games.golnetwork.com
LOCATION:Branchaud Briere Field #3
GEO:45.4982732;-75.6421544
CREATED:20150915T064538Z
DTSTART:20151002T000000Z
DTEND:20151002T005000Z
DTSTAMP:20260420T094339Z
SUMMARY:FC AA vs. Pas l'temps de niaser
DESCRIPTION:Pas l'temps de niaser vs. FC AAPlus d'info : #50
X-ALT-DESC;FMTTYPE=text/html:<!DOCTYPE HTML PUBLIC "-//W3C//DTD HTML 3.2//E
	N">\n<HTML>\n<HEAD>\n<TITLE></TITLE>\n</HEAD>\n<BODY>\n<h3>Pas l'temps de n
	iaser vs. FC AA</h3>Plus d'info : <a href="https://www.golnetwork.com/game/
	v/75239/">#50</a>\n\n</BODY>\n</HTML>
STATUS:CONFIRMED
CLASS:PUBLIC
URL:https://www.golnetwork.com/game/v/75239/
X-MICROSOFT-CDO-BUSYSTATUS:BUSY
X-MICROSOFT-CDO-IMPORTANCE:1
END:VEVENT
BEGIN:VEVENT
UID:g7hl3@games.golnetwork.com
LOCATION:Branchaud Briere Field #3
GEO:45.4982732;-75.6421544
CREATED:20150907T175137Z
DTSTART:20151002T010000Z
DTEND:20151002T015000Z
DTSTAMP:20260420T094339Z
SUMMARY:Spartans FC vs. Flamingos
DESCRIPTION:Flamingos vs. Spartans FCPlus d'info : #55
X-ALT-DESC;FMTTYPE=text/html:<!DOCTYPE HTML PUBLIC "-//W3C//DTD HTML 3.2//E
	N">\n<HTML>\n<HEAD>\n<TITLE></TITLE>\n</HEAD>\n<BODY>\n<h3>Flamingos vs. Sp
	artans FC</h3>Plus d'info : <a href="https://www.golnetwork.com/game/v/7437
	3/">#55</a>\n\n</BODY>\n</HTML>
STATUS:CONFIRMED
CLASS:PUBLIC
URL:https://www.golnetwork.com/game/v/74373/
X-MICROSOFT-CDO-BUSYSTATUS:BUSY
X-MICROSOFT-CDO-IMPORTANCE:1
END:VEVENT
BEGIN:VEVENT
UID:g7ocl@games.golnetwork.com
LOCATION:Louis Riel #3
GEO:45.4410208;-75.5715394
CREATED:20151005T221346Z
DTSTART:20151008T223000Z
DTEND:20151008T232000Z
DTSTAMP:20260420T094339Z
SUMMARY:FC AA vs. Flamingos
DESCRIPTION:Flamingos vs. FC AAPlus d'info : #3
X-ALT-DESC;FMTTYPE=text/html:<!DOCTYPE HTML PUBLIC "-//W3C//DTD HTML 3.2//E
	N">\n<HTML>\n<HEAD>\n<TITLE></TITLE>\n</HEAD>\n<BODY>\n<h3>Flamingos vs. FC
	 AA</h3>Plus d'info : <a href="https://www.golnetwork.com/game/v/76812/">#3
	</a>\n\n</BODY>\n</HTML>
STATUS:CONFIRMED
CLASS:PUBLIC
URL:https://www.golnetwork.com/game/v/76812/
X-MICROSOFT-CDO-BUSYSTATUS:BUSY
X-MICROSOFT-CDO-IMPORTANCE:1
END:VEVENT
BEGIN:VEVENT
UID:g7od0@games.golnetwork.com
LOCATION:Louis Riel #3
GEO:45.4410208;-75.5715394
CREATED:20151005T221346Z
DTSTART:20151008T233000Z
DTEND:20151009T002000Z
DTSTAMP:20260420T094339Z
SUMMARY:Pas l'temps de niaser vs. Dynamo FC
DESCRIPTION:Dynamo FC vs. Pas l'temps de niaserPlus d'info : #6
X-ALT-DESC;FMTTYPE=text/html:<!DOCTYPE HTML PUBLIC "-//W3C//DTD HTML 3.2//E
	N">\n<HTML>\n<HEAD>\n<TITLE></TITLE>\n</HEAD>\n<BODY>\n<h3>Dynamo FC vs. Pa
	s l'temps de niaser</h3>Plus d'info : <a href="https://www.golnetwork.com/g
	ame/v/76815/">#6</a>\n\n</BODY>\n</HTML>
STATUS:CONFIRMED
CLASS:PUBLIC
URL:https://www.golnetwork.com/game/v/76815/
X-MICROSOFT-CDO-BUSYSTATUS:BUSY
X-MICROSOFT-CDO-IMPORTANCE:1
END:VEVENT
BEGIN:VEVENT
UID:g7odc@games.golnetwork.com
LOCATION:Louis Riel #3
GEO:45.4410208;-75.5715394
CREATED:20151005T221347Z
DTSTART:20151009T013000Z
DTEND:20151009T022000Z
DTSTAMP:20260420T094339Z
SUMMARY:50 Shades of Pink vs. Spartans FC
DESCRIPTION:Spartans FC vs. 50 Shades of PinkPlus d'info : #12
X-ALT-DESC;FMTTYPE=text/html:<!DOCTYPE HTML PUBLIC "-//W3C//DTD HTML 3.2//E
	N">\n<HTML>\n<HEAD>\n<TITLE></TITLE>\n</HEAD>\n<BODY>\n<h3>Spartans FC vs. 
	50 Shades of Pink</h3>Plus d'info : <a href="https://www.golnetwork.com/gam
	e/v/76821/">#12</a>\n\n</BODY>\n</HTML>
STATUS:CONFIRMED
CLASS:PUBLIC
URL:https://www.golnetwork.com/game/v/76821/
X-MICROSOFT-CDO-BUSYSTATUS:BUSY
X-MICROSOFT-CDO-IMPORTANCE:1
END:VEVENT
BEGIN:VEVENT
UID:g81ab@games.golnetwork.com
LOCATION:Louis Riel #3
GEO:45.4410208;-75.5715394
CREATED:20151010T191706Z
DTSTART:20151015T223000Z
DTEND:20151015T232000Z
DTSTAMP:20260420T094339Z
SUMMARY:Fantasy Draught vs. Flamingos
DESCRIPTION:Flamingos vs. Fantasy DraughtPlus d'info : #3
X-ALT-DESC;FMTTYPE=text/html:<!DOCTYPE HTML PUBLIC "-//W3C//DTD HTML 3.2//E
	N">\n<HTML>\n<HEAD>\n<TITLE></TITLE>\n</HEAD>\n<BODY>\n<h3>Flamingos vs. Fa
	ntasy Draught</h3>Plus d'info : <a href="https://www.golnetwork.com/game/v/
	78238/">#3</a>\n\n</BODY>\n</HTML>
STATUS:CONFIRMED
CLASS:PUBLIC
URL:https://www.golnetwork.com/game/v/78238/
X-MICROSOFT-CDO-BUSYSTATUS:BUSY
X-MICROSOFT-CDO-IMPORTANCE:1
END:VEVENT
BEGIN:VEVENT
UID:g81b0@games.golnetwork.com
LOCATION:Louis Riel #2
GEO:45.4410208;-75.5715394
CREATED:20151010T191707Z
DTSTART:20151016T013000Z
DTEND:20151016T022000Z
DTSTAMP:20260420T094339Z
SUMMARY:FC AA vs. Dynamo FC
DESCRIPTION:Dynamo FC vs. FC AAPlus d'info : #11
X-ALT-DESC;FMTTYPE=text/html:<!DOCTYPE HTML PUBLIC "-//W3C//DTD HTML 3.2//E
	N">\n<HTML>\n<HEAD>\n<TITLE></TITLE>\n</HEAD>\n<BODY>\n<h3>Dynamo FC vs. FC
	 AA</h3>Plus d'info : <a href="https://www.golnetwork.com/game/v/78246/">#1
	1</a>\n\n</BODY>\n</HTML>
STATUS:CONFIRMED
CLASS:PUBLIC
URL:https://www.golnetwork.com/game/v/78246/
X-MICROSOFT-CDO-BUSYSTATUS:BUSY
X-MICROSOFT-CDO-IMPORTANCE:1
END:VEVENT
BEGIN:VEVENT
UID:g81b2@games.golnetwork.com
LOCATION:Louis Riel #3
GEO:45.4410208;-75.5715394
CREATED:20151010T191707Z
DTSTART:20151016T013000Z
DTEND:20151016T022000Z
DTSTAMP:20260420T094339Z
SUMMARY:Spartans FC vs. Pas l'temps de niaser
DESCRIPTION:Pas l'temps de niaser vs. Spartans FCPlus d'info : #12
X-ALT-DESC;FMTTYPE=text/html:<!DOCTYPE HTML PUBLIC "-//W3C//DTD HTML 3.2//E
	N">\n<HTML>\n<HEAD>\n<TITLE></TITLE>\n</HEAD>\n<BODY>\n<h3>Pas l'temps de n
	iaser vs. Spartans FC</h3>Plus d'info : <a href="https://www.golnetwork.com
	/game/v/78247/">#12</a>\n\n</BODY>\n</HTML>
STATUS:CONFIRMED
CLASS:PUBLIC
URL:https://www.golnetwork.com/game/v/78247/
X-MICROSOFT-CDO-BUSYSTATUS:BUSY
X-MICROSOFT-CDO-IMPORTANCE:1
END:VEVENT
BEGIN:VEVENT
UID:g81cd@games.golnetwork.com
LOCATION:Louis Riel #3
GEO:45.4410208;-75.5715394
CREATED:20151010T191708Z
DTSTART:20151022T233000Z
DTEND:20151023T002000Z
DTSTAMP:20260420T094339Z
SUMMARY:Flamingos vs. Pas l'temps de niaser
DESCRIPTION:Pas l'temps de niaser vs. FlamingosPlus d'info : #31
X-ALT-DESC;FMTTYPE=text/html:<!DOCTYPE HTML PUBLIC "-//W3C//DTD HTML 3.2//E
	N">\n<HTML>\n<HEAD>\n<TITLE></TITLE>\n</HEAD>\n<BODY>\n<h3>Pas l'temps de n
	iaser vs. Flamingos</h3>Plus d'info : <a href="https://www.golnetwork.com/g
	ame/v/78266/">#31</a>\n\n</BODY>\n</HTML>
STATUS:CONFIRMED
CLASS:PUBLIC
URL:https://www.golnetwork.com/game/v/78266/
X-MICROSOFT-CDO-BUSYSTATUS:BUSY
X-MICROSOFT-CDO-IMPORTANCE:1
END:VEVENT
BEGIN:VEVENT
UID:g81cb@games.golnetwork.com
LOCATION:Louis Riel #2
GEO:45.4410208;-75.5715394
CREATED:20151010T191708Z
DTSTART:20151023T013000Z
DTEND:20151023T022000Z
DTSTAMP:20260420T094339Z
SUMMARY:Death before Decaf vs. FC AA
DESCRIPTION:FC AA vs. Death before DecafPlus d'info : #30
X-ALT-DESC;FMTTYPE=text/html:<!DOCTYPE HTML PUBLIC "-//W3C//DTD HTML 3.2//E
	N">\n<HTML>\n<HEAD>\n<TITLE></TITLE>\n</HEAD>\n<BODY>\n<h3>FC AA vs. Death 
	before Decaf</h3>Plus d'info : <a href="https://www.golnetwork.com/game/v/7
	8265/">#30</a>\n\n</BODY>\n</HTML>
STATUS:CONFIRMED
CLASS:PUBLIC
URL:https://www.golnetwork.com/game/v/78265/
X-MICROSOFT-CDO-BUSYSTATUS:BUSY
X-MICROSOFT-CDO-IMPORTANCE:1
END:VEVENT
BEGIN:VEVENT
UID:g81c1@games.golnetwork.com
LOCATION:Louis Riel #3
GEO:45.4410208;-75.5715394
CREATED:20151010T191708Z
DTSTART:20151023T013000Z
DTEND:20151023T022000Z
DTSTAMP:20260420T094339Z
SUMMARY:Spartans FC vs. Dynamo FC
DESCRIPTION:Dynamo FC vs. Spartans FCPlus d'info : #25
X-ALT-DESC;FMTTYPE=text/html:<!DOCTYPE HTML PUBLIC "-//W3C//DTD HTML 3.2//E
	N">\n<HTML>\n<HEAD>\n<TITLE></TITLE>\n</HEAD>\n<BODY>\n<h3>Dynamo FC vs. Sp
	artans FC</h3>Plus d'info : <a href="https://www.golnetwork.com/game/v/7826
	0/">#25</a>\n\n</BODY>\n</HTML>
STATUS:CONFIRMED
CLASS:PUBLIC
URL:https://www.golnetwork.com/game/v/78260/
X-MICROSOFT-CDO-BUSYSTATUS:BUSY
X-MICROSOFT-CDO-IMPORTANCE:1
END:VEVENT
BEGIN:VEVENT
UID:g81d8@games.golnetwork.com
LOCATION:Louis Riel #3
GEO:45.4410208;-75.5715394
CREATED:20151010T191708Z
DTSTART:20151029T233000Z
DTEND:20151030T002000Z
DTSTAMP:20260420T094339Z
SUMMARY:Spartans FC vs. Flamingos
DESCRIPTION:Flamingos vs. Spartans FCPlus d'info : #42
X-ALT-DESC;FMTTYPE=text/html:<!DOCTYPE HTML PUBLIC "-//W3C//DTD HTML 3.2//E
	N">\n<HTML>\n<HEAD>\n<TITLE></TITLE>\n</HEAD>\n<BODY>\n<h3>Flamingos vs. Sp
	artans FC</h3>Plus d'info : <a href="https://www.golnetwork.com/game/v/7827
	7/">#42</a>\n\n</BODY>\n</HTML>
STATUS:CONFIRMED
CLASS:PUBLIC
URL:https://www.golnetwork.com/game/v/78277/
X-MICROSOFT-CDO-BUSYSTATUS:BUSY
X-MICROSOFT-CDO-IMPORTANCE:1
END:VEVENT
BEGIN:VEVENT
UID:g81d2@games.golnetwork.com
LOCATION:Louis Riel #2
GEO:45.4410208;-75.5715394
CREATED:20151010T191708Z
DTSTART:20151030T003000Z
DTEND:20151030T012000Z
DTSTAMP:20260420T094339Z
SUMMARY:FC AA vs. Dynamo FC
DESCRIPTION:Dynamo FC vs. FC AAPlus d'info : #39
X-ALT-DESC;FMTTYPE=text/html:<!DOCTYPE HTML PUBLIC "-//W3C//DTD HTML 3.2//E
	N">\n<HTML>\n<HEAD>\n<TITLE></TITLE>\n</HEAD>\n<BODY>\n<h3>Dynamo FC vs. FC
	 AA</h3>Plus d'info : <a href="https://www.golnetwork.com/game/v/78274/">#3
	9</a>\n\n</BODY>\n</HTML>
STATUS:CONFIRMED
CLASS:PUBLIC
URL:https://www.golnetwork.com/game/v/78274/
X-MICROSOFT-CDO-BUSYSTATUS:BUSY
X-MICROSOFT-CDO-IMPORTANCE:1
END:VEVENT
END:VCALENDAR
