BEGIN:VCALENDAR
PRODID:-//gdesolutions.com//MV Framework 1.0.0.1607 Calendar//EN
VERSION:2.0
METHOD:PUBLISH
CALSCALE:GREGORIAN
BEGIN:VEVENT
UID:g7ieh@games.golnetwork.com
LOCATION:Jesse Ketchum Field
CREATED:20150910T203344Z
DTSTART:20150919T170000Z
DTEND:20150919T181500Z
DTSTAMP:20260421T010630Z
SUMMARY:Never Wuzzes vs.  Sporting Chance
DESCRIPTION: Sporting Chance vs. Never WuzzesPlus d'info : #1
X-ALT-DESC;FMTTYPE=text/html:<!DOCTYPE HTML PUBLIC "-//W3C//DTD HTML 3.2//E
	N">\n<HTML>\n<HEAD>\n<TITLE></TITLE>\n</HEAD>\n<BODY>\n<h3> Sporting Chance
	 vs. Never Wuzzes</h3>Plus d'info : <a href="https://www.golnetwork.com/gam
	e/v/74650/">#1</a>\n\n</BODY>\n</HTML>
STATUS:CONFIRMED
CLASS:PUBLIC
URL:https://www.golnetwork.com/game/v/74650/
X-MICROSOFT-CDO-BUSYSTATUS:BUSY
X-MICROSOFT-CDO-IMPORTANCE:1
END:VEVENT
BEGIN:VEVENT
UID:g7ief@games.golnetwork.com
LOCATION:Jesse Ketchum Field
CREATED:20150910T203344Z
DTSTART:20150919T181500Z
DTEND:20150919T193000Z
DTSTAMP:20260421T010630Z
SUMMARY:The Orange vs. Ball SO Hard
DESCRIPTION:Ball SO Hard vs. The OrangePlus d'info : #2
X-ALT-DESC;FMTTYPE=text/html:<!DOCTYPE HTML PUBLIC "-//W3C//DTD HTML 3.2//E
	N">\n<HTML>\n<HEAD>\n<TITLE></TITLE>\n</HEAD>\n<BODY>\n<h3>Ball SO Hard vs.
	 The Orange</h3>Plus d'info : <a href="https://www.golnetwork.com/game/v/74
	649/">#2</a>\n\n</BODY>\n</HTML>
STATUS:CONFIRMED
CLASS:PUBLIC
URL:https://www.golnetwork.com/game/v/74649/
X-MICROSOFT-CDO-BUSYSTATUS:BUSY
X-MICROSOFT-CDO-IMPORTANCE:1
END:VEVENT
BEGIN:VEVENT
UID:g7ied@games.golnetwork.com
LOCATION:Jesse Ketchum Field
CREATED:20150910T203344Z
DTSTART:20150919T193000Z
DTEND:20150919T204500Z
DTSTAMP:20260421T010630Z
SUMMARY:The Pink Flamingos vs. MPA (Blue)
DESCRIPTION:MPA (Blue) vs. The Pink FlamingosPlus d'info : #3
X-ALT-DESC;FMTTYPE=text/html:<!DOCTYPE HTML PUBLIC "-//W3C//DTD HTML 3.2//E
	N">\n<HTML>\n<HEAD>\n<TITLE></TITLE>\n</HEAD>\n<BODY>\n<h3>MPA (Blue) vs. T
	he Pink Flamingos</h3>Plus d'info : <a href="https://www.golnetwork.com/gam
	e/v/74648/">#3</a>\n\n</BODY>\n</HTML>
STATUS:CONFIRMED
CLASS:PUBLIC
URL:https://www.golnetwork.com/game/v/74648/
X-MICROSOFT-CDO-BUSYSTATUS:BUSY
X-MICROSOFT-CDO-IMPORTANCE:1
END:VEVENT
BEGIN:VEVENT
UID:g7iej@games.golnetwork.com
LOCATION:Jesse Ketchum Field
CREATED:20150910T203344Z
DTSTART:20150919T204500Z
DTEND:20150919T220000Z
DTSTAMP:20260421T010630Z
SUMMARY:The Messi Files vs. MPA (Blue)
DESCRIPTION:MPA (Blue) vs. The Messi FilesPlus d'info : #4
X-ALT-DESC;FMTTYPE=text/html:<!DOCTYPE HTML PUBLIC "-//W3C//DTD HTML 3.2//E
	N">\n<HTML>\n<HEAD>\n<TITLE></TITLE>\n</HEAD>\n<BODY>\n<h3>MPA (Blue) vs. T
	he Messi Files</h3>Plus d'info : <a href="https://www.golnetwork.com/game/v
	/74651/">#4</a>\n\n</BODY>\n</HTML>
STATUS:CONFIRMED
CLASS:PUBLIC
URL:https://www.golnetwork.com/game/v/74651/
X-MICROSOFT-CDO-BUSYSTATUS:BUSY
X-MICROSOFT-CDO-IMPORTANCE:1
END:VEVENT
BEGIN:VEVENT
UID:g7iel@games.golnetwork.com
LOCATION:Jesse Ketchum Field
CREATED:20150910T203344Z
DTSTART:20150926T170000Z
DTEND:20150926T181500Z
DTSTAMP:20260421T010630Z
SUMMARY:The Orange vs. The Pink Flamingos
DESCRIPTION:The Pink Flamingos vs. The OrangePlus d'info : #5
X-ALT-DESC;FMTTYPE=text/html:<!DOCTYPE HTML PUBLIC "-//W3C//DTD HTML 3.2//E
	N">\n<HTML>\n<HEAD>\n<TITLE></TITLE>\n</HEAD>\n<BODY>\n<h3>The Pink Flaming
	os vs. The Orange</h3>Plus d'info : <a href="https://www.golnetwork.com/gam
	e/v/74652/">#5</a>\n\n</BODY>\n</HTML>
STATUS:CONFIRMED
CLASS:PUBLIC
URL:https://www.golnetwork.com/game/v/74652/
X-MICROSOFT-CDO-BUSYSTATUS:BUSY
X-MICROSOFT-CDO-IMPORTANCE:1
END:VEVENT
BEGIN:VEVENT
UID:g7if0@games.golnetwork.com
LOCATION:Jesse Ketchum Field
CREATED:20150910T203344Z
DTSTART:20150926T181500Z
DTEND:20150926T193000Z
DTSTAMP:20260421T010630Z
SUMMARY:The Messi Files vs.  Sporting Chance
DESCRIPTION: Sporting Chance vs. The Messi FilesPlus d'info : #6
X-ALT-DESC;FMTTYPE=text/html:<!DOCTYPE HTML PUBLIC "-//W3C//DTD HTML 3.2//E
	N">\n<HTML>\n<HEAD>\n<TITLE></TITLE>\n</HEAD>\n<BODY>\n<h3> Sporting Chance
	 vs. The Messi Files</h3>Plus d'info : <a href="https://www.golnetwork.com/
	game/v/74655/">#6</a>\n\n</BODY>\n</HTML>
STATUS:CONFIRMED
CLASS:PUBLIC
URL:https://www.golnetwork.com/game/v/74655/
X-MICROSOFT-CDO-BUSYSTATUS:BUSY
X-MICROSOFT-CDO-IMPORTANCE:1
END:VEVENT
BEGIN:VEVENT
UID:g7ien@games.golnetwork.com
LOCATION:Jesse Ketchum Field
CREATED:20150910T203344Z
DTSTART:20150926T193000Z
DTEND:20150926T204500Z
DTSTAMP:20260421T010630Z
SUMMARY:Never Wuzzes vs. MPA (Blue)
DESCRIPTION:MPA (Blue) vs. Never WuzzesPlus d'info : #7
X-ALT-DESC;FMTTYPE=text/html:<!DOCTYPE HTML PUBLIC "-//W3C//DTD HTML 3.2//E
	N">\n<HTML>\n<HEAD>\n<TITLE></TITLE>\n</HEAD>\n<BODY>\n<h3>MPA (Blue) vs. N
	ever Wuzzes</h3>Plus d'info : <a href="https://www.golnetwork.com/game/v/74
	653/">#7</a>\n\n</BODY>\n</HTML>
STATUS:CONFIRMED
CLASS:PUBLIC
URL:https://www.golnetwork.com/game/v/74653/
X-MICROSOFT-CDO-BUSYSTATUS:BUSY
X-MICROSOFT-CDO-IMPORTANCE:1
END:VEVENT
BEGIN:VEVENT
UID:g7iep@games.golnetwork.com
LOCATION:Jesse Ketchum Field
CREATED:20150910T203344Z
DTSTART:20150926T204500Z
DTEND:20150926T220000Z
DTSTAMP:20260421T010630Z
SUMMARY:Never Wuzzes vs. Ball SO Hard
DESCRIPTION:Ball SO Hard vs. Never WuzzesPlus d'info : #8
X-ALT-DESC;FMTTYPE=text/html:<!DOCTYPE HTML PUBLIC "-//W3C//DTD HTML 3.2//E
	N">\n<HTML>\n<HEAD>\n<TITLE></TITLE>\n</HEAD>\n<BODY>\n<h3>Ball SO Hard vs.
	 Never Wuzzes</h3>Plus d'info : <a href="https://www.golnetwork.com/game/v/
	74654/">#8</a>\n\n</BODY>\n</HTML>
STATUS:CONFIRMED
CLASS:PUBLIC
URL:https://www.golnetwork.com/game/v/74654/
X-MICROSOFT-CDO-BUSYSTATUS:BUSY
X-MICROSOFT-CDO-IMPORTANCE:1
END:VEVENT
BEGIN:VEVENT
UID:g7if8@games.golnetwork.com
LOCATION:Jesse Ketchum Field
CREATED:20150910T203344Z
DTSTART:20151003T170000Z
DTEND:20151003T181500Z
DTSTAMP:20260421T010630Z
SUMMARY:MPA (Blue) vs. Ball SO Hard
DESCRIPTION:Ball SO Hard vs. MPA (Blue)Plus d'info : #9
X-ALT-DESC;FMTTYPE=text/html:<!DOCTYPE HTML PUBLIC "-//W3C//DTD HTML 3.2//E
	N">\n<HTML>\n<HEAD>\n<TITLE></TITLE>\n</HEAD>\n<BODY>\n<h3>Ball SO Hard vs.
	 MPA (Blue)</h3>Plus d'info : <a href="https://www.golnetwork.com/game/v/74
	659/">#9</a>\n\n</BODY>\n</HTML>
STATUS:CONFIRMED
CLASS:PUBLIC
URL:https://www.golnetwork.com/game/v/74659/
X-MICROSOFT-CDO-BUSYSTATUS:BUSY
X-MICROSOFT-CDO-IMPORTANCE:1
END:VEVENT
BEGIN:VEVENT
UID:g7if6@games.golnetwork.com
LOCATION:Jesse Ketchum Field
CREATED:20150910T203344Z
DTSTART:20151003T181500Z
DTEND:20151003T193000Z
DTSTAMP:20260421T010630Z
SUMMARY: Sporting Chance vs. The Pink Flamingos
DESCRIPTION:The Pink Flamingos vs.  Sporting ChancePlus d'info : #10
X-ALT-DESC;FMTTYPE=text/html:<!DOCTYPE HTML PUBLIC "-//W3C//DTD HTML 3.2//E
	N">\n<HTML>\n<HEAD>\n<TITLE></TITLE>\n</HEAD>\n<BODY>\n<h3>The Pink Flaming
	os vs.  Sporting Chance</h3>Plus d'info : <a href="https://www.golnetwork.c
	om/game/v/74658/">#10</a>\n\n</BODY>\n</HTML>
STATUS:CONFIRMED
CLASS:PUBLIC
URL:https://www.golnetwork.com/game/v/74658/
X-MICROSOFT-CDO-BUSYSTATUS:BUSY
X-MICROSOFT-CDO-IMPORTANCE:1
END:VEVENT
BEGIN:VEVENT
UID:g7if4@games.golnetwork.com
LOCATION:Jesse Ketchum Field
CREATED:20150910T203344Z
DTSTART:20151003T193000Z
DTEND:20151003T204500Z
DTSTAMP:20260421T010630Z
SUMMARY: Sporting Chance vs. The Orange
DESCRIPTION:The Orange vs.  Sporting ChancePlus d'info : #11
X-ALT-DESC;FMTTYPE=text/html:<!DOCTYPE HTML PUBLIC "-//W3C//DTD HTML 3.2//E
	N">\n<HTML>\n<HEAD>\n<TITLE></TITLE>\n</HEAD>\n<BODY>\n<h3>The Orange vs.  
	Sporting Chance</h3>Plus d'info : <a href="https://www.golnetwork.com/game/
	v/74657/">#11</a>\n\n</BODY>\n</HTML>
STATUS:CONFIRMED
CLASS:PUBLIC
URL:https://www.golnetwork.com/game/v/74657/
X-MICROSOFT-CDO-BUSYSTATUS:BUSY
X-MICROSOFT-CDO-IMPORTANCE:1
END:VEVENT
BEGIN:VEVENT
UID:g7if2@games.golnetwork.com
LOCATION:Jesse Ketchum Field
CREATED:20150910T203344Z
DTSTART:20151003T204500Z
DTEND:20151003T220000Z
DTSTAMP:20260421T010630Z
SUMMARY:The Messi Files vs. Never Wuzzes
DESCRIPTION:Never Wuzzes vs. The Messi FilesPlus d'info : #12
X-ALT-DESC;FMTTYPE=text/html:<!DOCTYPE HTML PUBLIC "-//W3C//DTD HTML 3.2//E
	N">\n<HTML>\n<HEAD>\n<TITLE></TITLE>\n</HEAD>\n<BODY>\n<h3>Never Wuzzes vs.
	 The Messi Files</h3>Plus d'info : <a href="https://www.golnetwork.com/game
	/v/74656/">#12</a>\n\n</BODY>\n</HTML>
STATUS:CONFIRMED
CLASS:PUBLIC
URL:https://www.golnetwork.com/game/v/74656/
X-MICROSOFT-CDO-BUSYSTATUS:BUSY
X-MICROSOFT-CDO-IMPORTANCE:1
END:VEVENT
BEGIN:VEVENT
UID:g7ifa@games.golnetwork.com
LOCATION:Jesse Ketchum Field
CREATED:20150910T203344Z
DTSTART:20151010T170000Z
DTEND:20151010T181500Z
DTSTAMP:20260421T010630Z
SUMMARY:Ball SO Hard vs. The Messi Files
DESCRIPTION:The Messi Files vs. Ball SO HardPlus d'info : #13
X-ALT-DESC;FMTTYPE=text/html:<!DOCTYPE HTML PUBLIC "-//W3C//DTD HTML 3.2//E
	N">\n<HTML>\n<HEAD>\n<TITLE></TITLE>\n</HEAD>\n<BODY>\n<h3>The Messi Files 
	vs. Ball SO Hard</h3>Plus d'info : <a href="https://www.golnetwork.com/game
	/v/74660/">#13</a>\n\n</BODY>\n</HTML>
STATUS:CONFIRMED
CLASS:PUBLIC
URL:https://www.golnetwork.com/game/v/74660/
X-MICROSOFT-CDO-BUSYSTATUS:BUSY
X-MICROSOFT-CDO-IMPORTANCE:1
END:VEVENT
BEGIN:VEVENT
UID:g7ifg@games.golnetwork.com
LOCATION:Jesse Ketchum Field
CREATED:20150910T203344Z
DTSTART:20151010T181500Z
DTEND:20151010T193000Z
DTSTAMP:20260421T010630Z
SUMMARY:Ball SO Hard vs.  Sporting Chance
DESCRIPTION: Sporting Chance vs. Ball SO HardPlus d'info : #14
X-ALT-DESC;FMTTYPE=text/html:<!DOCTYPE HTML PUBLIC "-//W3C//DTD HTML 3.2//E
	N">\n<HTML>\n<HEAD>\n<TITLE></TITLE>\n</HEAD>\n<BODY>\n<h3> Sporting Chance
	 vs. Ball SO Hard</h3>Plus d'info : <a href="https://www.golnetwork.com/gam
	e/v/74663/">#14</a>\n\n</BODY>\n</HTML>
STATUS:CONFIRMED
CLASS:PUBLIC
URL:https://www.golnetwork.com/game/v/74663/
X-MICROSOFT-CDO-BUSYSTATUS:BUSY
X-MICROSOFT-CDO-IMPORTANCE:1
END:VEVENT
BEGIN:VEVENT
UID:g7ifc@games.golnetwork.com
LOCATION:Jesse Ketchum Field
CREATED:20150910T203344Z
DTSTART:20151010T193000Z
DTEND:20151010T204500Z
DTSTAMP:20260421T010630Z
SUMMARY:The Pink Flamingos vs. Never Wuzzes
DESCRIPTION:Never Wuzzes vs. The Pink FlamingosPlus d'info : #15
X-ALT-DESC;FMTTYPE=text/html:<!DOCTYPE HTML PUBLIC "-//W3C//DTD HTML 3.2//E
	N">\n<HTML>\n<HEAD>\n<TITLE></TITLE>\n</HEAD>\n<BODY>\n<h3>Never Wuzzes vs.
	 The Pink Flamingos</h3>Plus d'info : <a href="https://www.golnetwork.com/g
	ame/v/74661/">#15</a>\n\n</BODY>\n</HTML>
STATUS:CONFIRMED
CLASS:PUBLIC
URL:https://www.golnetwork.com/game/v/74661/
X-MICROSOFT-CDO-BUSYSTATUS:BUSY
X-MICROSOFT-CDO-IMPORTANCE:1
END:VEVENT
BEGIN:VEVENT
UID:g7ife@games.golnetwork.com
LOCATION:Jesse Ketchum Field
CREATED:20150910T203344Z
DTSTART:20151010T204500Z
DTEND:20151010T220000Z
DTSTAMP:20260421T010630Z
SUMMARY:MPA (Blue) vs. The Orange
DESCRIPTION:The Orange vs. MPA (Blue)Plus d'info : #16
X-ALT-DESC;FMTTYPE=text/html:<!DOCTYPE HTML PUBLIC "-//W3C//DTD HTML 3.2//E
	N">\n<HTML>\n<HEAD>\n<TITLE></TITLE>\n</HEAD>\n<BODY>\n<h3>The Orange vs. M
	PA (Blue)</h3>Plus d'info : <a href="https://www.golnetwork.com/game/v/7466
	2/">#16</a>\n\n</BODY>\n</HTML>
STATUS:CONFIRMED
CLASS:PUBLIC
URL:https://www.golnetwork.com/game/v/74662/
X-MICROSOFT-CDO-BUSYSTATUS:BUSY
X-MICROSOFT-CDO-IMPORTANCE:1
END:VEVENT
BEGIN:VEVENT
UID:g7ifk@games.golnetwork.com
LOCATION:Jesse Ketchum Field
CREATED:20150910T203344Z
DTSTART:20151017T170000Z
DTEND:20151017T181500Z
DTSTAMP:20260421T010630Z
SUMMARY: Sporting Chance vs. MPA (Blue)
DESCRIPTION:MPA (Blue) vs.  Sporting ChancePlus d'info : #17
X-ALT-DESC;FMTTYPE=text/html:<!DOCTYPE HTML PUBLIC "-//W3C//DTD HTML 3.2//E
	N">\n<HTML>\n<HEAD>\n<TITLE></TITLE>\n</HEAD>\n<BODY>\n<h3>MPA (Blue) vs.  
	Sporting Chance</h3>Plus d'info : <a href="https://www.golnetwork.com/game/
	v/74665/">#17</a>\n\n</BODY>\n</HTML>
STATUS:CONFIRMED
CLASS:PUBLIC
URL:https://www.golnetwork.com/game/v/74665/
X-MICROSOFT-CDO-BUSYSTATUS:BUSY
X-MICROSOFT-CDO-IMPORTANCE:1
END:VEVENT
BEGIN:VEVENT
UID:g7ifi@games.golnetwork.com
LOCATION:Jesse Ketchum Field
CREATED:20150910T203344Z
DTSTART:20151017T181500Z
DTEND:20151017T193000Z
DTSTAMP:20260421T010630Z
SUMMARY:Never Wuzzes vs. The Orange
DESCRIPTION:The Orange vs. Never WuzzesPlus d'info : #18
X-ALT-DESC;FMTTYPE=text/html:<!DOCTYPE HTML PUBLIC "-//W3C//DTD HTML 3.2//E
	N">\n<HTML>\n<HEAD>\n<TITLE></TITLE>\n</HEAD>\n<BODY>\n<h3>The Orange vs. N
	ever Wuzzes</h3>Plus d'info : <a href="https://www.golnetwork.com/game/v/74
	664/">#18</a>\n\n</BODY>\n</HTML>
STATUS:CONFIRMED
CLASS:PUBLIC
URL:https://www.golnetwork.com/game/v/74664/
X-MICROSOFT-CDO-BUSYSTATUS:BUSY
X-MICROSOFT-CDO-IMPORTANCE:1
END:VEVENT
BEGIN:VEVENT
UID:g7ifm@games.golnetwork.com
LOCATION:Jesse Ketchum Field
CREATED:20150910T203344Z
DTSTART:20151017T193000Z
DTEND:20151017T204500Z
DTSTAMP:20260421T010630Z
SUMMARY:The Messi Files vs. The Orange
DESCRIPTION:The Orange vs. The Messi FilesPlus d'info : #19
X-ALT-DESC;FMTTYPE=text/html:<!DOCTYPE HTML PUBLIC "-//W3C//DTD HTML 3.2//E
	N">\n<HTML>\n<HEAD>\n<TITLE></TITLE>\n</HEAD>\n<BODY>\n<h3>The Orange vs. T
	he Messi Files</h3>Plus d'info : <a href="https://www.golnetwork.com/game/v
	/74666/">#19</a>\n\n</BODY>\n</HTML>
STATUS:CONFIRMED
CLASS:PUBLIC
URL:https://www.golnetwork.com/game/v/74666/
X-MICROSOFT-CDO-BUSYSTATUS:BUSY
X-MICROSOFT-CDO-IMPORTANCE:1
END:VEVENT
BEGIN:VEVENT
UID:g7ifo@games.golnetwork.com
LOCATION:Jesse Ketchum Field
CREATED:20150910T203344Z
DTSTART:20151017T204500Z
DTEND:20151017T220000Z
DTSTAMP:20260421T010630Z
SUMMARY:The Pink Flamingos vs. Ball SO Hard
DESCRIPTION:Ball SO Hard vs. The Pink FlamingosPlus d'info : #20
X-ALT-DESC;FMTTYPE=text/html:<!DOCTYPE HTML PUBLIC "-//W3C//DTD HTML 3.2//E
	N">\n<HTML>\n<HEAD>\n<TITLE></TITLE>\n</HEAD>\n<BODY>\n<h3>Ball SO Hard vs.
	 The Pink Flamingos</h3>Plus d'info : <a href="https://www.golnetwork.com/g
	ame/v/74667/">#20</a>\n\n</BODY>\n</HTML>
STATUS:CONFIRMED
CLASS:PUBLIC
URL:https://www.golnetwork.com/game/v/74667/
X-MICROSOFT-CDO-BUSYSTATUS:BUSY
X-MICROSOFT-CDO-IMPORTANCE:1
END:VEVENT
BEGIN:VEVENT
UID:g7ifq@games.golnetwork.com
LOCATION:Jesse Ketchum Field
CREATED:20150910T203344Z
DTSTART:20151024T170000Z
DTEND:20151024T181500Z
DTSTAMP:20260421T010630Z
SUMMARY:The Pink Flamingos vs. MPA (Blue)
DESCRIPTION:MPA (Blue) vs. The Pink FlamingosPlus d'info : #21
X-ALT-DESC;FMTTYPE=text/html:<!DOCTYPE HTML PUBLIC "-//W3C//DTD HTML 3.2//E
	N">\n<HTML>\n<HEAD>\n<TITLE></TITLE>\n</HEAD>\n<BODY>\n<h3>MPA (Blue) vs. T
	he Pink Flamingos</h3>Plus d'info : <a href="https://www.golnetwork.com/gam
	e/v/74668/">#21</a>\n\n</BODY>\n</HTML>
STATUS:CONFIRMED
CLASS:PUBLIC
URL:https://www.golnetwork.com/game/v/74668/
X-MICROSOFT-CDO-BUSYSTATUS:BUSY
X-MICROSOFT-CDO-IMPORTANCE:1
END:VEVENT
BEGIN:VEVENT
UID:g7ig5@games.golnetwork.com
LOCATION:Jesse Ketchum Field
CREATED:20150910T203344Z
DTSTART:20151024T204500Z
DTEND:20151024T220000Z
DTSTAMP:20260421T010630Z
SUMMARY:The Messi Files vs. Never Wuzzes
DESCRIPTION:Never Wuzzes vs. The Messi FilesPlus d'info : #24
X-ALT-DESC;FMTTYPE=text/html:<!DOCTYPE HTML PUBLIC "-//W3C//DTD HTML 3.2//E
	N">\n<HTML>\n<HEAD>\n<TITLE></TITLE>\n</HEAD>\n<BODY>\n<h3>Never Wuzzes vs.
	 The Messi Files</h3>Plus d'info : <a href="https://www.golnetwork.com/game
	/v/74671/">#24</a>\n\n</BODY>\n</HTML>
STATUS:CONFIRMED
CLASS:PUBLIC
URL:https://www.golnetwork.com/game/v/74671/
X-MICROSOFT-CDO-BUSYSTATUS:BUSY
X-MICROSOFT-CDO-IMPORTANCE:1
END:VEVENT
BEGIN:VEVENT
UID:g7ig7@games.golnetwork.com
LOCATION:Jesse Ketchum Field
CREATED:20150910T203344Z
DTSTART:20151031T170000Z
DTEND:20151031T181500Z
DTSTAMP:20260421T010630Z
SUMMARY:Never Wuzzes vs. MPA (Blue)
DESCRIPTION:MPA (Blue) vs. Never WuzzesPlus d'info : #25
X-ALT-DESC;FMTTYPE=text/html:<!DOCTYPE HTML PUBLIC "-//W3C//DTD HTML 3.2//E
	N">\n<HTML>\n<HEAD>\n<TITLE></TITLE>\n</HEAD>\n<BODY>\n<h3>MPA (Blue) vs. N
	ever Wuzzes</h3>Plus d'info : <a href="https://www.golnetwork.com/game/v/74
	672/">#25</a>\n\n</BODY>\n</HTML>
STATUS:CONFIRMED
CLASS:PUBLIC
URL:https://www.golnetwork.com/game/v/74672/
X-MICROSOFT-CDO-BUSYSTATUS:BUSY
X-MICROSOFT-CDO-IMPORTANCE:1
END:VEVENT
BEGIN:VEVENT
UID:g7igd@games.golnetwork.com
LOCATION:Jesse Ketchum Field
CREATED:20150910T203344Z
DTSTART:20151031T193000Z
DTEND:20151031T204500Z
DTSTAMP:20260421T010630Z
SUMMARY:Ball SO Hard vs. The Pink Flamingos
DESCRIPTION:The Pink Flamingos vs. Ball SO HardPlus d'info : #27
X-ALT-DESC;FMTTYPE=text/html:<!DOCTYPE HTML PUBLIC "-//W3C//DTD HTML 3.2//E
	N">\n<HTML>\n<HEAD>\n<TITLE></TITLE>\n</HEAD>\n<BODY>\n<h3>The Pink Flaming
	os vs. Ball SO Hard</h3>Plus d'info : <a href="https://www.golnetwork.com/g
	ame/v/74675/">#27</a>\n\n</BODY>\n</HTML>
STATUS:CONFIRMED
CLASS:PUBLIC
URL:https://www.golnetwork.com/game/v/74675/
X-MICROSOFT-CDO-BUSYSTATUS:BUSY
X-MICROSOFT-CDO-IMPORTANCE:1
END:VEVENT
BEGIN:VEVENT
UID:g7igb@games.golnetwork.com
LOCATION:Jesse Ketchum Field
CREATED:20150910T203344Z
DTSTART:20151031T204500Z
DTEND:20151031T220000Z
DTSTAMP:20260421T010630Z
SUMMARY:The Messi Files vs. The Pink Flamingos
DESCRIPTION:The Pink Flamingos vs. The Messi FilesPlus d'info : #28
X-ALT-DESC;FMTTYPE=text/html:<!DOCTYPE HTML PUBLIC "-//W3C//DTD HTML 3.2//E
	N">\n<HTML>\n<HEAD>\n<TITLE></TITLE>\n</HEAD>\n<BODY>\n<h3>The Pink Flaming
	os vs. The Messi Files</h3>Plus d'info : <a href="https://www.golnetwork.co
	m/game/v/74674/">#28</a>\n\n</BODY>\n</HTML>
STATUS:CONFIRMED
CLASS:PUBLIC
URL:https://www.golnetwork.com/game/v/74674/
X-MICROSOFT-CDO-BUSYSTATUS:BUSY
X-MICROSOFT-CDO-IMPORTANCE:1
END:VEVENT
END:VCALENDAR
