BEGIN:VCALENDAR
PRODID:-//gdesolutions.com//MV Framework 1.0.0.1607 Calendar//EN
VERSION:2.0
METHOD:PUBLISH
CALSCALE:GREGORIAN
BEGIN:VEVENT
UID:g80gc@games.golnetwork.com
LOCATION:CVM - Court #1
GEO:45.5146585;-73.5658635
CREATED:20151007T201721Z
DTSTART:20160308T013000Z
DTEND:20160308T023000Z
DTSTAMP:20260420T145304Z
SUMMARY:LIBERTEE 55 vs. MILTON PARC
DESCRIPTION:MILTON PARC vs. LIBERTEE 55Plus d'info : #46
X-ALT-DESC;FMTTYPE=text/html:<!DOCTYPE HTML PUBLIC "-//W3C//DTD HTML 3.2//E
	N">\n<HTML>\n<HEAD>\n<TITLE></TITLE>\n</HEAD>\n<BODY>\n<h3>MILTON PARC vs. 
	LIBERTEE 55</h3>Plus d'info : <a href="https://www.golnetwork.com/game/v/77
	955/">#46</a>\n\n</BODY>\n</HTML>
STATUS:CONFIRMED
CLASS:PUBLIC
URL:https://www.golnetwork.com/game/v/77955/
X-MICROSOFT-CDO-BUSYSTATUS:BUSY
X-MICROSOFT-CDO-IMPORTANCE:1
END:VEVENT
BEGIN:VEVENT
UID:g80ga@games.golnetwork.com
LOCATION:CVM - Court #1
GEO:45.5146585;-73.5658635
CREATED:20151007T201721Z
DTSTART:20160308T023000Z
DTEND:20160308T033000Z
DTSTAMP:20260420T145304Z
SUMMARY:RETRO vs. RETRO
DESCRIPTION:RETRO vs. RETROPlus d'info : #47
X-ALT-DESC;FMTTYPE=text/html:<!DOCTYPE HTML PUBLIC "-//W3C//DTD HTML 3.2//E
	N">\n<HTML>\n<HEAD>\n<TITLE></TITLE>\n</HEAD>\n<BODY>\n<h3>RETRO vs. RETRO<
	/h3>Plus d'info : <a href="https://www.golnetwork.com/game/v/77954/">#47</a
	>\n\n</BODY>\n</HTML>
STATUS:CONFIRMED
CLASS:PUBLIC
URL:https://www.golnetwork.com/game/v/77954/
X-MICROSOFT-CDO-BUSYSTATUS:BUSY
X-MICROSOFT-CDO-IMPORTANCE:1
END:VEVENT
BEGIN:VEVENT
UID:g80ge@games.golnetwork.com
LOCATION:CVM - Court #1
GEO:45.5146585;-73.5658635
CREATED:20151007T201721Z
DTSTART:20160315T000000Z
DTEND:20160315T010000Z
DTSTAMP:20260420T145304Z
SUMMARY:RETRO vs. AK REC ALL STARS
DESCRIPTION:AK REC ALL STARS vs. RETROPlus d'info : #48
X-ALT-DESC;FMTTYPE=text/html:<!DOCTYPE HTML PUBLIC "-//W3C//DTD HTML 3.2//E
	N">\n<HTML>\n<HEAD>\n<TITLE></TITLE>\n</HEAD>\n<BODY>\n<h3>AK REC ALL STARS
	 vs. RETRO</h3>Plus d'info : <a href="https://www.golnetwork.com/game/v/779
	56/">#48</a>\n\n</BODY>\n</HTML>
STATUS:CONFIRMED
CLASS:PUBLIC
URL:https://www.golnetwork.com/game/v/77956/
X-MICROSOFT-CDO-BUSYSTATUS:BUSY
X-MICROSOFT-CDO-IMPORTANCE:1
END:VEVENT
BEGIN:VEVENT
UID:g80gi@games.golnetwork.com
LOCATION:CVM - Court #1
GEO:45.5146585;-73.5658635
CREATED:20151007T201721Z
DTSTART:20160315T011500Z
DTEND:20160315T021500Z
DTSTAMP:20260420T145304Z
SUMMARY:LIBERTEE 55 vs. ANTUAN
DESCRIPTION:ANTUAN vs. LIBERTEE 55Plus d'info : #49
X-ALT-DESC;FMTTYPE=text/html:<!DOCTYPE HTML PUBLIC "-//W3C//DTD HTML 3.2//E
	N">\n<HTML>\n<HEAD>\n<TITLE></TITLE>\n</HEAD>\n<BODY>\n<h3>ANTUAN vs. LIBER
	TEE 55</h3>Plus d'info : <a href="https://www.golnetwork.com/game/v/77958/"
	>#49</a>\n\n</BODY>\n</HTML>
STATUS:CONFIRMED
CLASS:PUBLIC
URL:https://www.golnetwork.com/game/v/77958/
X-MICROSOFT-CDO-BUSYSTATUS:BUSY
X-MICROSOFT-CDO-IMPORTANCE:1
END:VEVENT
BEGIN:VEVENT
UID:g80gg@games.golnetwork.com
LOCATION:CVM - Court #1
GEO:45.5146585;-73.5658635
CREATED:20151007T201721Z
DTSTART:20160322T011500Z
DTEND:20160322T021500Z
DTSTAMP:20260420T145304Z
SUMMARY:LIBERTEE 55 vs. RETRO
DESCRIPTION:RETRO vs. LIBERTEE 55Plus d'info : #545
X-ALT-DESC;FMTTYPE=text/html:<!DOCTYPE HTML PUBLIC "-//W3C//DTD HTML 3.2//E
	N">\n<HTML>\n<HEAD>\n<TITLE></TITLE>\n</HEAD>\n<BODY>\n<h3>RETRO vs. LIBERT
	EE 55</h3>Plus d'info : <a href="https://www.golnetwork.com/game/v/77957/">
	#545</a>\n\n</BODY>\n</HTML>
STATUS:CONFIRMED
CLASS:PUBLIC
URL:https://www.golnetwork.com/game/v/77957/
X-MICROSOFT-CDO-BUSYSTATUS:BUSY
X-MICROSOFT-CDO-IMPORTANCE:1
END:VEVENT
END:VCALENDAR
