BEGIN:VCALENDAR
PRODID:-//gdesolutions.com//MV Framework 1.0.0.1607 Calendar//EN
VERSION:2.0
METHOD:PUBLISH
CALSCALE:GREGORIAN
BEGIN:VEVENT
UID:g89h2@games.golnetwork.com
LOCATION:Lamport Stadium - Field 2
GEO:43.6390028;-79.4232104
CREATED:20151217T141637Z
DTSTART:20160330T010000Z
DTEND:20160330T020000Z
DTSTAMP:20260419T143758Z
SUMMARY:The D vs.  Balls In Your Face
DESCRIPTION: Balls In Your Face vs. The DPlus d'info : #481
X-ALT-DESC;FMTTYPE=text/html:<!DOCTYPE HTML PUBLIC "-//W3C//DTD HTML 3.2//E
	N">\n<HTML>\n<HEAD>\n<TITLE></TITLE>\n</HEAD>\n<BODY>\n<h3> Balls In Your F
	ace vs. The D</h3>Plus d'info : <a href="https://www.golnetwork.com/game/v/
	81244/">#481</a>\n\n</BODY>\n</HTML>
STATUS:CONFIRMED
CLASS:PUBLIC
URL:https://www.golnetwork.com/game/v/81244/
X-MICROSOFT-CDO-BUSYSTATUS:BUSY
X-MICROSOFT-CDO-IMPORTANCE:1
END:VEVENT
BEGIN:VEVENT
UID:g89h4@games.golnetwork.com
LOCATION:Lamport Stadium - Field 2
GEO:43.6390028;-79.4232104
CREATED:20151217T141637Z
DTSTART:20160330T020000Z
DTEND:20160330T030000Z
DTSTAMP:20260419T143758Z
SUMMARY: Business as Usual  vs. Vinny's Wolfpack
DESCRIPTION:Vinny's Wolfpack vs.  Business as Usual Plus d'info : #485
X-ALT-DESC;FMTTYPE=text/html:<!DOCTYPE HTML PUBLIC "-//W3C//DTD HTML 3.2//E
	N">\n<HTML>\n<HEAD>\n<TITLE></TITLE>\n</HEAD>\n<BODY>\n<h3>Vinny's Wolfpack
	 vs.  Business as Usual </h3>Plus d'info : <a href="https://www.golnetwork.
	com/game/v/81245/">#485</a>\n\n</BODY>\n</HTML>
STATUS:CONFIRMED
CLASS:PUBLIC
URL:https://www.golnetwork.com/game/v/81245/
X-MICROSOFT-CDO-BUSYSTATUS:BUSY
X-MICROSOFT-CDO-IMPORTANCE:1
END:VEVENT
BEGIN:VEVENT
UID:g89h6@games.golnetwork.com
LOCATION:Lamport Stadium - Field 2
GEO:43.6390028;-79.4232104
CREATED:20151217T141637Z
DTSTART:20160406T010000Z
DTEND:20160406T020000Z
DTSTAMP:20260419T143758Z
SUMMARY: Business as Usual  vs. The D
DESCRIPTION:The D vs.  Business as Usual Plus d'info : #529
X-ALT-DESC;FMTTYPE=text/html:<!DOCTYPE HTML PUBLIC "-//W3C//DTD HTML 3.2//E
	N">\n<HTML>\n<HEAD>\n<TITLE></TITLE>\n</HEAD>\n<BODY>\n<h3>The D vs.  Busin
	ess as Usual </h3>Plus d'info : <a href="https://www.golnetwork.com/game/v/
	81246/">#529</a>\n\n</BODY>\n</HTML>
STATUS:CONFIRMED
CLASS:PUBLIC
URL:https://www.golnetwork.com/game/v/81246/
X-MICROSOFT-CDO-BUSYSTATUS:BUSY
X-MICROSOFT-CDO-IMPORTANCE:1
END:VEVENT
END:VCALENDAR
