BEGIN:VCALENDAR
PRODID:-//gdesolutions.com//MV Framework 1.0.0.1607 Calendar//EN
VERSION:2.0
METHOD:PUBLISH
CALSCALE:GREGORIAN
BEGIN:VEVENT
UID:g8gk2@games.golnetwork.com
LOCATION:Louis Riel #2
GEO:45.4410208;-75.5715394
CREATED:20160210T075233Z
DTSTART:20160214T190000Z
DTEND:20160214T200000Z
DTSTAMP:20260422T210917Z
SUMMARY:Wild Ninja Pandas vs. Winded FC
DESCRIPTION:Winded FC vs. Wild Ninja PandasPlus d'info : #90
X-ALT-DESC;FMTTYPE=text/html:<!DOCTYPE HTML PUBLIC "-//W3C//DTD HTML 3.2//E
	N">\n<HTML>\n<HEAD>\n<TITLE></TITLE>\n</HEAD>\n<BODY>\n<h3>Winded FC vs. Wi
	ld Ninja Pandas</h3>Plus d'info : <a href="https://www.golnetwork.com/game/
	v/83836/">#90</a>\n\n</BODY>\n</HTML>
STATUS:CONFIRMED
CLASS:PUBLIC
URL:https://www.golnetwork.com/game/v/83836/
X-MICROSOFT-CDO-BUSYSTATUS:BUSY
X-MICROSOFT-CDO-IMPORTANCE:1
END:VEVENT
BEGIN:VEVENT
UID:g8gk0@games.golnetwork.com
LOCATION:Bell Sensplex
GEO:45.2969975;-75.9090323
CREATED:20160210T075209Z
DTSTART:20160215T010000Z
DTEND:20160215T020000Z
DTSTAMP:20260422T210917Z
SUMMARY:Hooleys Hooligans vs. Otto Man Empire
DESCRIPTION:Otto Man Empire vs. Hooleys HooligansPlus d'info : #99
X-ALT-DESC;FMTTYPE=text/html:<!DOCTYPE HTML PUBLIC "-//W3C//DTD HTML 3.2//E
	N">\n<HTML>\n<HEAD>\n<TITLE></TITLE>\n</HEAD>\n<BODY>\n<h3>Otto Man Empire 
	vs. Hooleys Hooligans</h3>Plus d'info : <a href="https://www.golnetwork.com
	/game/v/83835/">#99</a>\n\n</BODY>\n</HTML>
STATUS:CONFIRMED
CLASS:PUBLIC
URL:https://www.golnetwork.com/game/v/83835/
X-MICROSOFT-CDO-BUSYSTATUS:BUSY
X-MICROSOFT-CDO-IMPORTANCE:1
END:VEVENT
BEGIN:VEVENT
UID:g8gnl@games.golnetwork.com
LOCATION:Louis Riel #3
GEO:45.4410208;-75.5715394
CREATED:20160217T065756Z
DTSTART:20160221T180000Z
DTEND:20160221T190000Z
DTSTAMP:20260422T210917Z
SUMMARY:The Wildlings vs. Hooleys Hooligans
DESCRIPTION:Hooleys Hooligans vs. The WildlingsPlus d'info : #101
X-ALT-DESC;FMTTYPE=text/html:<!DOCTYPE HTML PUBLIC "-//W3C//DTD HTML 3.2//E
	N">\n<HTML>\n<HEAD>\n<TITLE></TITLE>\n</HEAD>\n<BODY>\n<h3>Hooleys Hooligan
	s vs. The Wildlings</h3>Plus d'info : <a href="https://www.golnetwork.com/g
	ame/v/83886/">#101</a>\n\n</BODY>\n</HTML>
STATUS:CONFIRMED
CLASS:PUBLIC
URL:https://www.golnetwork.com/game/v/83886/
X-MICROSOFT-CDO-BUSYSTATUS:BUSY
X-MICROSOFT-CDO-IMPORTANCE:1
END:VEVENT
BEGIN:VEVENT
UID:g8gnj@games.golnetwork.com
LOCATION:Louis Riel #2
GEO:45.4410208;-75.5715394
CREATED:20160217T065655Z
DTSTART:20160221T190000Z
DTEND:20160221T200000Z
DTSTAMP:20260422T210917Z
SUMMARY:Otto Man Empire vs. Wild Ninja Pandas
DESCRIPTION:Wild Ninja Pandas vs. Otto Man EmpirePlus d'info : #102
X-ALT-DESC;FMTTYPE=text/html:<!DOCTYPE HTML PUBLIC "-//W3C//DTD HTML 3.2//E
	N">\n<HTML>\n<HEAD>\n<TITLE></TITLE>\n</HEAD>\n<BODY>\n<h3>Wild Ninja Panda
	s vs. Otto Man Empire</h3>Plus d'info : <a href="https://www.golnetwork.com
	/game/v/83885/">#102</a>\n\n</BODY>\n</HTML>
STATUS:CONFIRMED
CLASS:PUBLIC
URL:https://www.golnetwork.com/game/v/83885/
X-MICROSOFT-CDO-BUSYSTATUS:BUSY
X-MICROSOFT-CDO-IMPORTANCE:1
END:VEVENT
BEGIN:VEVENT
UID:g8gn3@games.golnetwork.com
LOCATION:Bell Sensplex
GEO:45.2969975;-75.9090323
CREATED:20160217T065116Z
DTSTART:20160222T010000Z
DTEND:20160222T020000Z
DTSTAMP:20260422T210917Z
SUMMARY:Winded FC vs. Compadres FC
DESCRIPTION:Compadres FC vs. Winded FCPlus d'info : #110
X-ALT-DESC;FMTTYPE=text/html:<!DOCTYPE HTML PUBLIC "-//W3C//DTD HTML 3.2//E
	N">\n<HTML>\n<HEAD>\n<TITLE></TITLE>\n</HEAD>\n<BODY>\n<h3>Compadres FC vs.
	 Winded FC</h3>Plus d'info : <a href="https://www.golnetwork.com/game/v/838
	77/">#110</a>\n\n</BODY>\n</HTML>
STATUS:CONFIRMED
CLASS:PUBLIC
URL:https://www.golnetwork.com/game/v/83877/
X-MICROSOFT-CDO-BUSYSTATUS:BUSY
X-MICROSOFT-CDO-IMPORTANCE:1
END:VEVENT
BEGIN:VEVENT
UID:g8h94@games.golnetwork.com
LOCATION:Bell Sensplex
GEO:45.2969975;-75.9090323
CREATED:20160225T034625Z
DTSTART:20160229T010000Z
DTEND:20160229T020000Z
DTSTAMP:20260422T210917Z
SUMMARY:Otto Man Empire vs. Winded FC
DESCRIPTION:Winded FC vs. Otto Man EmpirePlus d'info : #121
X-ALT-DESC;FMTTYPE=text/html:<!DOCTYPE HTML PUBLIC "-//W3C//DTD HTML 3.2//E
	N">\n<HTML>\n<HEAD>\n<TITLE></TITLE>\n</HEAD>\n<BODY>\n<h3>Winded FC vs. Ot
	to Man Empire</h3>Plus d'info : <a href="https://www.golnetwork.com/game/v/
	84053/">#121</a>\n\n</BODY>\n</HTML>
STATUS:CONFIRMED
CLASS:PUBLIC
URL:https://www.golnetwork.com/game/v/84053/
X-MICROSOFT-CDO-BUSYSTATUS:BUSY
X-MICROSOFT-CDO-IMPORTANCE:1
END:VEVENT
END:VCALENDAR
