BEGIN:VCALENDAR
PRODID:-//gdesolutions.com//MV Framework 1.0.0.1607 Calendar//EN
VERSION:2.0
METHOD:PUBLISH
CALSCALE:GREGORIAN
BEGIN:VEVENT
UID:g8gjd@games.golnetwork.com
LOCATION:Louis Riel #3
GEO:45.4410208;-75.5715394
CREATED:20160210T074926Z
DTSTART:20160214T190000Z
DTEND:20160214T200000Z
DTSTAMP:20260425T235403Z
SUMMARY:The Hairy Cleats vs. helpingwithfurniture.org
DESCRIPTION:helpingwithfurniture.org vs. The Hairy CleatsPlus d'info : #91
X-ALT-DESC;FMTTYPE=text/html:<!DOCTYPE HTML PUBLIC "-//W3C//DTD HTML 3.2//E
	N">\n<HTML>\n<HEAD>\n<TITLE></TITLE>\n</HEAD>\n<BODY>\n<h3>helpingwithfurni
	ture.org vs. The Hairy Cleats</h3>Plus d'info : <a href="https://www.golnet
	work.com/game/v/83828/">#91</a>\n\n</BODY>\n</HTML>
STATUS:CONFIRMED
CLASS:PUBLIC
URL:https://www.golnetwork.com/game/v/83828/
X-MICROSOFT-CDO-BUSYSTATUS:BUSY
X-MICROSOFT-CDO-IMPORTANCE:1
END:VEVENT
BEGIN:VEVENT
UID:g8gjf@games.golnetwork.com
LOCATION:Louis Riel #3
GEO:45.4410208;-75.5715394
CREATED:20160210T074949Z
DTSTART:20160214T200000Z
DTEND:20160214T210000Z
DTSTAMP:20260425T235403Z
SUMMARY:Real Ale Madrid vs. Dirty Mike & The Boys
DESCRIPTION:Dirty Mike & The Boys vs. Real Ale MadridPlus d'info : #93
X-ALT-DESC;FMTTYPE=text/html:<!DOCTYPE HTML PUBLIC "-//W3C//DTD HTML 3.2//E
	N">\n<HTML>\n<HEAD>\n<TITLE></TITLE>\n</HEAD>\n<BODY>\n<h3>Dirty Mike & The
	 Boys vs. Real Ale Madrid</h3>Plus d'info : <a href="https://www.golnetwork
	.com/game/v/83829/">#93</a>\n\n</BODY>\n</HTML>
STATUS:CONFIRMED
CLASS:PUBLIC
URL:https://www.golnetwork.com/game/v/83829/
X-MICROSOFT-CDO-BUSYSTATUS:BUSY
X-MICROSOFT-CDO-IMPORTANCE:1
END:VEVENT
BEGIN:VEVENT
UID:g8gjj@games.golnetwork.com
LOCATION:Louis Riel #3
GEO:45.4410208;-75.5715394
CREATED:20160210T075034Z
DTSTART:20160214T230000Z
DTEND:20160215T000000Z
DTSTAMP:20260425T235403Z
SUMMARY:Raiders FC vs. Mambas FC
DESCRIPTION:Mambas FC vs. Raiders FCPlus d'info : #97
X-ALT-DESC;FMTTYPE=text/html:<!DOCTYPE HTML PUBLIC "-//W3C//DTD HTML 3.2//E
	N">\n<HTML>\n<HEAD>\n<TITLE></TITLE>\n</HEAD>\n<BODY>\n<h3>Mambas FC vs. Ra
	iders FC</h3>Plus d'info : <a href="https://www.golnetwork.com/game/v/83831
	/">#97</a>\n\n</BODY>\n</HTML>
STATUS:CONFIRMED
CLASS:PUBLIC
URL:https://www.golnetwork.com/game/v/83831/
X-MICROSOFT-CDO-BUSYSTATUS:BUSY
X-MICROSOFT-CDO-IMPORTANCE:1
END:VEVENT
BEGIN:VEVENT
UID:g8gjh@games.golnetwork.com
LOCATION:Bell Sensplex
GEO:45.2969975;-75.9090323
CREATED:20160210T075013Z
DTSTART:20160215T020000Z
DTEND:20160215T030000Z
DTSTAMP:20260425T235403Z
SUMMARY:Ottawa Easy Wheels vs. Redbulls FC
DESCRIPTION:Redbulls FC vs. Ottawa Easy WheelsPlus d'info : #100
X-ALT-DESC;FMTTYPE=text/html:<!DOCTYPE HTML PUBLIC "-//W3C//DTD HTML 3.2//E
	N">\n<HTML>\n<HEAD>\n<TITLE></TITLE>\n</HEAD>\n<BODY>\n<h3>Redbulls FC vs. 
	Ottawa Easy Wheels</h3>Plus d'info : <a href="https://www.golnetwork.com/ga
	me/v/83830/">#100</a>\n\n</BODY>\n</HTML>
STATUS:CONFIRMED
CLASS:PUBLIC
URL:https://www.golnetwork.com/game/v/83830/
X-MICROSOFT-CDO-BUSYSTATUS:BUSY
X-MICROSOFT-CDO-IMPORTANCE:1
END:VEVENT
BEGIN:VEVENT
UID:g8gn7@games.golnetwork.com
LOCATION:Louis Riel #3
GEO:45.4410208;-75.5715394
CREATED:20160217T065210Z
DTSTART:20160221T190000Z
DTEND:20160221T200000Z
DTSTAMP:20260425T235403Z
SUMMARY:Raiders FC vs. The Fighting Mongooses
DESCRIPTION:The Fighting Mongooses vs. Raiders FCPlus d'info : #103
X-ALT-DESC;FMTTYPE=text/html:<!DOCTYPE HTML PUBLIC "-//W3C//DTD HTML 3.2//E
	N">\n<HTML>\n<HEAD>\n<TITLE></TITLE>\n</HEAD>\n<BODY>\n<h3>The Fighting Mon
	gooses vs. Raiders FC</h3>Plus d'info : <a href="https://www.golnetwork.com
	/game/v/83879/">#103</a>\n\n</BODY>\n</HTML>
STATUS:CONFIRMED
CLASS:PUBLIC
URL:https://www.golnetwork.com/game/v/83879/
X-MICROSOFT-CDO-BUSYSTATUS:BUSY
X-MICROSOFT-CDO-IMPORTANCE:1
END:VEVENT
BEGIN:VEVENT
UID:g8gn9@games.golnetwork.com
LOCATION:Louis Riel #3
GEO:45.4410208;-75.5715394
CREATED:20160217T065240Z
DTSTART:20160221T200000Z
DTEND:20160221T210000Z
DTSTAMP:20260425T235403Z
SUMMARY:Dirty Mike & The Boys vs. helpingwithfurniture.org
DESCRIPTION:helpingwithfurniture.org vs. Dirty Mike & The BoysPlus d'info :
	 #105
X-ALT-DESC;FMTTYPE=text/html:<!DOCTYPE HTML PUBLIC "-//W3C//DTD HTML 3.2//E
	N">\n<HTML>\n<HEAD>\n<TITLE></TITLE>\n</HEAD>\n<BODY>\n<h3>helpingwithfurni
	ture.org vs. Dirty Mike & The Boys</h3>Plus d'info : <a href="https://www.g
	olnetwork.com/game/v/83880/">#105</a>\n\n</BODY>\n</HTML>
STATUS:CONFIRMED
CLASS:PUBLIC
URL:https://www.golnetwork.com/game/v/83880/
X-MICROSOFT-CDO-BUSYSTATUS:BUSY
X-MICROSOFT-CDO-IMPORTANCE:1
END:VEVENT
BEGIN:VEVENT
UID:g8gnh@games.golnetwork.com
LOCATION:Louis Riel #3
GEO:45.4410208;-75.5715394
CREATED:20160217T065600Z
DTSTART:20160221T220000Z
DTEND:20160221T230000Z
DTSTAMP:20260425T235403Z
SUMMARY:Real Ale Madrid vs. Mambas FC
DESCRIPTION:Mambas FC vs. Real Ale MadridPlus d'info : #108
X-ALT-DESC;FMTTYPE=text/html:<!DOCTYPE HTML PUBLIC "-//W3C//DTD HTML 3.2//E
	N">\n<HTML>\n<HEAD>\n<TITLE></TITLE>\n</HEAD>\n<BODY>\n<h3>Mambas FC vs. Re
	al Ale Madrid</h3>Plus d'info : <a href="https://www.golnetwork.com/game/v/
	83884/">#108</a>\n\n</BODY>\n</HTML>
STATUS:CONFIRMED
CLASS:PUBLIC
URL:https://www.golnetwork.com/game/v/83884/
X-MICROSOFT-CDO-BUSYSTATUS:BUSY
X-MICROSOFT-CDO-IMPORTANCE:1
END:VEVENT
BEGIN:VEVENT
UID:g8gn5@games.golnetwork.com
LOCATION:Louis Riel #3
GEO:45.4410208;-75.5715394
CREATED:20160217T065141Z
DTSTART:20160221T230000Z
DTEND:20160222T000000Z
DTSTAMP:20260425T235403Z
SUMMARY:Ottawa Easy Wheels vs. Goalfinger
DESCRIPTION:Goalfinger vs. Ottawa Easy WheelsPlus d'info : #109
X-ALT-DESC;FMTTYPE=text/html:<!DOCTYPE HTML PUBLIC "-//W3C//DTD HTML 3.2//E
	N">\n<HTML>\n<HEAD>\n<TITLE></TITLE>\n</HEAD>\n<BODY>\n<h3>Goalfinger vs. O
	ttawa Easy Wheels</h3>Plus d'info : <a href="https://www.golnetwork.com/gam
	e/v/83878/">#109</a>\n\n</BODY>\n</HTML>
STATUS:CONFIRMED
CLASS:PUBLIC
URL:https://www.golnetwork.com/game/v/83878/
X-MICROSOFT-CDO-BUSYSTATUS:BUSY
X-MICROSOFT-CDO-IMPORTANCE:1
END:VEVENT
BEGIN:VEVENT
UID:g8gnf@games.golnetwork.com
LOCATION:Bell Sensplex
GEO:45.2969975;-75.9090323
CREATED:20160217T065511Z
DTSTART:20160222T020000Z
DTEND:20160222T030000Z
DTSTAMP:20260425T235403Z
SUMMARY:The Hairy Cleats vs. Picante Pelotas
DESCRIPTION:Picante Pelotas vs. The Hairy CleatsPlus d'info : #112
X-ALT-DESC;FMTTYPE=text/html:<!DOCTYPE HTML PUBLIC "-//W3C//DTD HTML 3.2//E
	N">\n<HTML>\n<HEAD>\n<TITLE></TITLE>\n</HEAD>\n<BODY>\n<h3>Picante Pelotas 
	vs. The Hairy Cleats</h3>Plus d'info : <a href="https://www.golnetwork.com/
	game/v/83883/">#112</a>\n\n</BODY>\n</HTML>
STATUS:CONFIRMED
CLASS:PUBLIC
URL:https://www.golnetwork.com/game/v/83883/
X-MICROSOFT-CDO-BUSYSTATUS:BUSY
X-MICROSOFT-CDO-IMPORTANCE:1
END:VEVENT
BEGIN:VEVENT
UID:g8hdq@games.golnetwork.com
LOCATION:Louis Riel #3
GEO:45.4410208;-75.5715394
CREATED:20160225T204206Z
DTSTART:20160228T200000Z
DTEND:20160228T210000Z
DTSTAMP:20260425T235403Z
SUMMARY:Ottawa Easy Wheels vs. The Fighting Mongooses
DESCRIPTION:The Fighting Mongooses vs. Ottawa Easy WheelsPlus d'info : #116
X-ALT-DESC;FMTTYPE=text/html:<!DOCTYPE HTML PUBLIC "-//W3C//DTD HTML 3.2//E
	N">\n<HTML>\n<HEAD>\n<TITLE></TITLE>\n</HEAD>\n<BODY>\n<h3>The Fighting Mon
	gooses vs. Ottawa Easy Wheels</h3>Plus d'info : <a href="https://www.golnet
	work.com/game/v/84118/">#116</a>\n\n</BODY>\n</HTML>
STATUS:CONFIRMED
CLASS:PUBLIC
URL:https://www.golnetwork.com/game/v/84118/
X-MICROSOFT-CDO-BUSYSTATUS:BUSY
X-MICROSOFT-CDO-IMPORTANCE:1
END:VEVENT
BEGIN:VEVENT
UID:g8h90@games.golnetwork.com
LOCATION:Bell Sensplex
GEO:45.2969975;-75.9090323
CREATED:20160225T034545Z
DTSTART:20160229T030000Z
DTEND:20160229T040000Z
DTSTAMP:20260425T235403Z
SUMMARY:Redbulls FC vs. Raiders FC
DESCRIPTION:Raiders FC vs. Redbulls FCPlus d'info : #124
X-ALT-DESC;FMTTYPE=text/html:<!DOCTYPE HTML PUBLIC "-//W3C//DTD HTML 3.2//E
	N">\n<HTML>\n<HEAD>\n<TITLE></TITLE>\n</HEAD>\n<BODY>\n<h3>Raiders FC vs. R
	edbulls FC</h3>Plus d'info : <a href="https://www.golnetwork.com/game/v/840
	51/">#124</a>\n\n</BODY>\n</HTML>
STATUS:CONFIRMED
CLASS:PUBLIC
URL:https://www.golnetwork.com/game/v/84051/
X-MICROSOFT-CDO-BUSYSTATUS:BUSY
X-MICROSOFT-CDO-IMPORTANCE:1
END:VEVENT
BEGIN:VEVENT
UID:g8i8q@games.golnetwork.com
LOCATION:Louis Riel #3
GEO:45.4410208;-75.5715394
CREATED:20160303T060648Z
DTSTART:20160307T010000Z
DTEND:20160307T020000Z
DTSTAMP:20260425T235403Z
SUMMARY:helpingwithfurniture.org vs. Ottawa Easy Wheels
DESCRIPTION:Ottawa Easy Wheels vs. helpingwithfurniture.orgPlus d'info : #1
	26
X-ALT-DESC;FMTTYPE=text/html:<!DOCTYPE HTML PUBLIC "-//W3C//DTD HTML 3.2//E
	N">\n<HTML>\n<HEAD>\n<TITLE></TITLE>\n</HEAD>\n<BODY>\n<h3>Ottawa Easy Whee
	ls vs. helpingwithfurniture.org</h3>Plus d'info : <a href="https://www.goln
	etwork.com/game/v/84415/">#126</a>\n\n</BODY>\n</HTML>
STATUS:CONFIRMED
CLASS:PUBLIC
URL:https://www.golnetwork.com/game/v/84415/
X-MICROSOFT-CDO-BUSYSTATUS:BUSY
X-MICROSOFT-CDO-IMPORTANCE:1
END:VEVENT
END:VCALENDAR
