BEGIN:VCALENDAR
PRODID:-//gdesolutions.com//MV Framework 1.0.0.1607 Calendar//EN
VERSION:2.0
METHOD:PUBLISH
CALSCALE:GREGORIAN
BEGIN:VEVENT
UID:g88e6@games.golnetwork.com
LOCATION:Branchaud Briere Field #1
GEO:45.4982732;-75.6421544
CREATED:20151130T090057Z
DTSTART:20151204T020000Z
DTEND:20151204T025000Z
DTSTAMP:20260424T023814Z
SUMMARY:Real Ale Madrid vs. JFC
DESCRIPTION:JFC vs. Real Ale MadridPlus d'info : #16
X-ALT-DESC;FMTTYPE=text/html:<!DOCTYPE HTML PUBLIC "-//W3C//DTD HTML 3.2//E
	N">\n<HTML>\n<HEAD>\n<TITLE></TITLE>\n</HEAD>\n<BODY>\n<h3>JFC vs. Real Ale
	 Madrid</h3>Plus d'info : <a href="https://www.golnetwork.com/game/v/80841/
	">#16</a>\n\n</BODY>\n</HTML>
STATUS:CONFIRMED
CLASS:PUBLIC
URL:https://www.golnetwork.com/game/v/80841/
X-MICROSOFT-CDO-BUSYSTATUS:BUSY
X-MICROSOFT-CDO-IMPORTANCE:1
END:VEVENT
BEGIN:VEVENT
UID:g88dp@games.golnetwork.com
LOCATION:Hornet's Nest #2
GEO:45.4428309;-75.575268
CREATED:20151130T090057Z
DTSTART:20151204T023000Z
DTEND:20151204T032000Z
DTSTAMP:20260424T023814Z
SUMMARY:The All-Stars vs. Fusion
DESCRIPTION:Fusion vs. The All-StarsPlus d'info : #12
X-ALT-DESC;FMTTYPE=text/html:<!DOCTYPE HTML PUBLIC "-//W3C//DTD HTML 3.2//E
	N">\n<HTML>\n<HEAD>\n<TITLE></TITLE>\n</HEAD>\n<BODY>\n<h3>Fusion vs. The A
	ll-Stars</h3>Plus d'info : <a href="https://www.golnetwork.com/game/v/80837
	/">#12</a>\n\n</BODY>\n</HTML>
STATUS:CONFIRMED
CLASS:PUBLIC
URL:https://www.golnetwork.com/game/v/80837/
X-MICROSOFT-CDO-BUSYSTATUS:BUSY
X-MICROSOFT-CDO-IMPORTANCE:1
END:VEVENT
BEGIN:VEVENT
UID:g88e2@games.golnetwork.com
LOCATION:Hornet's Nest #2
GEO:45.4428309;-75.575268
CREATED:20151130T090057Z
DTSTART:20151204T033000Z
DTEND:20151204T042000Z
DTSTAMP:20260424T023814Z
SUMMARY:Winded FC vs. Wingnuts
DESCRIPTION:Wingnuts vs. Winded FCPlus d'info : #14
X-ALT-DESC;FMTTYPE=text/html:<!DOCTYPE HTML PUBLIC "-//W3C//DTD HTML 3.2//E
	N">\n<HTML>\n<HEAD>\n<TITLE></TITLE>\n</HEAD>\n<BODY>\n<h3>Wingnuts vs. Win
	ded FC</h3>Plus d'info : <a href="https://www.golnetwork.com/game/v/80839/"
	>#14</a>\n\n</BODY>\n</HTML>
STATUS:CONFIRMED
CLASS:PUBLIC
URL:https://www.golnetwork.com/game/v/80839/
X-MICROSOFT-CDO-BUSYSTATUS:BUSY
X-MICROSOFT-CDO-IMPORTANCE:1
END:VEVENT
BEGIN:VEVENT
UID:g88ec@games.golnetwork.com
LOCATION:Louis Riel #2
GEO:45.4410208;-75.5715394
CREATED:20151130T090058Z
DTSTART:20151211T010000Z
DTEND:20151211T015000Z
DTSTAMP:20260424T023814Z
SUMMARY:The All-Stars vs. Faux Paw FC
DESCRIPTION:Faux Paw FC vs. The All-StarsPlus d'info : #19
X-ALT-DESC;FMTTYPE=text/html:<!DOCTYPE HTML PUBLIC "-//W3C//DTD HTML 3.2//E
	N">\n<HTML>\n<HEAD>\n<TITLE></TITLE>\n</HEAD>\n<BODY>\n<h3>Faux Paw FC vs. 
	The All-Stars</h3>Plus d'info : <a href="https://www.golnetwork.com/game/v/
	80844/">#19</a>\n\n</BODY>\n</HTML>
STATUS:CONFIRMED
CLASS:PUBLIC
URL:https://www.golnetwork.com/game/v/80844/
X-MICROSOFT-CDO-BUSYSTATUS:BUSY
X-MICROSOFT-CDO-IMPORTANCE:1
END:VEVENT
BEGIN:VEVENT
UID:g88f7@games.golnetwork.com
LOCATION:Louis Riel #1
GEO:45.4410208;-75.5715394
CREATED:20151130T090058Z
DTSTART:20151211T030000Z
DTEND:20151211T035000Z
DTSTAMP:20260424T023814Z
SUMMARY:Wingnuts vs. Hammerheads
DESCRIPTION:Hammerheads vs. WingnutsPlus d'info : #30
X-ALT-DESC;FMTTYPE=text/html:<!DOCTYPE HTML PUBLIC "-//W3C//DTD HTML 3.2//E
	N">\n<HTML>\n<HEAD>\n<TITLE></TITLE>\n</HEAD>\n<BODY>\n<h3>Hammerheads vs. 
	Wingnuts</h3>Plus d'info : <a href="https://www.golnetwork.com/game/v/80855
	/">#30</a>\n\n</BODY>\n</HTML>
STATUS:CONFIRMED
CLASS:PUBLIC
URL:https://www.golnetwork.com/game/v/80855/
X-MICROSOFT-CDO-BUSYSTATUS:BUSY
X-MICROSOFT-CDO-IMPORTANCE:1
END:VEVENT
BEGIN:VEVENT
UID:g88eo@games.golnetwork.com
LOCATION:Louis Riel #2
GEO:45.4410208;-75.5715394
CREATED:20151130T090058Z
DTSTART:20151211T030000Z
DTEND:20151211T035000Z
DTSTAMP:20260424T023814Z
SUMMARY:JFC vs. Fusion
DESCRIPTION:Fusion vs. JFCPlus d'info : #25
X-ALT-DESC;FMTTYPE=text/html:<!DOCTYPE HTML PUBLIC "-//W3C//DTD HTML 3.2//E
	N">\n<HTML>\n<HEAD>\n<TITLE></TITLE>\n</HEAD>\n<BODY>\n<h3>Fusion vs. JFC</
	h3>Plus d'info : <a href="https://www.golnetwork.com/game/v/80850/">#25</a>
	\n\n</BODY>\n</HTML>
STATUS:CONFIRMED
CLASS:PUBLIC
URL:https://www.golnetwork.com/game/v/80850/
X-MICROSOFT-CDO-BUSYSTATUS:BUSY
X-MICROSOFT-CDO-IMPORTANCE:1
END:VEVENT
BEGIN:VEVENT
UID:g8907@games.golnetwork.com
LOCATION:Louis Riel #3
GEO:45.4410208;-75.5715394
CREATED:20151204T211542Z
DTSTART:20151211T033000Z
DTEND:20151211T042000Z
DTSTAMP:20260424T023814Z
SUMMARY:Real Ale Madrid vs. Winded FC
DESCRIPTION:Winded FC vs. Real Ale MadridPlus d'info : #33
X-ALT-DESC;FMTTYPE=text/html:<!DOCTYPE HTML PUBLIC "-//W3C//DTD HTML 3.2//E
	N">\n<HTML>\n<HEAD>\n<TITLE></TITLE>\n</HEAD>\n<BODY>\n<h3>Winded FC vs. Re
	al Ale Madrid</h3>Plus d'info : <a href="https://www.golnetwork.com/game/v/
	81017/">#33</a>\n\n</BODY>\n</HTML>
STATUS:CONFIRMED
CLASS:PUBLIC
URL:https://www.golnetwork.com/game/v/81017/
X-MICROSOFT-CDO-BUSYSTATUS:BUSY
X-MICROSOFT-CDO-IMPORTANCE:1
END:VEVENT
BEGIN:VEVENT
UID:g88g4@games.golnetwork.com
LOCATION:Louis Riel #2
GEO:45.4410208;-75.5715394
CREATED:20151130T090058Z
DTSTART:20151218T030000Z
DTEND:20151218T035000Z
DTSTAMP:20260424T023814Z
SUMMARY:Wingnuts vs. Real Ale Madrid
DESCRIPTION:Real Ale Madrid vs. WingnutsPlus d'info : #42
X-ALT-DESC;FMTTYPE=text/html:<!DOCTYPE HTML PUBLIC "-//W3C//DTD HTML 3.2//E
	N">\n<HTML>\n<HEAD>\n<TITLE></TITLE>\n</HEAD>\n<BODY>\n<h3>Real Ale Madrid 
	vs. Wingnuts</h3>Plus d'info : <a href="https://www.golnetwork.com/game/v/8
	0867/">#42</a>\n\n</BODY>\n</HTML>
STATUS:CONFIRMED
CLASS:PUBLIC
URL:https://www.golnetwork.com/game/v/80867/
X-MICROSOFT-CDO-BUSYSTATUS:BUSY
X-MICROSOFT-CDO-IMPORTANCE:1
END:VEVENT
BEGIN:VEVENT
UID:g88gg@games.golnetwork.com
LOCATION:Hornet's Nest #2
GEO:45.4428309;-75.575268
CREATED:20151130T090059Z
DTSTART:20151218T033000Z
DTEND:20151218T042000Z
DTSTAMP:20260424T023814Z
SUMMARY:Fusion vs. Faux Paw FC
DESCRIPTION:Faux Paw FC vs. FusionPlus d'info : #48
X-ALT-DESC;FMTTYPE=text/html:<!DOCTYPE HTML PUBLIC "-//W3C//DTD HTML 3.2//E
	N">\n<HTML>\n<HEAD>\n<TITLE></TITLE>\n</HEAD>\n<BODY>\n<h3>Faux Paw FC vs. 
	Fusion</h3>Plus d'info : <a href="https://www.golnetwork.com/game/v/80873/"
	>#48</a>\n\n</BODY>\n</HTML>
STATUS:CONFIRMED
CLASS:PUBLIC
URL:https://www.golnetwork.com/game/v/80873/
X-MICROSOFT-CDO-BUSYSTATUS:BUSY
X-MICROSOFT-CDO-IMPORTANCE:1
END:VEVENT
BEGIN:VEVENT
UID:g88gi@games.golnetwork.com
LOCATION:Hornet's Nest #3
GEO:45.4428309;-75.575268
CREATED:20151130T090059Z
DTSTART:20151218T033000Z
DTEND:20151218T042000Z
DTSTAMP:20260424T023814Z
SUMMARY:JFC vs. The All-Stars
DESCRIPTION:The All-Stars vs. JFCPlus d'info : #49
X-ALT-DESC;FMTTYPE=text/html:<!DOCTYPE HTML PUBLIC "-//W3C//DTD HTML 3.2//E
	N">\n<HTML>\n<HEAD>\n<TITLE></TITLE>\n</HEAD>\n<BODY>\n<h3>The All-Stars vs
	. JFC</h3>Plus d'info : <a href="https://www.golnetwork.com/game/v/80874/">
	#49</a>\n\n</BODY>\n</HTML>
STATUS:CONFIRMED
CLASS:PUBLIC
URL:https://www.golnetwork.com/game/v/80874/
X-MICROSOFT-CDO-BUSYSTATUS:BUSY
X-MICROSOFT-CDO-IMPORTANCE:1
END:VEVENT
BEGIN:VEVENT
UID:g892f@games.golnetwork.com
LOCATION:Louis Riel #3
GEO:45.4410208;-75.5715394
CREATED:20151208T072544Z
DTSTART:20160108T003000Z
DTEND:20160108T012000Z
DTSTAMP:20260424T023814Z
SUMMARY:Wingnuts vs. Fusion
DESCRIPTION:Fusion vs. WingnutsPlus d'info : #1
X-ALT-DESC;FMTTYPE=text/html:<!DOCTYPE HTML PUBLIC "-//W3C//DTD HTML 3.2//E
	N">\n<HTML>\n<HEAD>\n<TITLE></TITLE>\n</HEAD>\n<BODY>\n<h3>Fusion vs. Wingn
	uts</h3>Plus d'info : <a href="https://www.golnetwork.com/game/v/81048/">#1
	</a>\n\n</BODY>\n</HTML>
STATUS:CONFIRMED
CLASS:PUBLIC
URL:https://www.golnetwork.com/game/v/81048/
X-MICROSOFT-CDO-BUSYSTATUS:BUSY
X-MICROSOFT-CDO-IMPORTANCE:1
END:VEVENT
BEGIN:VEVENT
UID:g892h@games.golnetwork.com
LOCATION:Louis Riel #2
GEO:45.4410208;-75.5715394
CREATED:20151208T072544Z
DTSTART:20160108T010000Z
DTEND:20160108T015000Z
DTSTAMP:20260424T023814Z
SUMMARY:Hammerheads vs. Real Ale Madrid
DESCRIPTION:Real Ale Madrid vs. HammerheadsPlus d'info : #2
X-ALT-DESC;FMTTYPE=text/html:<!DOCTYPE HTML PUBLIC "-//W3C//DTD HTML 3.2//E
	N">\n<HTML>\n<HEAD>\n<TITLE></TITLE>\n</HEAD>\n<BODY>\n<h3>Real Ale Madrid 
	vs. Hammerheads</h3>Plus d'info : <a href="https://www.golnetwork.com/game/
	v/81049/">#2</a>\n\n</BODY>\n</HTML>
STATUS:CONFIRMED
CLASS:PUBLIC
URL:https://www.golnetwork.com/game/v/81049/
X-MICROSOFT-CDO-BUSYSTATUS:BUSY
X-MICROSOFT-CDO-IMPORTANCE:1
END:VEVENT
BEGIN:VEVENT
UID:g892j@games.golnetwork.com
LOCATION:Louis Riel #3
GEO:45.4410208;-75.5715394
CREATED:20151208T072544Z
DTSTART:20160108T013000Z
DTEND:20160108T022000Z
DTSTAMP:20260424T023814Z
SUMMARY:JFC vs. Faux Paw FC
DESCRIPTION:Faux Paw FC vs. JFCPlus d'info : #3
X-ALT-DESC;FMTTYPE=text/html:<!DOCTYPE HTML PUBLIC "-//W3C//DTD HTML 3.2//E
	N">\n<HTML>\n<HEAD>\n<TITLE></TITLE>\n</HEAD>\n<BODY>\n<h3>Faux Paw FC vs. 
	JFC</h3>Plus d'info : <a href="https://www.golnetwork.com/game/v/81050/">#3
	</a>\n\n</BODY>\n</HTML>
STATUS:CONFIRMED
CLASS:PUBLIC
URL:https://www.golnetwork.com/game/v/81050/
X-MICROSOFT-CDO-BUSYSTATUS:BUSY
X-MICROSOFT-CDO-IMPORTANCE:1
END:VEVENT
BEGIN:VEVENT
UID:g8coi@games.golnetwork.com
LOCATION:Louis Riel #2
GEO:45.4410208;-75.5715394
CREATED:20160111T084706Z
DTSTART:20160115T010000Z
DTEND:20160115T015000Z
DTSTAMP:20260424T023814Z
SUMMARY:JFC vs. Wingnuts
DESCRIPTION:Wingnuts vs. JFCPlus d'info : #2
X-ALT-DESC;FMTTYPE=text/html:<!DOCTYPE HTML PUBLIC "-//W3C//DTD HTML 3.2//E
	N">\n<HTML>\n<HEAD>\n<TITLE></TITLE>\n</HEAD>\n<BODY>\n<h3>Wingnuts vs. JFC
	</h3>Plus d'info : <a href="https://www.golnetwork.com/game/v/82440/">#2</a
	>\n\n</BODY>\n</HTML>
STATUS:CONFIRMED
CLASS:PUBLIC
URL:https://www.golnetwork.com/game/v/82440/
X-MICROSOFT-CDO-BUSYSTATUS:BUSY
X-MICROSOFT-CDO-IMPORTANCE:1
END:VEVENT
BEGIN:VEVENT
UID:g8cpd@games.golnetwork.com
LOCATION:Hornet's Nest #3
GEO:45.4428309;-75.575268
CREATED:20160111T084707Z
DTSTART:20160115T023000Z
DTEND:20160115T032000Z
DTSTAMP:20260424T023814Z
SUMMARY:Winded FC vs. Faux Paw FC
DESCRIPTION:Faux Paw FC vs. Winded FCPlus d'info : #13
X-ALT-DESC;FMTTYPE=text/html:<!DOCTYPE HTML PUBLIC "-//W3C//DTD HTML 3.2//E
	N">\n<HTML>\n<HEAD>\n<TITLE></TITLE>\n</HEAD>\n<BODY>\n<h3>Faux Paw FC vs. 
	Winded FC</h3>Plus d'info : <a href="https://www.golnetwork.com/game/v/8245
	1/">#13</a>\n\n</BODY>\n</HTML>
STATUS:CONFIRMED
CLASS:PUBLIC
URL:https://www.golnetwork.com/game/v/82451/
X-MICROSOFT-CDO-BUSYSTATUS:BUSY
X-MICROSOFT-CDO-IMPORTANCE:1
END:VEVENT
BEGIN:VEVENT
UID:g8cp7@games.golnetwork.com
LOCATION:Louis Riel #1
GEO:45.4410208;-75.5715394
CREATED:20160111T084707Z
DTSTART:20160115T040000Z
DTEND:20160115T045000Z
DTSTAMP:20260424T023814Z
SUMMARY:Team Doug vs. The All-Stars
DESCRIPTION:The All-Stars vs. Team DougPlus d'info : #10
X-ALT-DESC;FMTTYPE=text/html:<!DOCTYPE HTML PUBLIC "-//W3C//DTD HTML 3.2//E
	N">\n<HTML>\n<HEAD>\n<TITLE></TITLE>\n</HEAD>\n<BODY>\n<h3>The All-Stars vs
	. Team Doug</h3>Plus d'info : <a href="https://www.golnetwork.com/game/v/82
	448/">#10</a>\n\n</BODY>\n</HTML>
STATUS:CONFIRMED
CLASS:PUBLIC
URL:https://www.golnetwork.com/game/v/82448/
X-MICROSOFT-CDO-BUSYSTATUS:BUSY
X-MICROSOFT-CDO-IMPORTANCE:1
END:VEVENT
BEGIN:VEVENT
UID:g8cpp@games.golnetwork.com
LOCATION:Louis Riel #3
GEO:45.4410208;-75.5715394
CREATED:20160111T084708Z
DTSTART:20160122T003000Z
DTEND:20160122T012000Z
DTSTAMP:20260424T023814Z
SUMMARY:Wingnuts vs. Faux Paw FC
DESCRIPTION:Faux Paw FC vs. WingnutsPlus d'info : #19
X-ALT-DESC;FMTTYPE=text/html:<!DOCTYPE HTML PUBLIC "-//W3C//DTD HTML 3.2//E
	N">\n<HTML>\n<HEAD>\n<TITLE></TITLE>\n</HEAD>\n<BODY>\n<h3>Faux Paw FC vs. 
	Wingnuts</h3>Plus d'info : <a href="https://www.golnetwork.com/game/v/82457
	/">#19</a>\n\n</BODY>\n</HTML>
STATUS:CONFIRMED
CLASS:PUBLIC
URL:https://www.golnetwork.com/game/v/82457/
X-MICROSOFT-CDO-BUSYSTATUS:BUSY
X-MICROSOFT-CDO-IMPORTANCE:1
END:VEVENT
BEGIN:VEVENT
UID:g8cq0@games.golnetwork.com
LOCATION:Louis Riel #2
GEO:45.4410208;-75.5715394
CREATED:20160111T084708Z
DTSTART:20160122T010000Z
DTEND:20160122T015000Z
DTSTAMP:20260424T023814Z
SUMMARY:Winded FC vs. Fusion
DESCRIPTION:Fusion vs. Winded FCPlus d'info : #20
X-ALT-DESC;FMTTYPE=text/html:<!DOCTYPE HTML PUBLIC "-//W3C//DTD HTML 3.2//E
	N">\n<HTML>\n<HEAD>\n<TITLE></TITLE>\n</HEAD>\n<BODY>\n<h3>Fusion vs. Winde
	d FC</h3>Plus d'info : <a href="https://www.golnetwork.com/game/v/82458/">#
	20</a>\n\n</BODY>\n</HTML>
STATUS:CONFIRMED
CLASS:PUBLIC
URL:https://www.golnetwork.com/game/v/82458/
X-MICROSOFT-CDO-BUSYSTATUS:BUSY
X-MICROSOFT-CDO-IMPORTANCE:1
END:VEVENT
BEGIN:VEVENT
UID:g8cq2@games.golnetwork.com
LOCATION:Louis Riel #3
GEO:45.4410208;-75.5715394
CREATED:20160111T084708Z
DTSTART:20160122T013000Z
DTEND:20160122T022000Z
DTSTAMP:20260424T023814Z
SUMMARY:The Miseducation vs. JFC
DESCRIPTION:JFC vs. The MiseducationPlus d'info : #21
X-ALT-DESC;FMTTYPE=text/html:<!DOCTYPE HTML PUBLIC "-//W3C//DTD HTML 3.2//E
	N">\n<HTML>\n<HEAD>\n<TITLE></TITLE>\n</HEAD>\n<BODY>\n<h3>JFC vs. The Mise
	ducation</h3>Plus d'info : <a href="https://www.golnetwork.com/game/v/82459
	/">#21</a>\n\n</BODY>\n</HTML>
STATUS:CONFIRMED
CLASS:PUBLIC
URL:https://www.golnetwork.com/game/v/82459/
X-MICROSOFT-CDO-BUSYSTATUS:BUSY
X-MICROSOFT-CDO-IMPORTANCE:1
END:VEVENT
BEGIN:VEVENT
UID:g8d1a@games.golnetwork.com
LOCATION:Branchaud Briere Field #1
GEO:45.4982732;-75.6421544
CREATED:20160111T084710Z
DTSTART:20160129T020000Z
DTEND:20160129T025000Z
DTSTAMP:20260424T023814Z
SUMMARY:Wingnuts vs. The All-Stars
DESCRIPTION:The All-Stars vs. WingnutsPlus d'info : #52
X-ALT-DESC;FMTTYPE=text/html:<!DOCTYPE HTML PUBLIC "-//W3C//DTD HTML 3.2//E
	N">\n<HTML>\n<HEAD>\n<TITLE></TITLE>\n</HEAD>\n<BODY>\n<h3>The All-Stars vs
	. Wingnuts</h3>Plus d'info : <a href="https://www.golnetwork.com/game/v/824
	90/">#52</a>\n\n</BODY>\n</HTML>
STATUS:CONFIRMED
CLASS:PUBLIC
URL:https://www.golnetwork.com/game/v/82490/
X-MICROSOFT-CDO-BUSYSTATUS:BUSY
X-MICROSOFT-CDO-IMPORTANCE:1
END:VEVENT
BEGIN:VEVENT
UID:g8d0p@games.golnetwork.com
LOCATION:Louis Riel #1
GEO:45.4410208;-75.5715394
CREATED:20160111T084709Z
DTSTART:20160129T040000Z
DTEND:20160129T045000Z
DTSTAMP:20260424T023814Z
SUMMARY:Foot Loose FC vs. Fusion
DESCRIPTION:Fusion vs. Foot Loose FCPlus d'info : #46
X-ALT-DESC;FMTTYPE=text/html:<!DOCTYPE HTML PUBLIC "-//W3C//DTD HTML 3.2//E
	N">\n<HTML>\n<HEAD>\n<TITLE></TITLE>\n</HEAD>\n<BODY>\n<h3>Fusion vs. Foot 
	Loose FC</h3>Plus d'info : <a href="https://www.golnetwork.com/game/v/82484
	/">#46</a>\n\n</BODY>\n</HTML>
STATUS:CONFIRMED
CLASS:PUBLIC
URL:https://www.golnetwork.com/game/v/82484/
X-MICROSOFT-CDO-BUSYSTATUS:BUSY
X-MICROSOFT-CDO-IMPORTANCE:1
END:VEVENT
BEGIN:VEVENT
UID:g8d1e@games.golnetwork.com
LOCATION:Hornet's Nest #1
GEO:45.4428309;-75.575268
CREATED:20160111T084710Z
DTSTART:20160129T040000Z
DTEND:20160129T045000Z
DTSTAMP:20260424T023814Z
SUMMARY:JFC vs. Winded FC
DESCRIPTION:Winded FC vs. JFCPlus d'info : #54
X-ALT-DESC;FMTTYPE=text/html:<!DOCTYPE HTML PUBLIC "-//W3C//DTD HTML 3.2//E
	N">\n<HTML>\n<HEAD>\n<TITLE></TITLE>\n</HEAD>\n<BODY>\n<h3>Winded FC vs. JF
	C</h3>Plus d'info : <a href="https://www.golnetwork.com/game/v/82492/">#54<
	/a>\n\n</BODY>\n</HTML>
STATUS:CONFIRMED
CLASS:PUBLIC
URL:https://www.golnetwork.com/game/v/82492/
X-MICROSOFT-CDO-BUSYSTATUS:BUSY
X-MICROSOFT-CDO-IMPORTANCE:1
END:VEVENT
END:VCALENDAR
