BEGIN:VCALENDAR
PRODID:-//gdesolutions.com//MV Framework 1.0.0.1607 Calendar//EN
VERSION:2.0
METHOD:PUBLISH
CALSCALE:GREGORIAN
BEGIN:VEVENT
UID:g8gdb@games.golnetwork.com
LOCATION:Branchaud Briere Field #1
GEO:45.4982732;-75.6421544
CREATED:20160205T173713Z
DTSTART:20160205T020000Z
DTEND:20160205T025000Z
DTSTAMP:20260422T194234Z
SUMMARY:Nat & The Wookies vs. Missile-toe
DESCRIPTION:Missile-toe vs. Nat & The WookiesPlus d'info : #130
X-ALT-DESC;FMTTYPE=text/html:<!DOCTYPE HTML PUBLIC "-//W3C//DTD HTML 3.2//E
	N">\n<HTML>\n<HEAD>\n<TITLE></TITLE>\n</HEAD>\n<BODY>\n<h3>Missile-toe vs. 
	Nat & The Wookies</h3>Plus d'info : <a href="https://www.golnetwork.com/gam
	e/v/83746/">#130</a>\n\n</BODY>\n</HTML>
STATUS:CONFIRMED
CLASS:PUBLIC
URL:https://www.golnetwork.com/game/v/83746/
X-MICROSOFT-CDO-BUSYSTATUS:BUSY
X-MICROSOFT-CDO-IMPORTANCE:1
END:VEVENT
BEGIN:VEVENT
UID:g8gd7@games.golnetwork.com
LOCATION:Hornet's Nest #2
GEO:45.4428309;-75.575268
CREATED:20160205T173605Z
DTSTART:20160205T033000Z
DTEND:20160205T042000Z
DTSTAMP:20260422T194234Z
SUMMARY:The Miseducation vs. Foot Loose FC
DESCRIPTION:Foot Loose FC vs. The MiseducationPlus d'info : #138
X-ALT-DESC;FMTTYPE=text/html:<!DOCTYPE HTML PUBLIC "-//W3C//DTD HTML 3.2//E
	N">\n<HTML>\n<HEAD>\n<TITLE></TITLE>\n</HEAD>\n<BODY>\n<h3>Foot Loose FC vs
	. The Miseducation</h3>Plus d'info : <a href="https://www.golnetwork.com/ga
	me/v/83744/">#138</a>\n\n</BODY>\n</HTML>
STATUS:CONFIRMED
CLASS:PUBLIC
URL:https://www.golnetwork.com/game/v/83744/
X-MICROSOFT-CDO-BUSYSTATUS:BUSY
X-MICROSOFT-CDO-IMPORTANCE:1
END:VEVENT
BEGIN:VEVENT
UID:g8gd9@games.golnetwork.com
LOCATION:Hornet's Nest #3
GEO:45.4428309;-75.575268
CREATED:20160205T173651Z
DTSTART:20160205T033000Z
DTEND:20160205T042000Z
DTSTAMP:20260422T194234Z
SUMMARY:Fm FC vs. Rec Individuals 1
DESCRIPTION:Rec Individuals 1 vs. Fm FCPlus d'info : #139
X-ALT-DESC;FMTTYPE=text/html:<!DOCTYPE HTML PUBLIC "-//W3C//DTD HTML 3.2//E
	N">\n<HTML>\n<HEAD>\n<TITLE></TITLE>\n</HEAD>\n<BODY>\n<h3>Rec Individuals 
	1 vs. Fm FC</h3>Plus d'info : <a href="https://www.golnetwork.com/game/v/83
	745/">#139</a>\n\n</BODY>\n</HTML>
STATUS:CONFIRMED
CLASS:PUBLIC
URL:https://www.golnetwork.com/game/v/83745/
X-MICROSOFT-CDO-BUSYSTATUS:BUSY
X-MICROSOFT-CDO-IMPORTANCE:1
END:VEVENT
BEGIN:VEVENT
UID:g8gd3@games.golnetwork.com
LOCATION:Louis Riel #2
GEO:45.4410208;-75.5715394
CREATED:20160205T080620Z
DTSTART:20160205T040000Z
DTEND:20160205T045000Z
DTSTAMP:20260422T194234Z
SUMMARY:Hammerheads vs. Arsenanal FC
DESCRIPTION:Arsenanal FC vs. HammerheadsPlus d'info : #141
X-ALT-DESC;FMTTYPE=text/html:<!DOCTYPE HTML PUBLIC "-//W3C//DTD HTML 3.2//E
	N">\n<HTML>\n<HEAD>\n<TITLE></TITLE>\n</HEAD>\n<BODY>\n<h3>Arsenanal FC vs.
	 Hammerheads</h3>Plus d'info : <a href="https://www.golnetwork.com/game/v/8
	3742/">#141</a>\n\n</BODY>\n</HTML>
STATUS:CONFIRMED
CLASS:PUBLIC
URL:https://www.golnetwork.com/game/v/83742/
X-MICROSOFT-CDO-BUSYSTATUS:BUSY
X-MICROSOFT-CDO-IMPORTANCE:1
END:VEVENT
BEGIN:VEVENT
UID:g8gg4@games.golnetwork.com
LOCATION:Hornet's Nest #2
GEO:45.4428309;-75.575268
CREATED:20160208T063946Z
DTSTART:20160211T233000Z
DTEND:20160212T002000Z
DTSTAMP:20260422T194234Z
SUMMARY:Fm FC vs. Hammerheads
DESCRIPTION:Hammerheads vs. Fm FCPlus d'info : #142
X-ALT-DESC;FMTTYPE=text/html:<!DOCTYPE HTML PUBLIC "-//W3C//DTD HTML 3.2//E
	N">\n<HTML>\n<HEAD>\n<TITLE></TITLE>\n</HEAD>\n<BODY>\n<h3>Hammerheads vs. 
	Fm FC</h3>Plus d'info : <a href="https://www.golnetwork.com/game/v/83783/">
	#142</a>\n\n</BODY>\n</HTML>
STATUS:CONFIRMED
CLASS:PUBLIC
URL:https://www.golnetwork.com/game/v/83783/
X-MICROSOFT-CDO-BUSYSTATUS:BUSY
X-MICROSOFT-CDO-IMPORTANCE:1
END:VEVENT
BEGIN:VEVENT
UID:g8ggo@games.golnetwork.com
LOCATION:Louis Riel #1
GEO:45.4410208;-75.5715394
CREATED:20160208T065737Z
DTSTART:20160212T020000Z
DTEND:20160212T025000Z
DTSTAMP:20260422T194234Z
SUMMARY:Fusion vs. The All-Stars
DESCRIPTION:The All-Stars vs. FusionPlus d'info : #147
X-ALT-DESC;FMTTYPE=text/html:<!DOCTYPE HTML PUBLIC "-//W3C//DTD HTML 3.2//E
	N">\n<HTML>\n<HEAD>\n<TITLE></TITLE>\n</HEAD>\n<BODY>\n<h3>The All-Stars vs
	. Fusion</h3>Plus d'info : <a href="https://www.golnetwork.com/game/v/83793
	/">#147</a>\n\n</BODY>\n</HTML>
STATUS:CONFIRMED
CLASS:PUBLIC
URL:https://www.golnetwork.com/game/v/83793/
X-MICROSOFT-CDO-BUSYSTATUS:BUSY
X-MICROSOFT-CDO-IMPORTANCE:1
END:VEVENT
BEGIN:VEVENT
UID:g8gg6@games.golnetwork.com
LOCATION:Hornet's Nest #2
GEO:45.4428309;-75.575268
CREATED:20160208T064017Z
DTSTART:20160212T023000Z
DTEND:20160212T032000Z
DTSTAMP:20260422T194234Z
SUMMARY:Missile-toe vs. Team Doug
DESCRIPTION:Team Doug vs. Missile-toePlus d'info : #151
X-ALT-DESC;FMTTYPE=text/html:<!DOCTYPE HTML PUBLIC "-//W3C//DTD HTML 3.2//E
	N">\n<HTML>\n<HEAD>\n<TITLE></TITLE>\n</HEAD>\n<BODY>\n<h3>Team Doug vs. Mi
	ssile-toe</h3>Plus d'info : <a href="https://www.golnetwork.com/game/v/8378
	4/">#151</a>\n\n</BODY>\n</HTML>
STATUS:CONFIRMED
CLASS:PUBLIC
URL:https://www.golnetwork.com/game/v/83784/
X-MICROSOFT-CDO-BUSYSTATUS:BUSY
X-MICROSOFT-CDO-IMPORTANCE:1
END:VEVENT
BEGIN:VEVENT
UID:g8gh1@games.golnetwork.com
LOCATION:Louis Riel #1
GEO:45.4410208;-75.5715394
CREATED:20160208T065842Z
DTSTART:20160212T030000Z
DTEND:20160212T035000Z
DTSTAMP:20260422T194234Z
SUMMARY:Foot Loose FC vs. Rec Individuals 1
DESCRIPTION:Rec Individuals 1 vs. Foot Loose FCPlus d'info : #153
X-ALT-DESC;FMTTYPE=text/html:<!DOCTYPE HTML PUBLIC "-//W3C//DTD HTML 3.2//E
	N">\n<HTML>\n<HEAD>\n<TITLE></TITLE>\n</HEAD>\n<BODY>\n<h3>Rec Individuals 
	1 vs. Foot Loose FC</h3>Plus d'info : <a href="https://www.golnetwork.com/g
	ame/v/83795/">#153</a>\n\n</BODY>\n</HTML>
STATUS:CONFIRMED
CLASS:PUBLIC
URL:https://www.golnetwork.com/game/v/83795/
X-MICROSOFT-CDO-BUSYSTATUS:BUSY
X-MICROSOFT-CDO-IMPORTANCE:1
END:VEVENT
BEGIN:VEVENT
UID:g8gh5@games.golnetwork.com
LOCATION:Hornet's Nest #2
GEO:45.4428309;-75.575268
CREATED:20160208T065941Z
DTSTART:20160212T033000Z
DTEND:20160212T042000Z
DTSTAMP:20260422T194234Z
SUMMARY:Winded FC vs. Nat & The Wookies
DESCRIPTION:Nat & The Wookies vs. Winded FCPlus d'info : #157
X-ALT-DESC;FMTTYPE=text/html:<!DOCTYPE HTML PUBLIC "-//W3C//DTD HTML 3.2//E
	N">\n<HTML>\n<HEAD>\n<TITLE></TITLE>\n</HEAD>\n<BODY>\n<h3>Nat & The Wookie
	s vs. Winded FC</h3>Plus d'info : <a href="https://www.golnetwork.com/game/
	v/83797/">#157</a>\n\n</BODY>\n</HTML>
STATUS:CONFIRMED
CLASS:PUBLIC
URL:https://www.golnetwork.com/game/v/83797/
X-MICROSOFT-CDO-BUSYSTATUS:BUSY
X-MICROSOFT-CDO-IMPORTANCE:1
END:VEVENT
BEGIN:VEVENT
UID:g8gh7@games.golnetwork.com
LOCATION:Hornet's Nest #3
GEO:45.4428309;-75.575268
CREATED:20160208T070001Z
DTSTART:20160212T033000Z
DTEND:20160212T042000Z
DTSTAMP:20260422T194234Z
SUMMARY:Faux Paw FC vs. Red Chili Peppers
DESCRIPTION:Red Chili Peppers vs. Faux Paw FCPlus d'info : #158
X-ALT-DESC;FMTTYPE=text/html:<!DOCTYPE HTML PUBLIC "-//W3C//DTD HTML 3.2//E
	N">\n<HTML>\n<HEAD>\n<TITLE></TITLE>\n</HEAD>\n<BODY>\n<h3>Red Chili Pepper
	s vs. Faux Paw FC</h3>Plus d'info : <a href="https://www.golnetwork.com/gam
	e/v/83798/">#158</a>\n\n</BODY>\n</HTML>
STATUS:CONFIRMED
CLASS:PUBLIC
URL:https://www.golnetwork.com/game/v/83798/
X-MICROSOFT-CDO-BUSYSTATUS:BUSY
X-MICROSOFT-CDO-IMPORTANCE:1
END:VEVENT
BEGIN:VEVENT
UID:g8glf@games.golnetwork.com
LOCATION:Louis Riel #2
GEO:45.4410208;-75.5715394
CREATED:20160215T084749Z
DTSTART:20160219T010000Z
DTEND:20160219T015000Z
DTSTAMP:20260422T194234Z
SUMMARY:Arsenanal FC vs. Rec Individuals 1
DESCRIPTION:Rec Individuals 1 vs. Arsenanal FCPlus d'info : #160
X-ALT-DESC;FMTTYPE=text/html:<!DOCTYPE HTML PUBLIC "-//W3C//DTD HTML 3.2//E
	N">\n<HTML>\n<HEAD>\n<TITLE></TITLE>\n</HEAD>\n<BODY>\n<h3>Rec Individuals 
	1 vs. Arsenanal FC</h3>Plus d'info : <a href="https://www.golnetwork.com/ga
	me/v/83856/">#160</a>\n\n</BODY>\n</HTML>
STATUS:CONFIRMED
CLASS:PUBLIC
URL:https://www.golnetwork.com/game/v/83856/
X-MICROSOFT-CDO-BUSYSTATUS:BUSY
X-MICROSOFT-CDO-IMPORTANCE:1
END:VEVENT
BEGIN:VEVENT
UID:g8glh@games.golnetwork.com
LOCATION:Louis Riel #3
GEO:45.4410208;-75.5715394
CREATED:20160215T084823Z
DTSTART:20160219T013000Z
DTEND:20160219T022000Z
DTSTAMP:20260422T194234Z
SUMMARY:Hammerheads vs. Missile-toe
DESCRIPTION:Missile-toe vs. HammerheadsPlus d'info : #164
X-ALT-DESC;FMTTYPE=text/html:<!DOCTYPE HTML PUBLIC "-//W3C//DTD HTML 3.2//E
	N">\n<HTML>\n<HEAD>\n<TITLE></TITLE>\n</HEAD>\n<BODY>\n<h3>Missile-toe vs. 
	Hammerheads</h3>Plus d'info : <a href="https://www.golnetwork.com/game/v/83
	857/">#164</a>\n\n</BODY>\n</HTML>
STATUS:CONFIRMED
CLASS:PUBLIC
URL:https://www.golnetwork.com/game/v/83857/
X-MICROSOFT-CDO-BUSYSTATUS:BUSY
X-MICROSOFT-CDO-IMPORTANCE:1
END:VEVENT
BEGIN:VEVENT
UID:g8gm6@games.golnetwork.com
LOCATION:Louis Riel #3
GEO:45.4410208;-75.5715394
CREATED:20160215T085230Z
DTSTART:20160219T023000Z
DTEND:20160219T032000Z
DTSTAMP:20260422T194234Z
SUMMARY:Foot Loose FC vs. Team Doug
DESCRIPTION:Team Doug vs. Foot Loose FCPlus d'info : #171
X-ALT-DESC;FMTTYPE=text/html:<!DOCTYPE HTML PUBLIC "-//W3C//DTD HTML 3.2//E
	N">\n<HTML>\n<HEAD>\n<TITLE></TITLE>\n</HEAD>\n<BODY>\n<h3>Team Doug vs. Fo
	ot Loose FC</h3>Plus d'info : <a href="https://www.golnetwork.com/game/v/83
	865/">#171</a>\n\n</BODY>\n</HTML>
STATUS:CONFIRMED
CLASS:PUBLIC
URL:https://www.golnetwork.com/game/v/83865/
X-MICROSOFT-CDO-BUSYSTATUS:BUSY
X-MICROSOFT-CDO-IMPORTANCE:1
END:VEVENT
BEGIN:VEVENT
UID:g8gln@games.golnetwork.com
LOCATION:Hornet's Nest #3
GEO:45.4428309;-75.575268
CREATED:20160215T085020Z
DTSTART:20160219T023000Z
DTEND:20160219T032000Z
DTSTAMP:20260422T194234Z
SUMMARY:The Miseducation vs. Nat & The Wookies
DESCRIPTION:Nat & The Wookies vs. The MiseducationPlus d'info : #173
X-ALT-DESC;FMTTYPE=text/html:<!DOCTYPE HTML PUBLIC "-//W3C//DTD HTML 3.2//E
	N">\n<HTML>\n<HEAD>\n<TITLE></TITLE>\n</HEAD>\n<BODY>\n<h3>Nat & The Wookie
	s vs. The Miseducation</h3>Plus d'info : <a href="https://www.golnetwork.co
	m/game/v/83860/">#173</a>\n\n</BODY>\n</HTML>
STATUS:CONFIRMED
CLASS:PUBLIC
URL:https://www.golnetwork.com/game/v/83860/
X-MICROSOFT-CDO-BUSYSTATUS:BUSY
X-MICROSOFT-CDO-IMPORTANCE:1
END:VEVENT
BEGIN:VEVENT
UID:g8h89@games.golnetwork.com
LOCATION:Louis Riel #3
GEO:45.4410208;-75.5715394
CREATED:20160223T201248Z
DTSTART:20160226T003000Z
DTEND:20160226T012000Z
DTSTAMP:20260422T194234Z
SUMMARY:Fm FC vs. Foot Loose FC
DESCRIPTION:Foot Loose FC vs. Fm FCPlus d'info : #177
X-ALT-DESC;FMTTYPE=text/html:<!DOCTYPE HTML PUBLIC "-//W3C//DTD HTML 3.2//E
	N">\n<HTML>\n<HEAD>\n<TITLE></TITLE>\n</HEAD>\n<BODY>\n<h3>Foot Loose FC vs
	. Fm FC</h3>Plus d'info : <a href="https://www.golnetwork.com/game/v/84042/
	">#177</a>\n\n</BODY>\n</HTML>
STATUS:CONFIRMED
CLASS:PUBLIC
URL:https://www.golnetwork.com/game/v/84042/
X-MICROSOFT-CDO-BUSYSTATUS:BUSY
X-MICROSOFT-CDO-IMPORTANCE:1
END:VEVENT
BEGIN:VEVENT
UID:g8h8d@games.golnetwork.com
LOCATION:Louis Riel #2
GEO:45.4410208;-75.5715394
CREATED:20160223T201331Z
DTSTART:20160226T010000Z
DTEND:20160226T015000Z
DTSTAMP:20260422T194234Z
SUMMARY:The Miseducation vs. Arsenanal FC
DESCRIPTION:Arsenanal FC vs. The MiseducationPlus d'info : #178
X-ALT-DESC;FMTTYPE=text/html:<!DOCTYPE HTML PUBLIC "-//W3C//DTD HTML 3.2//E
	N">\n<HTML>\n<HEAD>\n<TITLE></TITLE>\n</HEAD>\n<BODY>\n<h3>Arsenanal FC vs.
	 The Miseducation</h3>Plus d'info : <a href="https://www.golnetwork.com/gam
	e/v/84044/">#178</a>\n\n</BODY>\n</HTML>
STATUS:CONFIRMED
CLASS:PUBLIC
URL:https://www.golnetwork.com/game/v/84044/
X-MICROSOFT-CDO-BUSYSTATUS:BUSY
X-MICROSOFT-CDO-IMPORTANCE:1
END:VEVENT
BEGIN:VEVENT
UID:g8h8b@games.golnetwork.com
LOCATION:Louis Riel #3
GEO:45.4410208;-75.5715394
CREATED:20160223T201316Z
DTSTART:20160226T013000Z
DTEND:20160226T022000Z
DTSTAMP:20260422T194234Z
SUMMARY:Team Doug vs. Hammerheads
DESCRIPTION:Hammerheads vs. Team DougPlus d'info : #179
X-ALT-DESC;FMTTYPE=text/html:<!DOCTYPE HTML PUBLIC "-//W3C//DTD HTML 3.2//E
	N">\n<HTML>\n<HEAD>\n<TITLE></TITLE>\n</HEAD>\n<BODY>\n<h3>Hammerheads vs. 
	Team Doug</h3>Plus d'info : <a href="https://www.golnetwork.com/game/v/8404
	3/">#179</a>\n\n</BODY>\n</HTML>
STATUS:CONFIRMED
CLASS:PUBLIC
URL:https://www.golnetwork.com/game/v/84043/
X-MICROSOFT-CDO-BUSYSTATUS:BUSY
X-MICROSOFT-CDO-IMPORTANCE:1
END:VEVENT
END:VCALENDAR
