BEGIN:VCALENDAR
PRODID:-//gdesolutions.com//MV Framework 1.0.0.1607 Calendar//EN
VERSION:2.0
METHOD:PUBLISH
CALSCALE:GREGORIAN
BEGIN:VEVENT
UID:g8aoa@games.golnetwork.com
LOCATION:Central Technical School
GEO:43.6637272;-79.4087613
CREATED:20160107T170834Z
DTSTART:20160119T230000Z
DTEND:20160120T000000Z
DTSTAMP:20260423T060736Z
SUMMARY:Unbelievaball vs. Az FC
DESCRIPTION:Az FC vs. UnbelievaballPlus d'info : #13
X-ALT-DESC;FMTTYPE=text/html:<!DOCTYPE HTML PUBLIC "-//W3C//DTD HTML 3.2//E
	N">\n<HTML>\n<HEAD>\n<TITLE></TITLE>\n</HEAD>\n<BODY>\n<h3>Az FC vs. Unbeli
	evaball</h3>Plus d'info : <a href="https://www.golnetwork.com/game/v/81707/
	">#13</a>\n\n</BODY>\n</HTML>
STATUS:CONFIRMED
CLASS:PUBLIC
URL:https://www.golnetwork.com/game/v/81707/
X-MICROSOFT-CDO-BUSYSTATUS:BUSY
X-MICROSOFT-CDO-IMPORTANCE:1
END:VEVENT
BEGIN:VEVENT
UID:g8aoc@games.golnetwork.com
LOCATION:Central Technical School
GEO:43.6637272;-79.4087613
CREATED:20160107T170835Z
DTSTART:20160120T000000Z
DTEND:20160120T010000Z
DTSTAMP:20260423T060736Z
SUMMARY:My Drinking Team Has A Soccer Problem vs. XTSC Kickers
DESCRIPTION:XTSC Kickers vs. My Drinking Team Has A Soccer ProblemPlus d'in
	fo : #14
X-ALT-DESC;FMTTYPE=text/html:<!DOCTYPE HTML PUBLIC "-//W3C//DTD HTML 3.2//E
	N">\n<HTML>\n<HEAD>\n<TITLE></TITLE>\n</HEAD>\n<BODY>\n<h3>XTSC Kickers vs.
	 My Drinking Team Has A Soccer Problem</h3>Plus d'info : <a href="https://w
	ww.golnetwork.com/game/v/81708/">#14</a>\n\n</BODY>\n</HTML>
STATUS:CONFIRMED
CLASS:PUBLIC
URL:https://www.golnetwork.com/game/v/81708/
X-MICROSOFT-CDO-BUSYSTATUS:BUSY
X-MICROSOFT-CDO-IMPORTANCE:1
END:VEVENT
BEGIN:VEVENT
UID:g8aoe@games.golnetwork.com
LOCATION:Central Technical School
GEO:43.6637272;-79.4087613
CREATED:20160107T170835Z
DTSTART:20160120T010000Z
DTEND:20160120T020000Z
DTSTAMP:20260423T060736Z
SUMMARY:NPOS FC vs. Northlanders FC
DESCRIPTION:Northlanders FC vs. NPOS FCPlus d'info : #15
X-ALT-DESC;FMTTYPE=text/html:<!DOCTYPE HTML PUBLIC "-//W3C//DTD HTML 3.2//E
	N">\n<HTML>\n<HEAD>\n<TITLE></TITLE>\n</HEAD>\n<BODY>\n<h3>Northlanders FC 
	vs. NPOS FC</h3>Plus d'info : <a href="https://www.golnetwork.com/game/v/81
	709/">#15</a>\n\n</BODY>\n</HTML>
STATUS:CONFIRMED
CLASS:PUBLIC
URL:https://www.golnetwork.com/game/v/81709/
X-MICROSOFT-CDO-BUSYSTATUS:BUSY
X-MICROSOFT-CDO-IMPORTANCE:1
END:VEVENT
BEGIN:VEVENT
UID:g8aog@games.golnetwork.com
LOCATION:Central Technical School
GEO:43.6637272;-79.4087613
CREATED:20160107T170835Z
DTSTART:20160120T020000Z
DTEND:20160120T030000Z
DTSTAMP:20260423T060736Z
SUMMARY:Team United vs.  Real Sports FC
DESCRIPTION: Real Sports FC vs. Team UnitedPlus d'info : #16
X-ALT-DESC;FMTTYPE=text/html:<!DOCTYPE HTML PUBLIC "-//W3C//DTD HTML 3.2//E
	N">\n<HTML>\n<HEAD>\n<TITLE></TITLE>\n</HEAD>\n<BODY>\n<h3> Real Sports FC 
	vs. Team United</h3>Plus d'info : <a href="https://www.golnetwork.com/game/
	v/81710/">#16</a>\n\n</BODY>\n</HTML>
STATUS:CONFIRMED
CLASS:PUBLIC
URL:https://www.golnetwork.com/game/v/81710/
X-MICROSOFT-CDO-BUSYSTATUS:BUSY
X-MICROSOFT-CDO-IMPORTANCE:1
END:VEVENT
BEGIN:VEVENT
UID:g8aoo@games.golnetwork.com
LOCATION:Central Technical School
GEO:43.6637272;-79.4087613
CREATED:20160107T170835Z
DTSTART:20160126T230000Z
DTEND:20160127T000000Z
DTSTAMP:20260423T060736Z
SUMMARY: Real Sports FC vs. Northlanders FC
DESCRIPTION:Northlanders FC vs.  Real Sports FCPlus d'info : #20
X-ALT-DESC;FMTTYPE=text/html:<!DOCTYPE HTML PUBLIC "-//W3C//DTD HTML 3.2//E
	N">\n<HTML>\n<HEAD>\n<TITLE></TITLE>\n</HEAD>\n<BODY>\n<h3>Northlanders FC 
	vs.  Real Sports FC</h3>Plus d'info : <a href="https://www.golnetwork.com/g
	ame/v/81714/">#20</a>\n\n</BODY>\n</HTML>
STATUS:CONFIRMED
CLASS:PUBLIC
URL:https://www.golnetwork.com/game/v/81714/
X-MICROSOFT-CDO-BUSYSTATUS:BUSY
X-MICROSOFT-CDO-IMPORTANCE:1
END:VEVENT
BEGIN:VEVENT
UID:g8aok@games.golnetwork.com
LOCATION:Central Technical School
GEO:43.6637272;-79.4087613
CREATED:20160107T170835Z
DTSTART:20160127T000000Z
DTEND:20160127T010000Z
DTSTAMP:20260423T060736Z
SUMMARY:NPOS FC vs. Az FC
DESCRIPTION:Az FC vs. NPOS FCPlus d'info : #21
X-ALT-DESC;FMTTYPE=text/html:<!DOCTYPE HTML PUBLIC "-//W3C//DTD HTML 3.2//E
	N">\n<HTML>\n<HEAD>\n<TITLE></TITLE>\n</HEAD>\n<BODY>\n<h3>Az FC vs. NPOS F
	C</h3>Plus d'info : <a href="https://www.golnetwork.com/game/v/81712/">#21<
	/a>\n\n</BODY>\n</HTML>
STATUS:CONFIRMED
CLASS:PUBLIC
URL:https://www.golnetwork.com/game/v/81712/
X-MICROSOFT-CDO-BUSYSTATUS:BUSY
X-MICROSOFT-CDO-IMPORTANCE:1
END:VEVENT
BEGIN:VEVENT
UID:g8aom@games.golnetwork.com
LOCATION:Central Technical School
GEO:43.6637272;-79.4087613
CREATED:20160107T170835Z
DTSTART:20160127T010000Z
DTEND:20160127T020000Z
DTSTAMP:20260423T060736Z
SUMMARY:Team United vs. XTSC Kickers
DESCRIPTION:XTSC Kickers vs. Team UnitedPlus d'info : #22
X-ALT-DESC;FMTTYPE=text/html:<!DOCTYPE HTML PUBLIC "-//W3C//DTD HTML 3.2//E
	N">\n<HTML>\n<HEAD>\n<TITLE></TITLE>\n</HEAD>\n<BODY>\n<h3>XTSC Kickers vs.
	 Team United</h3>Plus d'info : <a href="https://www.golnetwork.com/game/v/8
	1713/">#22</a>\n\n</BODY>\n</HTML>
STATUS:CONFIRMED
CLASS:PUBLIC
URL:https://www.golnetwork.com/game/v/81713/
X-MICROSOFT-CDO-BUSYSTATUS:BUSY
X-MICROSOFT-CDO-IMPORTANCE:1
END:VEVENT
BEGIN:VEVENT
UID:g8aoi@games.golnetwork.com
LOCATION:Central Technical School
GEO:43.6637272;-79.4087613
CREATED:20160107T170835Z
DTSTART:20160127T020000Z
DTEND:20160127T030000Z
DTSTAMP:20260423T060736Z
SUMMARY:My Drinking Team Has A Soccer Problem vs. Unbelievaball
DESCRIPTION:Unbelievaball vs. My Drinking Team Has A Soccer ProblemPlus d'i
	nfo : #23
X-ALT-DESC;FMTTYPE=text/html:<!DOCTYPE HTML PUBLIC "-//W3C//DTD HTML 3.2//E
	N">\n<HTML>\n<HEAD>\n<TITLE></TITLE>\n</HEAD>\n<BODY>\n<h3>Unbelievaball vs
	. My Drinking Team Has A Soccer Problem</h3>Plus d'info : <a href="https://
	www.golnetwork.com/game/v/81711/">#23</a>\n\n</BODY>\n</HTML>
STATUS:CONFIRMED
CLASS:PUBLIC
URL:https://www.golnetwork.com/game/v/81711/
X-MICROSOFT-CDO-BUSYSTATUS:BUSY
X-MICROSOFT-CDO-IMPORTANCE:1
END:VEVENT
BEGIN:VEVENT
UID:g8ap1@games.golnetwork.com
LOCATION:Central Technical School
GEO:43.6637272;-79.4087613
CREATED:20160107T170835Z
DTSTART:20160202T230000Z
DTEND:20160203T000000Z
DTSTAMP:20260423T060736Z
SUMMARY:Team United vs. My Drinking Team Has A Soccer Problem
DESCRIPTION:My Drinking Team Has A Soccer Problem vs. Team UnitedPlus d'inf
	o : #27
X-ALT-DESC;FMTTYPE=text/html:<!DOCTYPE HTML PUBLIC "-//W3C//DTD HTML 3.2//E
	N">\n<HTML>\n<HEAD>\n<TITLE></TITLE>\n</HEAD>\n<BODY>\n<h3>My Drinking Team
	 Has A Soccer Problem vs. Team United</h3>Plus d'info : <a href="https://ww
	w.golnetwork.com/game/v/81716/">#27</a>\n\n</BODY>\n</HTML>
STATUS:CONFIRMED
CLASS:PUBLIC
URL:https://www.golnetwork.com/game/v/81716/
X-MICROSOFT-CDO-BUSYSTATUS:BUSY
X-MICROSOFT-CDO-IMPORTANCE:1
END:VEVENT
BEGIN:VEVENT
UID:g8aoq@games.golnetwork.com
LOCATION:Central Technical School
GEO:43.6637272;-79.4087613
CREATED:20160107T170835Z
DTSTART:20160203T000000Z
DTEND:20160203T010000Z
DTSTAMP:20260423T060736Z
SUMMARY:Unbelievaball vs. NPOS FC
DESCRIPTION:NPOS FC vs. UnbelievaballPlus d'info : #28
X-ALT-DESC;FMTTYPE=text/html:<!DOCTYPE HTML PUBLIC "-//W3C//DTD HTML 3.2//E
	N">\n<HTML>\n<HEAD>\n<TITLE></TITLE>\n</HEAD>\n<BODY>\n<h3>NPOS FC vs. Unbe
	lievaball</h3>Plus d'info : <a href="https://www.golnetwork.com/game/v/8171
	5/">#28</a>\n\n</BODY>\n</HTML>
STATUS:CONFIRMED
CLASS:PUBLIC
URL:https://www.golnetwork.com/game/v/81715/
X-MICROSOFT-CDO-BUSYSTATUS:BUSY
X-MICROSOFT-CDO-IMPORTANCE:1
END:VEVENT
BEGIN:VEVENT
UID:g8ap3@games.golnetwork.com
LOCATION:Central Technical School
GEO:43.6637272;-79.4087613
CREATED:20160107T170835Z
DTSTART:20160203T010000Z
DTEND:20160203T020000Z
DTSTAMP:20260423T060736Z
SUMMARY: Real Sports FC vs. Az FC
DESCRIPTION:Az FC vs.  Real Sports FCPlus d'info : #29
X-ALT-DESC;FMTTYPE=text/html:<!DOCTYPE HTML PUBLIC "-//W3C//DTD HTML 3.2//E
	N">\n<HTML>\n<HEAD>\n<TITLE></TITLE>\n</HEAD>\n<BODY>\n<h3>Az FC vs.  Real 
	Sports FC</h3>Plus d'info : <a href="https://www.golnetwork.com/game/v/8171
	7/">#29</a>\n\n</BODY>\n</HTML>
STATUS:CONFIRMED
CLASS:PUBLIC
URL:https://www.golnetwork.com/game/v/81717/
X-MICROSOFT-CDO-BUSYSTATUS:BUSY
X-MICROSOFT-CDO-IMPORTANCE:1
END:VEVENT
BEGIN:VEVENT
UID:g8ap5@games.golnetwork.com
LOCATION:Central Technical School
GEO:43.6637272;-79.4087613
CREATED:20160107T170835Z
DTSTART:20160203T020000Z
DTEND:20160203T030000Z
DTSTAMP:20260423T060736Z
SUMMARY:Northlanders FC vs. XTSC Kickers
DESCRIPTION:XTSC Kickers vs. Northlanders FCPlus d'info : #30
X-ALT-DESC;FMTTYPE=text/html:<!DOCTYPE HTML PUBLIC "-//W3C//DTD HTML 3.2//E
	N">\n<HTML>\n<HEAD>\n<TITLE></TITLE>\n</HEAD>\n<BODY>\n<h3>XTSC Kickers vs.
	 Northlanders FC</h3>Plus d'info : <a href="https://www.golnetwork.com/game
	/v/81718/">#30</a>\n\n</BODY>\n</HTML>
STATUS:CONFIRMED
CLASS:PUBLIC
URL:https://www.golnetwork.com/game/v/81718/
X-MICROSOFT-CDO-BUSYSTATUS:BUSY
X-MICROSOFT-CDO-IMPORTANCE:1
END:VEVENT
BEGIN:VEVENT
UID:g8apd@games.golnetwork.com
LOCATION:Central Technical School
GEO:43.6637272;-79.4087613
CREATED:20160107T170835Z
DTSTART:20160209T230000Z
DTEND:20160210T000000Z
DTSTAMP:20260423T060736Z
SUMMARY:XTSC Kickers vs. Az FC
DESCRIPTION:Az FC vs. XTSC KickersPlus d'info : #34
X-ALT-DESC;FMTTYPE=text/html:<!DOCTYPE HTML PUBLIC "-//W3C//DTD HTML 3.2//E
	N">\n<HTML>\n<HEAD>\n<TITLE></TITLE>\n</HEAD>\n<BODY>\n<h3>Az FC vs. XTSC K
	ickers</h3>Plus d'info : <a href="https://www.golnetwork.com/game/v/81722/"
	>#34</a>\n\n</BODY>\n</HTML>
STATUS:CONFIRMED
CLASS:PUBLIC
URL:https://www.golnetwork.com/game/v/81722/
X-MICROSOFT-CDO-BUSYSTATUS:BUSY
X-MICROSOFT-CDO-IMPORTANCE:1
END:VEVENT
BEGIN:VEVENT
UID:g8ap7@games.golnetwork.com
LOCATION:Central Technical School
GEO:43.6637272;-79.4087613
CREATED:20160107T170835Z
DTSTART:20160210T000000Z
DTEND:20160210T010000Z
DTSTAMP:20260423T060736Z
SUMMARY:Team United vs. Unbelievaball
DESCRIPTION:Unbelievaball vs. Team UnitedPlus d'info : #35
X-ALT-DESC;FMTTYPE=text/html:<!DOCTYPE HTML PUBLIC "-//W3C//DTD HTML 3.2//E
	N">\n<HTML>\n<HEAD>\n<TITLE></TITLE>\n</HEAD>\n<BODY>\n<h3>Unbelievaball vs
	. Team United</h3>Plus d'info : <a href="https://www.golnetwork.com/game/v/
	81719/">#35</a>\n\n</BODY>\n</HTML>
STATUS:CONFIRMED
CLASS:PUBLIC
URL:https://www.golnetwork.com/game/v/81719/
X-MICROSOFT-CDO-BUSYSTATUS:BUSY
X-MICROSOFT-CDO-IMPORTANCE:1
END:VEVENT
BEGIN:VEVENT
UID:g8apb@games.golnetwork.com
LOCATION:Central Technical School
GEO:43.6637272;-79.4087613
CREATED:20160107T170835Z
DTSTART:20160210T010000Z
DTEND:20160210T020000Z
DTSTAMP:20260423T060736Z
SUMMARY:Northlanders FC vs. My Drinking Team Has A Soccer Problem
DESCRIPTION:My Drinking Team Has A Soccer Problem vs. Northlanders FCPlus d
	'info : #36
X-ALT-DESC;FMTTYPE=text/html:<!DOCTYPE HTML PUBLIC "-//W3C//DTD HTML 3.2//E
	N">\n<HTML>\n<HEAD>\n<TITLE></TITLE>\n</HEAD>\n<BODY>\n<h3>My Drinking Team
	 Has A Soccer Problem vs. Northlanders FC</h3>Plus d'info : <a href="https:
	//www.golnetwork.com/game/v/81721/">#36</a>\n\n</BODY>\n</HTML>
STATUS:CONFIRMED
CLASS:PUBLIC
URL:https://www.golnetwork.com/game/v/81721/
X-MICROSOFT-CDO-BUSYSTATUS:BUSY
X-MICROSOFT-CDO-IMPORTANCE:1
END:VEVENT
BEGIN:VEVENT
UID:g8ap9@games.golnetwork.com
LOCATION:Central Technical School
GEO:43.6637272;-79.4087613
CREATED:20160107T170835Z
DTSTART:20160210T020000Z
DTEND:20160210T030000Z
DTSTAMP:20260423T060736Z
SUMMARY: Real Sports FC vs. NPOS FC
DESCRIPTION:NPOS FC vs.  Real Sports FCPlus d'info : #37
X-ALT-DESC;FMTTYPE=text/html:<!DOCTYPE HTML PUBLIC "-//W3C//DTD HTML 3.2//E
	N">\n<HTML>\n<HEAD>\n<TITLE></TITLE>\n</HEAD>\n<BODY>\n<h3>NPOS FC vs.  Rea
	l Sports FC</h3>Plus d'info : <a href="https://www.golnetwork.com/game/v/81
	720/">#37</a>\n\n</BODY>\n</HTML>
STATUS:CONFIRMED
CLASS:PUBLIC
URL:https://www.golnetwork.com/game/v/81720/
X-MICROSOFT-CDO-BUSYSTATUS:BUSY
X-MICROSOFT-CDO-IMPORTANCE:1
END:VEVENT
BEGIN:VEVENT
UID:g8apj@games.golnetwork.com
LOCATION:Central Technical School
GEO:43.6637272;-79.4087613
CREATED:20160107T170835Z
DTSTART:20160216T230000Z
DTEND:20160217T000000Z
DTSTAMP:20260423T060736Z
SUMMARY:XTSC Kickers vs. NPOS FC
DESCRIPTION:NPOS FC vs. XTSC KickersPlus d'info : #38
X-ALT-DESC;FMTTYPE=text/html:<!DOCTYPE HTML PUBLIC "-//W3C//DTD HTML 3.2//E
	N">\n<HTML>\n<HEAD>\n<TITLE></TITLE>\n</HEAD>\n<BODY>\n<h3>NPOS FC vs. XTSC
	 Kickers</h3>Plus d'info : <a href="https://www.golnetwork.com/game/v/81725
	/">#38</a>\n\n</BODY>\n</HTML>
STATUS:CONFIRMED
CLASS:PUBLIC
URL:https://www.golnetwork.com/game/v/81725/
X-MICROSOFT-CDO-BUSYSTATUS:BUSY
X-MICROSOFT-CDO-IMPORTANCE:1
END:VEVENT
BEGIN:VEVENT
UID:g8aph@games.golnetwork.com
LOCATION:Central Technical School
GEO:43.6637272;-79.4087613
CREATED:20160107T170835Z
DTSTART:20160217T000000Z
DTEND:20160217T010000Z
DTSTAMP:20260423T060736Z
SUMMARY:Northlanders FC vs. Team United
DESCRIPTION:Team United vs. Northlanders FCPlus d'info : #39
X-ALT-DESC;FMTTYPE=text/html:<!DOCTYPE HTML PUBLIC "-//W3C//DTD HTML 3.2//E
	N">\n<HTML>\n<HEAD>\n<TITLE></TITLE>\n</HEAD>\n<BODY>\n<h3>Team United vs. 
	Northlanders FC</h3>Plus d'info : <a href="https://www.golnetwork.com/game/
	v/81724/">#39</a>\n\n</BODY>\n</HTML>
STATUS:CONFIRMED
CLASS:PUBLIC
URL:https://www.golnetwork.com/game/v/81724/
X-MICROSOFT-CDO-BUSYSTATUS:BUSY
X-MICROSOFT-CDO-IMPORTANCE:1
END:VEVENT
BEGIN:VEVENT
UID:g8apf@games.golnetwork.com
LOCATION:Central Technical School
GEO:43.6637272;-79.4087613
CREATED:20160107T170835Z
DTSTART:20160217T010000Z
DTEND:20160217T020000Z
DTSTAMP:20260423T060736Z
SUMMARY:Unbelievaball vs.  Real Sports FC
DESCRIPTION: Real Sports FC vs. UnbelievaballPlus d'info : #40
X-ALT-DESC;FMTTYPE=text/html:<!DOCTYPE HTML PUBLIC "-//W3C//DTD HTML 3.2//E
	N">\n<HTML>\n<HEAD>\n<TITLE></TITLE>\n</HEAD>\n<BODY>\n<h3> Real Sports FC 
	vs. Unbelievaball</h3>Plus d'info : <a href="https://www.golnetwork.com/gam
	e/v/81723/">#40</a>\n\n</BODY>\n</HTML>
STATUS:CONFIRMED
CLASS:PUBLIC
URL:https://www.golnetwork.com/game/v/81723/
X-MICROSOFT-CDO-BUSYSTATUS:BUSY
X-MICROSOFT-CDO-IMPORTANCE:1
END:VEVENT
BEGIN:VEVENT
UID:g8apl@games.golnetwork.com
LOCATION:Central Technical School
GEO:43.6637272;-79.4087613
CREATED:20160107T170835Z
DTSTART:20160217T020000Z
DTEND:20160217T030000Z
DTSTAMP:20260423T060736Z
SUMMARY:Az FC vs. My Drinking Team Has A Soccer Problem
DESCRIPTION:My Drinking Team Has A Soccer Problem vs. Az FCPlus d'info : #4
	1
X-ALT-DESC;FMTTYPE=text/html:<!DOCTYPE HTML PUBLIC "-//W3C//DTD HTML 3.2//E
	N">\n<HTML>\n<HEAD>\n<TITLE></TITLE>\n</HEAD>\n<BODY>\n<h3>My Drinking Team
	 Has A Soccer Problem vs. Az FC</h3>Plus d'info : <a href="https://www.goln
	etwork.com/game/v/81726/">#41</a>\n\n</BODY>\n</HTML>
STATUS:CONFIRMED
CLASS:PUBLIC
URL:https://www.golnetwork.com/game/v/81726/
X-MICROSOFT-CDO-BUSYSTATUS:BUSY
X-MICROSOFT-CDO-IMPORTANCE:1
END:VEVENT
BEGIN:VEVENT
UID:g8apn@games.golnetwork.com
LOCATION:Central Technical School
GEO:43.6637272;-79.4087613
CREATED:20160107T170835Z
DTSTART:20160223T230000Z
DTEND:20160224T000000Z
DTSTAMP:20260423T060736Z
SUMMARY:Northlanders FC vs. Unbelievaball
DESCRIPTION:Unbelievaball vs. Northlanders FCPlus d'info : #45
X-ALT-DESC;FMTTYPE=text/html:<!DOCTYPE HTML PUBLIC "-//W3C//DTD HTML 3.2//E
	N">\n<HTML>\n<HEAD>\n<TITLE></TITLE>\n</HEAD>\n<BODY>\n<h3>Unbelievaball vs
	. Northlanders FC</h3>Plus d'info : <a href="https://www.golnetwork.com/gam
	e/v/81727/">#45</a>\n\n</BODY>\n</HTML>
STATUS:CONFIRMED
CLASS:PUBLIC
URL:https://www.golnetwork.com/game/v/81727/
X-MICROSOFT-CDO-BUSYSTATUS:BUSY
X-MICROSOFT-CDO-IMPORTANCE:1
END:VEVENT
BEGIN:VEVENT
UID:g8aq2@games.golnetwork.com
LOCATION:Central Technical School
GEO:43.6637272;-79.4087613
CREATED:20160107T170835Z
DTSTART:20160224T000000Z
DTEND:20160224T010000Z
DTSTAMP:20260423T060736Z
SUMMARY:My Drinking Team Has A Soccer Problem vs. NPOS FC
DESCRIPTION:NPOS FC vs. My Drinking Team Has A Soccer ProblemPlus d'info : 
	#46
X-ALT-DESC;FMTTYPE=text/html:<!DOCTYPE HTML PUBLIC "-//W3C//DTD HTML 3.2//E
	N">\n<HTML>\n<HEAD>\n<TITLE></TITLE>\n</HEAD>\n<BODY>\n<h3>NPOS FC vs. My D
	rinking Team Has A Soccer Problem</h3>Plus d'info : <a href="https://www.go
	lnetwork.com/game/v/81730/">#46</a>\n\n</BODY>\n</HTML>
STATUS:CONFIRMED
CLASS:PUBLIC
URL:https://www.golnetwork.com/game/v/81730/
X-MICROSOFT-CDO-BUSYSTATUS:BUSY
X-MICROSOFT-CDO-IMPORTANCE:1
END:VEVENT
BEGIN:VEVENT
UID:g8app@games.golnetwork.com
LOCATION:Central Technical School
GEO:43.6637272;-79.4087613
CREATED:20160107T170835Z
DTSTART:20160224T010000Z
DTEND:20160224T020000Z
DTSTAMP:20260423T060736Z
SUMMARY:XTSC Kickers vs.  Real Sports FC
DESCRIPTION: Real Sports FC vs. XTSC KickersPlus d'info : #47
X-ALT-DESC;FMTTYPE=text/html:<!DOCTYPE HTML PUBLIC "-//W3C//DTD HTML 3.2//E
	N">\n<HTML>\n<HEAD>\n<TITLE></TITLE>\n</HEAD>\n<BODY>\n<h3> Real Sports FC 
	vs. XTSC Kickers</h3>Plus d'info : <a href="https://www.golnetwork.com/game
	/v/81728/">#47</a>\n\n</BODY>\n</HTML>
STATUS:CONFIRMED
CLASS:PUBLIC
URL:https://www.golnetwork.com/game/v/81728/
X-MICROSOFT-CDO-BUSYSTATUS:BUSY
X-MICROSOFT-CDO-IMPORTANCE:1
END:VEVENT
BEGIN:VEVENT
UID:g8aq0@games.golnetwork.com
LOCATION:Central Technical School
GEO:43.6637272;-79.4087613
CREATED:20160107T170835Z
DTSTART:20160224T020000Z
DTEND:20160224T030000Z
DTSTAMP:20260423T060736Z
SUMMARY:Az FC vs. Team United
DESCRIPTION:Team United vs. Az FCPlus d'info : #48
X-ALT-DESC;FMTTYPE=text/html:<!DOCTYPE HTML PUBLIC "-//W3C//DTD HTML 3.2//E
	N">\n<HTML>\n<HEAD>\n<TITLE></TITLE>\n</HEAD>\n<BODY>\n<h3>Team United vs. 
	Az FC</h3>Plus d'info : <a href="https://www.golnetwork.com/game/v/81729/">
	#48</a>\n\n</BODY>\n</HTML>
STATUS:CONFIRMED
CLASS:PUBLIC
URL:https://www.golnetwork.com/game/v/81729/
X-MICROSOFT-CDO-BUSYSTATUS:BUSY
X-MICROSOFT-CDO-IMPORTANCE:1
END:VEVENT
BEGIN:VEVENT
UID:g8aqa@games.golnetwork.com
LOCATION:Central Technical School
GEO:43.6637272;-79.4087613
CREATED:20160107T170835Z
DTSTART:20160301T230000Z
DTEND:20160302T000000Z
DTSTAMP:20260423T060736Z
SUMMARY:NPOS FC vs. Team United
DESCRIPTION:Team United vs. NPOS FCPlus d'info : #52
X-ALT-DESC;FMTTYPE=text/html:<!DOCTYPE HTML PUBLIC "-//W3C//DTD HTML 3.2//E
	N">\n<HTML>\n<HEAD>\n<TITLE></TITLE>\n</HEAD>\n<BODY>\n<h3>Team United vs. 
	NPOS FC</h3>Plus d'info : <a href="https://www.golnetwork.com/game/v/81734/
	">#52</a>\n\n</BODY>\n</HTML>
STATUS:CONFIRMED
CLASS:PUBLIC
URL:https://www.golnetwork.com/game/v/81734/
X-MICROSOFT-CDO-BUSYSTATUS:BUSY
X-MICROSOFT-CDO-IMPORTANCE:1
END:VEVENT
BEGIN:VEVENT
UID:g8aq6@games.golnetwork.com
LOCATION:Central Technical School
GEO:43.6637272;-79.4087613
CREATED:20160107T170835Z
DTSTART:20160302T000000Z
DTEND:20160302T010000Z
DTSTAMP:20260423T060736Z
SUMMARY:Az FC vs. Northlanders FC
DESCRIPTION:Northlanders FC vs. Az FCPlus d'info : #53
X-ALT-DESC;FMTTYPE=text/html:<!DOCTYPE HTML PUBLIC "-//W3C//DTD HTML 3.2//E
	N">\n<HTML>\n<HEAD>\n<TITLE></TITLE>\n</HEAD>\n<BODY>\n<h3>Northlanders FC 
	vs. Az FC</h3>Plus d'info : <a href="https://www.golnetwork.com/game/v/8173
	2/">#53</a>\n\n</BODY>\n</HTML>
STATUS:CONFIRMED
CLASS:PUBLIC
URL:https://www.golnetwork.com/game/v/81732/
X-MICROSOFT-CDO-BUSYSTATUS:BUSY
X-MICROSOFT-CDO-IMPORTANCE:1
END:VEVENT
BEGIN:VEVENT
UID:g8aq8@games.golnetwork.com
LOCATION:Central Technical School
GEO:43.6637272;-79.4087613
CREATED:20160107T170835Z
DTSTART:20160302T010000Z
DTEND:20160302T020000Z
DTSTAMP:20260423T060736Z
SUMMARY:My Drinking Team Has A Soccer Problem vs.  Real Sports FC
DESCRIPTION: Real Sports FC vs. My Drinking Team Has A Soccer ProblemPlus d
	'info : #54
X-ALT-DESC;FMTTYPE=text/html:<!DOCTYPE HTML PUBLIC "-//W3C//DTD HTML 3.2//E
	N">\n<HTML>\n<HEAD>\n<TITLE></TITLE>\n</HEAD>\n<BODY>\n<h3> Real Sports FC 
	vs. My Drinking Team Has A Soccer Problem</h3>Plus d'info : <a href="https:
	//www.golnetwork.com/game/v/81733/">#54</a>\n\n</BODY>\n</HTML>
STATUS:CONFIRMED
CLASS:PUBLIC
URL:https://www.golnetwork.com/game/v/81733/
X-MICROSOFT-CDO-BUSYSTATUS:BUSY
X-MICROSOFT-CDO-IMPORTANCE:1
END:VEVENT
BEGIN:VEVENT
UID:g8aq4@games.golnetwork.com
LOCATION:Central Technical School
GEO:43.6637272;-79.4087613
CREATED:20160107T170835Z
DTSTART:20160302T020000Z
DTEND:20160302T030000Z
DTSTAMP:20260423T060736Z
SUMMARY:Unbelievaball vs. XTSC Kickers
DESCRIPTION:XTSC Kickers vs. UnbelievaballPlus d'info : #55
X-ALT-DESC;FMTTYPE=text/html:<!DOCTYPE HTML PUBLIC "-//W3C//DTD HTML 3.2//E
	N">\n<HTML>\n<HEAD>\n<TITLE></TITLE>\n</HEAD>\n<BODY>\n<h3>XTSC Kickers vs.
	 Unbelievaball</h3>Plus d'info : <a href="https://www.golnetwork.com/game/v
	/81731/">#55</a>\n\n</BODY>\n</HTML>
STATUS:CONFIRMED
CLASS:PUBLIC
URL:https://www.golnetwork.com/game/v/81731/
X-MICROSOFT-CDO-BUSYSTATUS:BUSY
X-MICROSOFT-CDO-IMPORTANCE:1
END:VEVENT
BEGIN:VEVENT
UID:g8aqe@games.golnetwork.com
LOCATION:Central Technical School
GEO:43.6637272;-79.4087613
CREATED:20160107T170835Z
DTSTART:20160308T230000Z
DTEND:20160309T000000Z
DTSTAMP:20260423T060736Z
SUMMARY: Real Sports FC vs. My Drinking Team Has A Soccer Problem
DESCRIPTION:My Drinking Team Has A Soccer Problem vs.  Real Sports FCPlus d
	'info : #59
X-ALT-DESC;FMTTYPE=text/html:<!DOCTYPE HTML PUBLIC "-//W3C//DTD HTML 3.2//E
	N">\n<HTML>\n<HEAD>\n<TITLE></TITLE>\n</HEAD>\n<BODY>\n<h3>My Drinking Team
	 Has A Soccer Problem vs.  Real Sports FC</h3>Plus d'info : <a href="https:
	//www.golnetwork.com/game/v/81736/">#59</a>\n\n</BODY>\n</HTML>
STATUS:CONFIRMED
CLASS:PUBLIC
URL:https://www.golnetwork.com/game/v/81736/
X-MICROSOFT-CDO-BUSYSTATUS:BUSY
X-MICROSOFT-CDO-IMPORTANCE:1
END:VEVENT
BEGIN:VEVENT
UID:g8aqi@games.golnetwork.com
LOCATION:Central Technical School
GEO:43.6637272;-79.4087613
CREATED:20160107T170835Z
DTSTART:20160309T000000Z
DTEND:20160309T010000Z
DTSTAMP:20260423T060736Z
SUMMARY:Team United vs. Unbelievaball
DESCRIPTION:Unbelievaball vs. Team UnitedPlus d'info : #60
X-ALT-DESC;FMTTYPE=text/html:<!DOCTYPE HTML PUBLIC "-//W3C//DTD HTML 3.2//E
	N">\n<HTML>\n<HEAD>\n<TITLE></TITLE>\n</HEAD>\n<BODY>\n<h3>Unbelievaball vs
	. Team United</h3>Plus d'info : <a href="https://www.golnetwork.com/game/v/
	81738/">#60</a>\n\n</BODY>\n</HTML>
STATUS:CONFIRMED
CLASS:PUBLIC
URL:https://www.golnetwork.com/game/v/81738/
X-MICROSOFT-CDO-BUSYSTATUS:BUSY
X-MICROSOFT-CDO-IMPORTANCE:1
END:VEVENT
BEGIN:VEVENT
UID:g8aqg@games.golnetwork.com
LOCATION:Central Technical School
GEO:43.6637272;-79.4087613
CREATED:20160107T170835Z
DTSTART:20160309T010000Z
DTEND:20160309T020000Z
DTSTAMP:20260423T060736Z
SUMMARY:Az FC vs. XTSC Kickers
DESCRIPTION:XTSC Kickers vs. Az FCPlus d'info : #61
X-ALT-DESC;FMTTYPE=text/html:<!DOCTYPE HTML PUBLIC "-//W3C//DTD HTML 3.2//E
	N">\n<HTML>\n<HEAD>\n<TITLE></TITLE>\n</HEAD>\n<BODY>\n<h3>XTSC Kickers vs.
	 Az FC</h3>Plus d'info : <a href="https://www.golnetwork.com/game/v/81737/"
	>#61</a>\n\n</BODY>\n</HTML>
STATUS:CONFIRMED
CLASS:PUBLIC
URL:https://www.golnetwork.com/game/v/81737/
X-MICROSOFT-CDO-BUSYSTATUS:BUSY
X-MICROSOFT-CDO-IMPORTANCE:1
END:VEVENT
BEGIN:VEVENT
UID:g8aqc@games.golnetwork.com
LOCATION:Central Technical School
GEO:43.6637272;-79.4087613
CREATED:20160107T170835Z
DTSTART:20160309T020000Z
DTEND:20160309T030000Z
DTSTAMP:20260423T060736Z
SUMMARY:Northlanders FC vs. NPOS FC
DESCRIPTION:NPOS FC vs. Northlanders FCPlus d'info : #62
X-ALT-DESC;FMTTYPE=text/html:<!DOCTYPE HTML PUBLIC "-//W3C//DTD HTML 3.2//E
	N">\n<HTML>\n<HEAD>\n<TITLE></TITLE>\n</HEAD>\n<BODY>\n<h3>NPOS FC vs. Nort
	hlanders FC</h3>Plus d'info : <a href="https://www.golnetwork.com/game/v/81
	735/">#62</a>\n\n</BODY>\n</HTML>
STATUS:CONFIRMED
CLASS:PUBLIC
URL:https://www.golnetwork.com/game/v/81735/
X-MICROSOFT-CDO-BUSYSTATUS:BUSY
X-MICROSOFT-CDO-IMPORTANCE:1
END:VEVENT
BEGIN:VEVENT
UID:g8aqk@games.golnetwork.com
LOCATION:Central Technical School
GEO:43.6637272;-79.4087613
CREATED:20160107T170835Z
DTSTART:20160329T220000Z
DTEND:20160329T230000Z
DTSTAMP:20260423T060736Z
SUMMARY:XTSC Kickers vs. NPOS FC
DESCRIPTION:NPOS FC vs. XTSC KickersPlus d'info : #63
X-ALT-DESC;FMTTYPE=text/html:<!DOCTYPE HTML PUBLIC "-//W3C//DTD HTML 3.2//E
	N">\n<HTML>\n<HEAD>\n<TITLE></TITLE>\n</HEAD>\n<BODY>\n<h3>NPOS FC vs. XTSC
	 Kickers</h3>Plus d'info : <a href="https://www.golnetwork.com/game/v/81739
	/">#63</a>\n\n</BODY>\n</HTML>
STATUS:CONFIRMED
CLASS:PUBLIC
URL:https://www.golnetwork.com/game/v/81739/
X-MICROSOFT-CDO-BUSYSTATUS:BUSY
X-MICROSOFT-CDO-IMPORTANCE:1
END:VEVENT
BEGIN:VEVENT
UID:g8aqm@games.golnetwork.com
LOCATION:Central Technical School
GEO:43.6637272;-79.4087613
CREATED:20160107T170835Z
DTSTART:20160330T010000Z
DTEND:20160330T020000Z
DTSTAMP:20260423T060736Z
SUMMARY:Northlanders FC vs. My Drinking Team Has A Soccer Problem
DESCRIPTION:My Drinking Team Has A Soccer Problem vs. Northlanders FCPlus d
	'info : #66
X-ALT-DESC;FMTTYPE=text/html:<!DOCTYPE HTML PUBLIC "-//W3C//DTD HTML 3.2//E
	N">\n<HTML>\n<HEAD>\n<TITLE></TITLE>\n</HEAD>\n<BODY>\n<h3>My Drinking Team
	 Has A Soccer Problem vs. Northlanders FC</h3>Plus d'info : <a href="https:
	//www.golnetwork.com/game/v/81740/">#66</a>\n\n</BODY>\n</HTML>
STATUS:CONFIRMED
CLASS:PUBLIC
URL:https://www.golnetwork.com/game/v/81740/
X-MICROSOFT-CDO-BUSYSTATUS:BUSY
X-MICROSOFT-CDO-IMPORTANCE:1
END:VEVENT
BEGIN:VEVENT
UID:g8aqo@games.golnetwork.com
LOCATION:Central Technical School
GEO:43.6637272;-79.4087613
CREATED:20160107T170835Z
DTSTART:20160405T220000Z
DTEND:20160405T230000Z
DTSTAMP:20260423T060736Z
SUMMARY:XTSC Kickers vs. Northlanders FC
DESCRIPTION:Northlanders FC vs. XTSC KickersPlus d'info : #67
X-ALT-DESC;FMTTYPE=text/html:<!DOCTYPE HTML PUBLIC "-//W3C//DTD HTML 3.2//E
	N">\n<HTML>\n<HEAD>\n<TITLE></TITLE>\n</HEAD>\n<BODY>\n<h3>Northlanders FC 
	vs. XTSC Kickers</h3>Plus d'info : <a href="https://www.golnetwork.com/game
	/v/81741/">#67</a>\n\n</BODY>\n</HTML>
STATUS:CONFIRMED
CLASS:PUBLIC
URL:https://www.golnetwork.com/game/v/81741/
X-MICROSOFT-CDO-BUSYSTATUS:BUSY
X-MICROSOFT-CDO-IMPORTANCE:1
END:VEVENT
BEGIN:VEVENT
UID:g8aqq@games.golnetwork.com
LOCATION:Central Technical School
GEO:43.6637272;-79.4087613
CREATED:20160107T170835Z
DTSTART:20160406T000000Z
DTEND:20160406T010000Z
DTSTAMP:20260423T060736Z
SUMMARY:Az FC vs. Unbelievaball
DESCRIPTION:Unbelievaball vs. Az FCPlus d'info : #69
X-ALT-DESC;FMTTYPE=text/html:<!DOCTYPE HTML PUBLIC "-//W3C//DTD HTML 3.2//E
	N">\n<HTML>\n<HEAD>\n<TITLE></TITLE>\n</HEAD>\n<BODY>\n<h3>Unbelievaball vs
	. Az FC</h3>Plus d'info : <a href="https://www.golnetwork.com/game/v/81742/
	">#69</a>\n\n</BODY>\n</HTML>
STATUS:CONFIRMED
CLASS:PUBLIC
URL:https://www.golnetwork.com/game/v/81742/
X-MICROSOFT-CDO-BUSYSTATUS:BUSY
X-MICROSOFT-CDO-IMPORTANCE:1
END:VEVENT
BEGIN:VEVENT
UID:g8b01@games.golnetwork.com
LOCATION:Central Technical School
GEO:43.6637272;-79.4087613
CREATED:20160107T170835Z
DTSTART:20160406T010000Z
DTEND:20160406T020000Z
DTSTAMP:20260423T060736Z
SUMMARY:My Drinking Team Has A Soccer Problem vs. NPOS FC
DESCRIPTION:NPOS FC vs. My Drinking Team Has A Soccer ProblemPlus d'info : 
	#70
X-ALT-DESC;FMTTYPE=text/html:<!DOCTYPE HTML PUBLIC "-//W3C//DTD HTML 3.2//E
	N">\n<HTML>\n<HEAD>\n<TITLE></TITLE>\n</HEAD>\n<BODY>\n<h3>NPOS FC vs. My D
	rinking Team Has A Soccer Problem</h3>Plus d'info : <a href="https://www.go
	lnetwork.com/game/v/81743/">#70</a>\n\n</BODY>\n</HTML>
STATUS:CONFIRMED
CLASS:PUBLIC
URL:https://www.golnetwork.com/game/v/81743/
X-MICROSOFT-CDO-BUSYSTATUS:BUSY
X-MICROSOFT-CDO-IMPORTANCE:1
END:VEVENT
END:VCALENDAR
