BEGIN:VCALENDAR
PRODID:-//gdesolutions.com//MV Framework 1.0.0.1607 Calendar//EN
VERSION:2.0
METHOD:PUBLISH
CALSCALE:GREGORIAN
BEGIN:VEVENT
UID:g8b03@games.golnetwork.com
LOCATION:Central Technical School
GEO:43.6637272;-79.4087613
CREATED:20160107T170932Z
DTSTART:20160329T230000Z
DTEND:20160330T000000Z
DTSTAMP:20260422T061636Z
SUMMARY:Unbelievaball vs.  Real Sports FC
DESCRIPTION: Real Sports FC vs. UnbelievaballPlus d'info : #64
X-ALT-DESC;FMTTYPE=text/html:<!DOCTYPE HTML PUBLIC "-//W3C//DTD HTML 3.2//E
	N">\n<HTML>\n<HEAD>\n<TITLE></TITLE>\n</HEAD>\n<BODY>\n<h3> Real Sports FC 
	vs. Unbelievaball</h3>Plus d'info : <a href="https://www.golnetwork.com/gam
	e/v/81744/">#64</a>\n\n</BODY>\n</HTML>
STATUS:CONFIRMED
CLASS:PUBLIC
URL:https://www.golnetwork.com/game/v/81744/
X-MICROSOFT-CDO-BUSYSTATUS:BUSY
X-MICROSOFT-CDO-IMPORTANCE:1
END:VEVENT
BEGIN:VEVENT
UID:g8b05@games.golnetwork.com
LOCATION:Central Technical School
GEO:43.6637272;-79.4087613
CREATED:20160107T170932Z
DTSTART:20160330T000000Z
DTEND:20160330T010000Z
DTSTAMP:20260422T061636Z
SUMMARY:Az FC vs. Team United
DESCRIPTION:Team United vs. Az FCPlus d'info : #65
X-ALT-DESC;FMTTYPE=text/html:<!DOCTYPE HTML PUBLIC "-//W3C//DTD HTML 3.2//E
	N">\n<HTML>\n<HEAD>\n<TITLE></TITLE>\n</HEAD>\n<BODY>\n<h3>Team United vs. 
	Az FC</h3>Plus d'info : <a href="https://www.golnetwork.com/game/v/81745/">
	#65</a>\n\n</BODY>\n</HTML>
STATUS:CONFIRMED
CLASS:PUBLIC
URL:https://www.golnetwork.com/game/v/81745/
X-MICROSOFT-CDO-BUSYSTATUS:BUSY
X-MICROSOFT-CDO-IMPORTANCE:1
END:VEVENT
BEGIN:VEVENT
UID:g8b07@games.golnetwork.com
LOCATION:Central Technical School
GEO:43.6637272;-79.4087613
CREATED:20160107T170932Z
DTSTART:20160405T230000Z
DTEND:20160406T000000Z
DTSTAMP:20260422T061636Z
SUMMARY:Team United vs.  Real Sports FC
DESCRIPTION: Real Sports FC vs. Team UnitedPlus d'info : #68
X-ALT-DESC;FMTTYPE=text/html:<!DOCTYPE HTML PUBLIC "-//W3C//DTD HTML 3.2//E
	N">\n<HTML>\n<HEAD>\n<TITLE></TITLE>\n</HEAD>\n<BODY>\n<h3> Real Sports FC 
	vs. Team United</h3>Plus d'info : <a href="https://www.golnetwork.com/game/
	v/81746/">#68</a>\n\n</BODY>\n</HTML>
STATUS:CONFIRMED
CLASS:PUBLIC
URL:https://www.golnetwork.com/game/v/81746/
X-MICROSOFT-CDO-BUSYSTATUS:BUSY
X-MICROSOFT-CDO-IMPORTANCE:1
END:VEVENT
END:VCALENDAR
