BEGIN:VCALENDAR
PRODID:-//gdesolutions.com//MV Framework 1.0.0.1607 Calendar//EN
VERSION:2.0
METHOD:PUBLISH
CALSCALE:GREGORIAN
BEGIN:VEVENT
UID:g8c22@games.golnetwork.com
LOCATION:Gym 1
GEO:45.10662;-94.578209
CREATED:20160109T215622Z
DTSTART:20160113T003000Z
DTEND:20160113T012400Z
DTSTAMP:20260422T045401Z
SUMMARY:Dodgefathers (CRB) vs. Can’t Dodge This
DESCRIPTION:Can’t Dodge This vs. Dodgefathers (CRB)Plus d'info : #1
X-ALT-DESC;FMTTYPE=text/html:<!DOCTYPE HTML PUBLIC "-//W3C//DTD HTML 3.2//E
	N">\n<HTML>\n<HEAD>\n<TITLE></TITLE>\n</HEAD>\n<BODY>\n<h3>Can’t Dodge Th
	is vs. Dodgefathers (CRB)</h3>Plus d'info : <a href="https://www.golnetwork
	.com/game/v/82135/">#1</a>\n\n</BODY>\n</HTML>
STATUS:CONFIRMED
CLASS:PUBLIC
URL:https://www.golnetwork.com/game/v/82135/
X-MICROSOFT-CDO-BUSYSTATUS:BUSY
X-MICROSOFT-CDO-IMPORTANCE:1
END:VEVENT
BEGIN:VEVENT
UID:g8c24@games.golnetwork.com
LOCATION:Gym 1
GEO:45.10662;-94.578209
CREATED:20160109T215622Z
DTSTART:20160113T011500Z
DTEND:20160113T020900Z
DTSTAMP:20260422T045401Z
SUMMARY:Duckaroos vs. Average Joes
DESCRIPTION:Average Joes vs. DuckaroosPlus d'info : #2
X-ALT-DESC;FMTTYPE=text/html:<!DOCTYPE HTML PUBLIC "-//W3C//DTD HTML 3.2//E
	N">\n<HTML>\n<HEAD>\n<TITLE></TITLE>\n</HEAD>\n<BODY>\n<h3>Average Joes vs.
	 Duckaroos</h3>Plus d'info : <a href="https://www.golnetwork.com/game/v/821
	36/">#2</a>\n\n</BODY>\n</HTML>
STATUS:CONFIRMED
CLASS:PUBLIC
URL:https://www.golnetwork.com/game/v/82136/
X-MICROSOFT-CDO-BUSYSTATUS:BUSY
X-MICROSOFT-CDO-IMPORTANCE:1
END:VEVENT
BEGIN:VEVENT
UID:g8c2a@games.golnetwork.com
LOCATION:Gym 1
GEO:45.10662;-94.578209
CREATED:20160109T215622Z
DTSTART:20160120T003000Z
DTEND:20160120T012400Z
DTSTAMP:20260422T045401Z
SUMMARY:Encino Men vs. All In
DESCRIPTION:All In vs. Encino MenPlus d'info : #8
X-ALT-DESC;FMTTYPE=text/html:<!DOCTYPE HTML PUBLIC "-//W3C//DTD HTML 3.2//E
	N">\n<HTML>\n<HEAD>\n<TITLE></TITLE>\n</HEAD>\n<BODY>\n<h3>All In vs. Encin
	o Men</h3>Plus d'info : <a href="https://www.golnetwork.com/game/v/82139/">
	#8</a>\n\n</BODY>\n</HTML>
STATUS:CONFIRMED
CLASS:PUBLIC
URL:https://www.golnetwork.com/game/v/82139/
X-MICROSOFT-CDO-BUSYSTATUS:BUSY
X-MICROSOFT-CDO-IMPORTANCE:1
END:VEVENT
BEGIN:VEVENT
UID:g8c2c@games.golnetwork.com
LOCATION:Gym 1
GEO:45.10662;-94.578209
CREATED:20160109T215622Z
DTSTART:20160120T011500Z
DTEND:20160120T020900Z
DTSTAMP:20260422T045401Z
SUMMARY:Dodgeball(s) vs. Dodge Squad
DESCRIPTION:Dodge Squad vs. Dodgeball(s)Plus d'info : #9
X-ALT-DESC;FMTTYPE=text/html:<!DOCTYPE HTML PUBLIC "-//W3C//DTD HTML 3.2//E
	N">\n<HTML>\n<HEAD>\n<TITLE></TITLE>\n</HEAD>\n<BODY>\n<h3>Dodge Squad vs. 
	Dodgeball(s)</h3>Plus d'info : <a href="https://www.golnetwork.com/game/v/8
	2140/">#9</a>\n\n</BODY>\n</HTML>
STATUS:CONFIRMED
CLASS:PUBLIC
URL:https://www.golnetwork.com/game/v/82140/
X-MICROSOFT-CDO-BUSYSTATUS:BUSY
X-MICROSOFT-CDO-IMPORTANCE:1
END:VEVENT
BEGIN:VEVENT
UID:g8c2g@games.golnetwork.com
LOCATION:Gym 1
GEO:45.10662;-94.578209
CREATED:20160109T215622Z
DTSTART:20160120T024500Z
DTEND:20160120T033900Z
DTSTAMP:20260422T045401Z
SUMMARY:Poughkeepsie State vs. Who Gives a Duck
DESCRIPTION:Who Gives a Duck vs. Poughkeepsie StatePlus d'info : #11
X-ALT-DESC;FMTTYPE=text/html:<!DOCTYPE HTML PUBLIC "-//W3C//DTD HTML 3.2//E
	N">\n<HTML>\n<HEAD>\n<TITLE></TITLE>\n</HEAD>\n<BODY>\n<h3>Who Gives a Duck
	 vs. Poughkeepsie State</h3>Plus d'info : <a href="https://www.golnetwork.c
	om/game/v/82142/">#11</a>\n\n</BODY>\n</HTML>
STATUS:CONFIRMED
CLASS:PUBLIC
URL:https://www.golnetwork.com/game/v/82142/
X-MICROSOFT-CDO-BUSYSTATUS:BUSY
X-MICROSOFT-CDO-IMPORTANCE:1
END:VEVENT
BEGIN:VEVENT
UID:g8c2i@games.golnetwork.com
LOCATION:Gym 1
GEO:45.10662;-94.578209
CREATED:20160109T215622Z
DTSTART:20160127T003000Z
DTEND:20160127T012400Z
DTSTAMP:20260422T045401Z
SUMMARY:Duckaroos vs. Who Gives a Duck
DESCRIPTION:Who Gives a Duck vs. DuckaroosPlus d'info : #15
X-ALT-DESC;FMTTYPE=text/html:<!DOCTYPE HTML PUBLIC "-//W3C//DTD HTML 3.2//E
	N">\n<HTML>\n<HEAD>\n<TITLE></TITLE>\n</HEAD>\n<BODY>\n<h3>Who Gives a Duck
	 vs. Duckaroos</h3>Plus d'info : <a href="https://www.golnetwork.com/game/v
	/82143/">#15</a>\n\n</BODY>\n</HTML>
STATUS:CONFIRMED
CLASS:PUBLIC
URL:https://www.golnetwork.com/game/v/82143/
X-MICROSOFT-CDO-BUSYSTATUS:BUSY
X-MICROSOFT-CDO-IMPORTANCE:1
END:VEVENT
BEGIN:VEVENT
UID:g8c2k@games.golnetwork.com
LOCATION:Gym 1
GEO:45.10662;-94.578209
CREATED:20160109T215622Z
DTSTART:20160127T011500Z
DTEND:20160127T020900Z
DTSTAMP:20260422T045401Z
SUMMARY:Dodgefathers (CRB) vs. All In
DESCRIPTION:All In vs. Dodgefathers (CRB)Plus d'info : #16
X-ALT-DESC;FMTTYPE=text/html:<!DOCTYPE HTML PUBLIC "-//W3C//DTD HTML 3.2//E
	N">\n<HTML>\n<HEAD>\n<TITLE></TITLE>\n</HEAD>\n<BODY>\n<h3>All In vs. Dodge
	fathers (CRB)</h3>Plus d'info : <a href="https://www.golnetwork.com/game/v/
	82144/">#16</a>\n\n</BODY>\n</HTML>
STATUS:CONFIRMED
CLASS:PUBLIC
URL:https://www.golnetwork.com/game/v/82144/
X-MICROSOFT-CDO-BUSYSTATUS:BUSY
X-MICROSOFT-CDO-IMPORTANCE:1
END:VEVENT
BEGIN:VEVENT
UID:g8c2m@games.golnetwork.com
LOCATION:Gym 1
GEO:45.10662;-94.578209
CREATED:20160109T215623Z
DTSTART:20160127T020000Z
DTEND:20160127T025400Z
DTSTAMP:20260422T045401Z
SUMMARY:Dodgeball(s) vs. Average Joes
DESCRIPTION:Average Joes vs. Dodgeball(s)Plus d'info : #17
X-ALT-DESC;FMTTYPE=text/html:<!DOCTYPE HTML PUBLIC "-//W3C//DTD HTML 3.2//E
	N">\n<HTML>\n<HEAD>\n<TITLE></TITLE>\n</HEAD>\n<BODY>\n<h3>Average Joes vs.
	 Dodgeball(s)</h3>Plus d'info : <a href="https://www.golnetwork.com/game/v/
	82145/">#17</a>\n\n</BODY>\n</HTML>
STATUS:CONFIRMED
CLASS:PUBLIC
URL:https://www.golnetwork.com/game/v/82145/
X-MICROSOFT-CDO-BUSYSTATUS:BUSY
X-MICROSOFT-CDO-IMPORTANCE:1
END:VEVENT
BEGIN:VEVENT
UID:g8c2o@games.golnetwork.com
LOCATION:Gym 1
GEO:45.10662;-94.578209
CREATED:20160109T215623Z
DTSTART:20160127T024500Z
DTEND:20160127T033900Z
DTSTAMP:20260422T045401Z
SUMMARY:Dodge Squad vs. Can’t Dodge This
DESCRIPTION:Can’t Dodge This vs. Dodge SquadPlus d'info : #18
X-ALT-DESC;FMTTYPE=text/html:<!DOCTYPE HTML PUBLIC "-//W3C//DTD HTML 3.2//E
	N">\n<HTML>\n<HEAD>\n<TITLE></TITLE>\n</HEAD>\n<BODY>\n<h3>Can’t Dodge Th
	is vs. Dodge Squad</h3>Plus d'info : <a href="https://www.golnetwork.com/ga
	me/v/82146/">#18</a>\n\n</BODY>\n</HTML>
STATUS:CONFIRMED
CLASS:PUBLIC
URL:https://www.golnetwork.com/game/v/82146/
X-MICROSOFT-CDO-BUSYSTATUS:BUSY
X-MICROSOFT-CDO-IMPORTANCE:1
END:VEVENT
BEGIN:VEVENT
UID:g8c2q@games.golnetwork.com
LOCATION:Gym 1
GEO:45.10662;-94.578209
CREATED:20160109T215623Z
DTSTART:20160203T003000Z
DTEND:20160203T012400Z
DTSTAMP:20260422T045401Z
SUMMARY:Poughkeepsie State vs. Duckaroos
DESCRIPTION:Duckaroos vs. Poughkeepsie StatePlus d'info : #22
X-ALT-DESC;FMTTYPE=text/html:<!DOCTYPE HTML PUBLIC "-//W3C//DTD HTML 3.2//E
	N">\n<HTML>\n<HEAD>\n<TITLE></TITLE>\n</HEAD>\n<BODY>\n<h3>Duckaroos vs. Po
	ughkeepsie State</h3>Plus d'info : <a href="https://www.golnetwork.com/game
	/v/82147/">#22</a>\n\n</BODY>\n</HTML>
STATUS:CONFIRMED
CLASS:PUBLIC
URL:https://www.golnetwork.com/game/v/82147/
X-MICROSOFT-CDO-BUSYSTATUS:BUSY
X-MICROSOFT-CDO-IMPORTANCE:1
END:VEVENT
BEGIN:VEVENT
UID:g8c33@games.golnetwork.com
LOCATION:Gym 1
GEO:45.10662;-94.578209
CREATED:20160109T215623Z
DTSTART:20160203T020000Z
DTEND:20160203T025400Z
DTSTAMP:20260422T045401Z
SUMMARY:Dodgefathers (CRB) vs. Encino Men
DESCRIPTION:Encino Men vs. Dodgefathers (CRB)Plus d'info : #24
X-ALT-DESC;FMTTYPE=text/html:<!DOCTYPE HTML PUBLIC "-//W3C//DTD HTML 3.2//E
	N">\n<HTML>\n<HEAD>\n<TITLE></TITLE>\n</HEAD>\n<BODY>\n<h3>Encino Men vs. D
	odgefathers (CRB)</h3>Plus d'info : <a href="https://www.golnetwork.com/gam
	e/v/82149/">#24</a>\n\n</BODY>\n</HTML>
STATUS:CONFIRMED
CLASS:PUBLIC
URL:https://www.golnetwork.com/game/v/82149/
X-MICROSOFT-CDO-BUSYSTATUS:BUSY
X-MICROSOFT-CDO-IMPORTANCE:1
END:VEVENT
BEGIN:VEVENT
UID:g8c35@games.golnetwork.com
LOCATION:Gym 1
GEO:45.10662;-94.578209
CREATED:20160109T215623Z
DTSTART:20160203T024500Z
DTEND:20160203T033900Z
DTSTAMP:20260422T045401Z
SUMMARY:Dodgeball(s) vs. Who Gives a Duck
DESCRIPTION:Who Gives a Duck vs. Dodgeball(s)Plus d'info : #25
X-ALT-DESC;FMTTYPE=text/html:<!DOCTYPE HTML PUBLIC "-//W3C//DTD HTML 3.2//E
	N">\n<HTML>\n<HEAD>\n<TITLE></TITLE>\n</HEAD>\n<BODY>\n<h3>Who Gives a Duck
	 vs. Dodgeball(s)</h3>Plus d'info : <a href="https://www.golnetwork.com/gam
	e/v/82150/">#25</a>\n\n</BODY>\n</HTML>
STATUS:CONFIRMED
CLASS:PUBLIC
URL:https://www.golnetwork.com/game/v/82150/
X-MICROSOFT-CDO-BUSYSTATUS:BUSY
X-MICROSOFT-CDO-IMPORTANCE:1
END:VEVENT
BEGIN:VEVENT
UID:g8c37@games.golnetwork.com
LOCATION:Gym 1
GEO:45.10662;-94.578209
CREATED:20160109T215623Z
DTSTART:20160210T003000Z
DTEND:20160210T012400Z
DTSTAMP:20260422T045401Z
SUMMARY:Dodge Squad vs. All In
DESCRIPTION:All In vs. Dodge SquadPlus d'info : #29
X-ALT-DESC;FMTTYPE=text/html:<!DOCTYPE HTML PUBLIC "-//W3C//DTD HTML 3.2//E
	N">\n<HTML>\n<HEAD>\n<TITLE></TITLE>\n</HEAD>\n<BODY>\n<h3>All In vs. Dodge
	 Squad</h3>Plus d'info : <a href="https://www.golnetwork.com/game/v/82151/"
	>#29</a>\n\n</BODY>\n</HTML>
STATUS:CONFIRMED
CLASS:PUBLIC
URL:https://www.golnetwork.com/game/v/82151/
X-MICROSOFT-CDO-BUSYSTATUS:BUSY
X-MICROSOFT-CDO-IMPORTANCE:1
END:VEVENT
BEGIN:VEVENT
UID:g8c39@games.golnetwork.com
LOCATION:Gym 1
GEO:45.10662;-94.578209
CREATED:20160109T215623Z
DTSTART:20160210T011500Z
DTEND:20160210T020900Z
DTSTAMP:20260422T045401Z
SUMMARY:Can’t Dodge This vs. Average Joes
DESCRIPTION:Average Joes vs. Can’t Dodge ThisPlus d'info : #30
X-ALT-DESC;FMTTYPE=text/html:<!DOCTYPE HTML PUBLIC "-//W3C//DTD HTML 3.2//E
	N">\n<HTML>\n<HEAD>\n<TITLE></TITLE>\n</HEAD>\n<BODY>\n<h3>Average Joes vs.
	 Can’t Dodge This</h3>Plus d'info : <a href="https://www.golnetwork.com/g
	ame/v/82152/">#30</a>\n\n</BODY>\n</HTML>
STATUS:CONFIRMED
CLASS:PUBLIC
URL:https://www.golnetwork.com/game/v/82152/
X-MICROSOFT-CDO-BUSYSTATUS:BUSY
X-MICROSOFT-CDO-IMPORTANCE:1
END:VEVENT
BEGIN:VEVENT
UID:g8c3d@games.golnetwork.com
LOCATION:Gym 1
GEO:45.10662;-94.578209
CREATED:20160109T215623Z
DTSTART:20160210T024500Z
DTEND:20160210T033900Z
DTSTAMP:20260422T045401Z
SUMMARY:Poughkeepsie State vs. Encino Men
DESCRIPTION:Encino Men vs. Poughkeepsie StatePlus d'info : #32
X-ALT-DESC;FMTTYPE=text/html:<!DOCTYPE HTML PUBLIC "-//W3C//DTD HTML 3.2//E
	N">\n<HTML>\n<HEAD>\n<TITLE></TITLE>\n</HEAD>\n<BODY>\n<h3>Encino Men vs. P
	oughkeepsie State</h3>Plus d'info : <a href="https://www.golnetwork.com/gam
	e/v/82154/">#32</a>\n\n</BODY>\n</HTML>
STATUS:CONFIRMED
CLASS:PUBLIC
URL:https://www.golnetwork.com/game/v/82154/
X-MICROSOFT-CDO-BUSYSTATUS:BUSY
X-MICROSOFT-CDO-IMPORTANCE:1
END:VEVENT
BEGIN:VEVENT
UID:g8c3f@games.golnetwork.com
LOCATION:Gym 1
GEO:45.10662;-94.578209
CREATED:20160109T215623Z
DTSTART:20160217T003000Z
DTEND:20160217T012400Z
DTSTAMP:20260422T045401Z
SUMMARY:Dodgeball(s) vs. Duckaroos
DESCRIPTION:Duckaroos vs. Dodgeball(s)Plus d'info : #36
X-ALT-DESC;FMTTYPE=text/html:<!DOCTYPE HTML PUBLIC "-//W3C//DTD HTML 3.2//E
	N">\n<HTML>\n<HEAD>\n<TITLE></TITLE>\n</HEAD>\n<BODY>\n<h3>Duckaroos vs. Do
	dgeball(s)</h3>Plus d'info : <a href="https://www.golnetwork.com/game/v/821
	55/">#36</a>\n\n</BODY>\n</HTML>
STATUS:CONFIRMED
CLASS:PUBLIC
URL:https://www.golnetwork.com/game/v/82155/
X-MICROSOFT-CDO-BUSYSTATUS:BUSY
X-MICROSOFT-CDO-IMPORTANCE:1
END:VEVENT
BEGIN:VEVENT
UID:g8c3h@games.golnetwork.com
LOCATION:Gym 1
GEO:45.10662;-94.578209
CREATED:20160109T215623Z
DTSTART:20160217T011500Z
DTEND:20160217T020900Z
DTSTAMP:20260422T045401Z
SUMMARY:Dodge Squad vs. Encino Men
DESCRIPTION:Encino Men vs. Dodge SquadPlus d'info : #37
X-ALT-DESC;FMTTYPE=text/html:<!DOCTYPE HTML PUBLIC "-//W3C//DTD HTML 3.2//E
	N">\n<HTML>\n<HEAD>\n<TITLE></TITLE>\n</HEAD>\n<BODY>\n<h3>Encino Men vs. D
	odge Squad</h3>Plus d'info : <a href="https://www.golnetwork.com/game/v/821
	56/">#37</a>\n\n</BODY>\n</HTML>
STATUS:CONFIRMED
CLASS:PUBLIC
URL:https://www.golnetwork.com/game/v/82156/
X-MICROSOFT-CDO-BUSYSTATUS:BUSY
X-MICROSOFT-CDO-IMPORTANCE:1
END:VEVENT
BEGIN:VEVENT
UID:g8c46@games.golnetwork.com
LOCATION:Fieldhouse A
GEO:45.10662;-94.578209
CREATED:20160109T215623Z
DTSTART:20160218T023000Z
DTEND:20160218T032400Z
DTSTAMP:20260422T045401Z
SUMMARY:Average Joes vs. All In
DESCRIPTION:All In vs. Average JoesPlus d'info : #51
X-ALT-DESC;FMTTYPE=text/html:<!DOCTYPE HTML PUBLIC "-//W3C//DTD HTML 3.2//E
	N">\n<HTML>\n<HEAD>\n<TITLE></TITLE>\n</HEAD>\n<BODY>\n<h3>All In vs. Avera
	ge Joes</h3>Plus d'info : <a href="https://www.golnetwork.com/game/v/82164/
	">#51</a>\n\n</BODY>\n</HTML>
STATUS:CONFIRMED
CLASS:PUBLIC
URL:https://www.golnetwork.com/game/v/82164/
X-MICROSOFT-CDO-BUSYSTATUS:BUSY
X-MICROSOFT-CDO-IMPORTANCE:1
END:VEVENT
BEGIN:VEVENT
UID:g8c40@games.golnetwork.com
LOCATION:Gym 1
GEO:45.10662;-94.578209
CREATED:20160109T215623Z
DTSTART:20160224T020000Z
DTEND:20160224T025400Z
DTSTAMP:20260422T045401Z
SUMMARY:Poughkeepsie State vs. Dodge Squad
DESCRIPTION:Dodge Squad vs. Poughkeepsie StatePlus d'info : #45
X-ALT-DESC;FMTTYPE=text/html:<!DOCTYPE HTML PUBLIC "-//W3C//DTD HTML 3.2//E
	N">\n<HTML>\n<HEAD>\n<TITLE></TITLE>\n</HEAD>\n<BODY>\n<h3>Dodge Squad vs. 
	Poughkeepsie State</h3>Plus d'info : <a href="https://www.golnetwork.com/ga
	me/v/82161/">#45</a>\n\n</BODY>\n</HTML>
STATUS:CONFIRMED
CLASS:PUBLIC
URL:https://www.golnetwork.com/game/v/82161/
X-MICROSOFT-CDO-BUSYSTATUS:BUSY
X-MICROSOFT-CDO-IMPORTANCE:1
END:VEVENT
BEGIN:VEVENT
UID:g8c42@games.golnetwork.com
LOCATION:Gym 1
GEO:45.10662;-94.578209
CREATED:20160109T215623Z
DTSTART:20160224T024500Z
DTEND:20160224T033900Z
DTSTAMP:20260422T045401Z
SUMMARY:Can’t Dodge This vs. Dodgeball(s)
DESCRIPTION:Dodgeball(s) vs. Can’t Dodge ThisPlus d'info : #46
X-ALT-DESC;FMTTYPE=text/html:<!DOCTYPE HTML PUBLIC "-//W3C//DTD HTML 3.2//E
	N">\n<HTML>\n<HEAD>\n<TITLE></TITLE>\n</HEAD>\n<BODY>\n<h3>Dodgeball(s) vs.
	 Can’t Dodge This</h3>Plus d'info : <a href="https://www.golnetwork.com/g
	ame/v/82162/">#46</a>\n\n</BODY>\n</HTML>
STATUS:CONFIRMED
CLASS:PUBLIC
URL:https://www.golnetwork.com/game/v/82162/
X-MICROSOFT-CDO-BUSYSTATUS:BUSY
X-MICROSOFT-CDO-IMPORTANCE:1
END:VEVENT
BEGIN:VEVENT
UID:g8c44@games.golnetwork.com
LOCATION:Gym 1
GEO:45.10662;-94.578209
CREATED:20160109T215623Z
DTSTART:20160309T003000Z
DTEND:20160309T012400Z
DTSTAMP:20260422T045401Z
SUMMARY:Can’t Dodge This vs. Who Gives a Duck
DESCRIPTION:Who Gives a Duck vs. Can’t Dodge ThisPlus d'info : #50
X-ALT-DESC;FMTTYPE=text/html:<!DOCTYPE HTML PUBLIC "-//W3C//DTD HTML 3.2//E
	N">\n<HTML>\n<HEAD>\n<TITLE></TITLE>\n</HEAD>\n<BODY>\n<h3>Who Gives a Duck
	 vs. Can’t Dodge This</h3>Plus d'info : <a href="https://www.golnetwork.c
	om/game/v/82163/">#50</a>\n\n</BODY>\n</HTML>
STATUS:CONFIRMED
CLASS:PUBLIC
URL:https://www.golnetwork.com/game/v/82163/
X-MICROSOFT-CDO-BUSYSTATUS:BUSY
X-MICROSOFT-CDO-IMPORTANCE:1
END:VEVENT
BEGIN:VEVENT
UID:g8c4c@games.golnetwork.com
LOCATION:Fieldhouse A
GEO:45.10662;-94.578209
CREATED:20160109T215623Z
DTSTART:20160310T011500Z
DTEND:20160310T020900Z
DTSTAMP:20260422T045401Z
SUMMARY:Dodge Squad vs. Dodgefathers (CRB)
DESCRIPTION:Dodgefathers (CRB) vs. Dodge SquadPlus d'info : #54
X-ALT-DESC;FMTTYPE=text/html:<!DOCTYPE HTML PUBLIC "-//W3C//DTD HTML 3.2//E
	N">\n<HTML>\n<HEAD>\n<TITLE></TITLE>\n</HEAD>\n<BODY>\n<h3>Dodgefathers (CR
	B) vs. Dodge Squad</h3>Plus d'info : <a href="https://www.golnetwork.com/ga
	me/v/82167/">#54</a>\n\n</BODY>\n</HTML>
STATUS:CONFIRMED
CLASS:PUBLIC
URL:https://www.golnetwork.com/game/v/82167/
X-MICROSOFT-CDO-BUSYSTATUS:BUSY
X-MICROSOFT-CDO-IMPORTANCE:1
END:VEVENT
BEGIN:VEVENT
UID:g8c4e@games.golnetwork.com
LOCATION:Fieldhouse A
GEO:45.10662;-94.578209
CREATED:20160109T215623Z
DTSTART:20160310T020000Z
DTEND:20160310T025400Z
DTSTAMP:20260422T045401Z
SUMMARY:Can’t Dodge This vs. Duckaroos
DESCRIPTION:Duckaroos vs. Can’t Dodge ThisPlus d'info : #55
X-ALT-DESC;FMTTYPE=text/html:<!DOCTYPE HTML PUBLIC "-//W3C//DTD HTML 3.2//E
	N">\n<HTML>\n<HEAD>\n<TITLE></TITLE>\n</HEAD>\n<BODY>\n<h3>Duckaroos vs. Ca
	n’t Dodge This</h3>Plus d'info : <a href="https://www.golnetwork.com/game
	/v/82168/">#55</a>\n\n</BODY>\n</HTML>
STATUS:CONFIRMED
CLASS:PUBLIC
URL:https://www.golnetwork.com/game/v/82168/
X-MICROSOFT-CDO-BUSYSTATUS:BUSY
X-MICROSOFT-CDO-IMPORTANCE:1
END:VEVENT
BEGIN:VEVENT
UID:g8c4g@games.golnetwork.com
LOCATION:Fieldhouse A
GEO:45.10662;-94.578209
CREATED:20160109T215623Z
DTSTART:20160310T024500Z
DTEND:20160310T033900Z
DTSTAMP:20260422T045401Z
SUMMARY:Average Joes vs. Encino Men
DESCRIPTION:Encino Men vs. Average JoesPlus d'info : #56
X-ALT-DESC;FMTTYPE=text/html:<!DOCTYPE HTML PUBLIC "-//W3C//DTD HTML 3.2//E
	N">\n<HTML>\n<HEAD>\n<TITLE></TITLE>\n</HEAD>\n<BODY>\n<h3>Encino Men vs. A
	verage Joes</h3>Plus d'info : <a href="https://www.golnetwork.com/game/v/82
	169/">#56</a>\n\n</BODY>\n</HTML>
STATUS:CONFIRMED
CLASS:PUBLIC
URL:https://www.golnetwork.com/game/v/82169/
X-MICROSOFT-CDO-BUSYSTATUS:BUSY
X-MICROSOFT-CDO-IMPORTANCE:1
END:VEVENT
BEGIN:VEVENT
UID:g8c4i@games.golnetwork.com
LOCATION:Gym 1
GEO:45.10662;-94.578209
CREATED:20160109T215623Z
DTSTART:20160315T233000Z
DTEND:20160316T002400Z
DTSTAMP:20260422T045401Z
SUMMARY:All In vs. Who Gives a Duck
DESCRIPTION:Who Gives a Duck vs. All InPlus d'info : #57
X-ALT-DESC;FMTTYPE=text/html:<!DOCTYPE HTML PUBLIC "-//W3C//DTD HTML 3.2//E
	N">\n<HTML>\n<HEAD>\n<TITLE></TITLE>\n</HEAD>\n<BODY>\n<h3>Who Gives a Duck
	 vs. All In</h3>Plus d'info : <a href="https://www.golnetwork.com/game/v/82
	170/">#57</a>\n\n</BODY>\n</HTML>
STATUS:CONFIRMED
CLASS:PUBLIC
URL:https://www.golnetwork.com/game/v/82170/
X-MICROSOFT-CDO-BUSYSTATUS:BUSY
X-MICROSOFT-CDO-IMPORTANCE:1
END:VEVENT
BEGIN:VEVENT
UID:g8c4m@games.golnetwork.com
LOCATION:Gym 1
GEO:45.10662;-94.578209
CREATED:20160109T215623Z
DTSTART:20160316T010000Z
DTEND:20160316T015400Z
DTSTAMP:20260422T045401Z
SUMMARY:Average Joes vs. Dodgefathers (CRB)
DESCRIPTION:Dodgefathers (CRB) vs. Average JoesPlus d'info : #59
X-ALT-DESC;FMTTYPE=text/html:<!DOCTYPE HTML PUBLIC "-//W3C//DTD HTML 3.2//E
	N">\n<HTML>\n<HEAD>\n<TITLE></TITLE>\n</HEAD>\n<BODY>\n<h3>Dodgefathers (CR
	B) vs. Average Joes</h3>Plus d'info : <a href="https://www.golnetwork.com/g
	ame/v/82172/">#59</a>\n\n</BODY>\n</HTML>
STATUS:CONFIRMED
CLASS:PUBLIC
URL:https://www.golnetwork.com/game/v/82172/
X-MICROSOFT-CDO-BUSYSTATUS:BUSY
X-MICROSOFT-CDO-IMPORTANCE:1
END:VEVENT
BEGIN:VEVENT
UID:g8c4q@games.golnetwork.com
LOCATION:Gym 1
GEO:45.10662;-94.578209
CREATED:20160109T215623Z
DTSTART:20160322T233000Z
DTEND:20160323T002400Z
DTSTAMP:20260422T045401Z
SUMMARY:Who Gives a Duck vs. Encino Men
DESCRIPTION:Encino Men vs. Who Gives a DuckPlus d'info : #61
X-ALT-DESC;FMTTYPE=text/html:<!DOCTYPE HTML PUBLIC "-//W3C//DTD HTML 3.2//E
	N">\n<HTML>\n<HEAD>\n<TITLE></TITLE>\n</HEAD>\n<BODY>\n<h3>Encino Men vs. W
	ho Gives a Duck</h3>Plus d'info : <a href="https://www.golnetwork.com/game/
	v/82174/">#61</a>\n\n</BODY>\n</HTML>
STATUS:CONFIRMED
CLASS:PUBLIC
URL:https://www.golnetwork.com/game/v/82174/
X-MICROSOFT-CDO-BUSYSTATUS:BUSY
X-MICROSOFT-CDO-IMPORTANCE:1
END:VEVENT
BEGIN:VEVENT
UID:g8c51@games.golnetwork.com
LOCATION:Gym 1
GEO:45.10662;-94.578209
CREATED:20160109T215623Z
DTSTART:20160323T001500Z
DTEND:20160323T010900Z
DTSTAMP:20260422T045401Z
SUMMARY:Poughkeepsie State vs. Dodgefathers (CRB)
DESCRIPTION:Dodgefathers (CRB) vs. Poughkeepsie StatePlus d'info : #62
X-ALT-DESC;FMTTYPE=text/html:<!DOCTYPE HTML PUBLIC "-//W3C//DTD HTML 3.2//E
	N">\n<HTML>\n<HEAD>\n<TITLE></TITLE>\n</HEAD>\n<BODY>\n<h3>Dodgefathers (CR
	B) vs. Poughkeepsie State</h3>Plus d'info : <a href="https://www.golnetwork
	.com/game/v/82175/">#62</a>\n\n</BODY>\n</HTML>
STATUS:CONFIRMED
CLASS:PUBLIC
URL:https://www.golnetwork.com/game/v/82175/
X-MICROSOFT-CDO-BUSYSTATUS:BUSY
X-MICROSOFT-CDO-IMPORTANCE:1
END:VEVENT
BEGIN:VEVENT
UID:g8c4o@games.golnetwork.com
LOCATION:Gym 1
GEO:45.10662;-94.578209
CREATED:20160109T215623Z
DTSTART:20160323T014500Z
DTEND:20160323T023900Z
DTSTAMP:20260422T045401Z
SUMMARY:All In vs. Duckaroos
DESCRIPTION:Duckaroos vs. All InPlus d'info : #60
X-ALT-DESC;FMTTYPE=text/html:<!DOCTYPE HTML PUBLIC "-//W3C//DTD HTML 3.2//E
	N">\n<HTML>\n<HEAD>\n<TITLE></TITLE>\n</HEAD>\n<BODY>\n<h3>Duckaroos vs. Al
	l In</h3>Plus d'info : <a href="https://www.golnetwork.com/game/v/82173/">#
	60</a>\n\n</BODY>\n</HTML>
STATUS:CONFIRMED
CLASS:PUBLIC
URL:https://www.golnetwork.com/game/v/82173/
X-MICROSOFT-CDO-BUSYSTATUS:BUSY
X-MICROSOFT-CDO-IMPORTANCE:1
END:VEVENT
BEGIN:VEVENT
UID:g8c59@games.golnetwork.com
LOCATION:Fieldhouse A
GEO:45.10662;-94.578209
CREATED:20160109T215624Z
DTSTART:20160324T014500Z
DTEND:20160324T023900Z
DTSTAMP:20260422T045401Z
SUMMARY:Poughkeepsie State vs. Dodgeball(s)
DESCRIPTION:Dodgeball(s) vs. Poughkeepsie StatePlus d'info : #67
X-ALT-DESC;FMTTYPE=text/html:<!DOCTYPE HTML PUBLIC "-//W3C//DTD HTML 3.2//E
	N">\n<HTML>\n<HEAD>\n<TITLE></TITLE>\n</HEAD>\n<BODY>\n<h3>Dodgeball(s) vs.
	 Poughkeepsie State</h3>Plus d'info : <a href="https://www.golnetwork.com/g
	ame/v/82179/">#67</a>\n\n</BODY>\n</HTML>
STATUS:CONFIRMED
CLASS:PUBLIC
URL:https://www.golnetwork.com/game/v/82179/
X-MICROSOFT-CDO-BUSYSTATUS:BUSY
X-MICROSOFT-CDO-IMPORTANCE:1
END:VEVENT
END:VCALENDAR
