BEGIN:VCALENDAR
PRODID:-//gdesolutions.com//MV Framework 1.0.0.1607 Calendar//EN
VERSION:2.0
METHOD:PUBLISH
CALSCALE:GREGORIAN
BEGIN:VEVENT
UID:g8c5p@games.golnetwork.com
LOCATION:Fieldhouse C & D
GEO:45.10662;-94.578209
CREATED:20160110T000930Z
DTSTART:20160114T013000Z
DTEND:20160114T021400Z
DTSTAMP:20260422T143627Z
SUMMARY:Sigma Chi ΣΧ vs. CAC
DESCRIPTION:CAC vs. Sigma Chi ΣΧPlus d'info : #5
X-ALT-DESC;FMTTYPE=text/html:<!DOCTYPE HTML PUBLIC "-//W3C//DTD HTML 3.2//E
	N">\n<HTML>\n<HEAD>\n<TITLE></TITLE>\n</HEAD>\n<BODY>\n<h3>CAC vs. Sigma Ch
	i ΣΧ</h3>Plus d'info : <a href="https://www.golnetwork.com/game/v/82187/"
	>#5</a>\n\n</BODY>\n</HTML>
STATUS:CONFIRMED
CLASS:PUBLIC
URL:https://www.golnetwork.com/game/v/82187/
X-MICROSOFT-CDO-BUSYSTATUS:BUSY
X-MICROSOFT-CDO-IMPORTANCE:1
END:VEVENT
BEGIN:VEVENT
UID:g8c60@games.golnetwork.com
LOCATION:Fieldhouse C & D
GEO:45.10662;-94.578209
CREATED:20160110T000930Z
DTSTART:20160114T023000Z
DTEND:20160114T031400Z
DTSTAMP:20260422T143627Z
SUMMARY:St. Henri Casuals vs. Bench FC
DESCRIPTION:Bench FC vs. St. Henri CasualsPlus d'info : #6
X-ALT-DESC;FMTTYPE=text/html:<!DOCTYPE HTML PUBLIC "-//W3C//DTD HTML 3.2//E
	N">\n<HTML>\n<HEAD>\n<TITLE></TITLE>\n</HEAD>\n<BODY>\n<h3>Bench FC vs. St.
	 Henri Casuals</h3>Plus d'info : <a href="https://www.golnetwork.com/game/v
	/82188/">#6</a>\n\n</BODY>\n</HTML>
STATUS:CONFIRMED
CLASS:PUBLIC
URL:https://www.golnetwork.com/game/v/82188/
X-MICROSOFT-CDO-BUSYSTATUS:BUSY
X-MICROSOFT-CDO-IMPORTANCE:1
END:VEVENT
BEGIN:VEVENT
UID:g8c62@games.golnetwork.com
LOCATION:Fieldhouse C & D
GEO:45.10662;-94.578209
CREATED:20160110T000930Z
DTSTART:20160114T233000Z
DTEND:20160115T001400Z
DTSTAMP:20260422T143627Z
SUMMARY:Nostos Grill vs. CFC
DESCRIPTION:CFC vs. Nostos GrillPlus d'info : #7
X-ALT-DESC;FMTTYPE=text/html:<!DOCTYPE HTML PUBLIC "-//W3C//DTD HTML 3.2//E
	N">\n<HTML>\n<HEAD>\n<TITLE></TITLE>\n</HEAD>\n<BODY>\n<h3>CFC vs. Nostos G
	rill</h3>Plus d'info : <a href="https://www.golnetwork.com/game/v/82189/">#
	7</a>\n\n</BODY>\n</HTML>
STATUS:CONFIRMED
CLASS:PUBLIC
URL:https://www.golnetwork.com/game/v/82189/
X-MICROSOFT-CDO-BUSYSTATUS:BUSY
X-MICROSOFT-CDO-IMPORTANCE:1
END:VEVENT
BEGIN:VEVENT
UID:g8c64@games.golnetwork.com
LOCATION:Fieldhouse C & D
GEO:45.10662;-94.578209
CREATED:20160110T000930Z
DTSTART:20160115T003000Z
DTEND:20160115T011400Z
DTSTAMP:20260422T143627Z
SUMMARY:Dinho's Bros vs. Chat Chit
DESCRIPTION:Chat Chit vs. Dinho's BrosPlus d'info : #8
X-ALT-DESC;FMTTYPE=text/html:<!DOCTYPE HTML PUBLIC "-//W3C//DTD HTML 3.2//E
	N">\n<HTML>\n<HEAD>\n<TITLE></TITLE>\n</HEAD>\n<BODY>\n<h3>Chat Chit vs. Di
	nho's Bros</h3>Plus d'info : <a href="https://www.golnetwork.com/game/v/821
	90/">#8</a>\n\n</BODY>\n</HTML>
STATUS:CONFIRMED
CLASS:PUBLIC
URL:https://www.golnetwork.com/game/v/82190/
X-MICROSOFT-CDO-BUSYSTATUS:BUSY
X-MICROSOFT-CDO-IMPORTANCE:1
END:VEVENT
BEGIN:VEVENT
UID:g8ca6@games.golnetwork.com
LOCATION:Fieldhouse C & D
GEO:45.10662;-94.578209
CREATED:20160110T000935Z
DTSTART:20160124T203000Z
DTEND:20160124T211400Z
DTSTAMP:20260422T143627Z
SUMMARY:Sigma Chi ΣΧ vs. Victorious Secret (OPC)
DESCRIPTION:Victorious Secret (OPC) vs. Sigma Chi ΣΧPlus d'info : #64
X-ALT-DESC;FMTTYPE=text/html:<!DOCTYPE HTML PUBLIC "-//W3C//DTD HTML 3.2//E
	N">\n<HTML>\n<HEAD>\n<TITLE></TITLE>\n</HEAD>\n<BODY>\n<h3>Victorious Secre
	t (OPC) vs. Sigma Chi ΣΧ</h3>Plus d'info : <a href="https://www.golnetwor
	k.com/game/v/82245/">#64</a>\n\n</BODY>\n</HTML>
STATUS:CONFIRMED
CLASS:PUBLIC
URL:https://www.golnetwork.com/game/v/82245/
X-MICROSOFT-CDO-BUSYSTATUS:BUSY
X-MICROSOFT-CDO-IMPORTANCE:1
END:VEVENT
BEGIN:VEVENT
UID:g8ca8@games.golnetwork.com
LOCATION:Fieldhouse C & D
GEO:45.10662;-94.578209
CREATED:20160110T000935Z
DTSTART:20160124T213000Z
DTEND:20160124T221400Z
DTSTAMP:20260422T143627Z
SUMMARY:Nostos Grill vs. Bench FC
DESCRIPTION:Bench FC vs. Nostos GrillPlus d'info : #65
X-ALT-DESC;FMTTYPE=text/html:<!DOCTYPE HTML PUBLIC "-//W3C//DTD HTML 3.2//E
	N">\n<HTML>\n<HEAD>\n<TITLE></TITLE>\n</HEAD>\n<BODY>\n<h3>Bench FC vs. Nos
	tos Grill</h3>Plus d'info : <a href="https://www.golnetwork.com/game/v/8224
	6/">#65</a>\n\n</BODY>\n</HTML>
STATUS:CONFIRMED
CLASS:PUBLIC
URL:https://www.golnetwork.com/game/v/82246/
X-MICROSOFT-CDO-BUSYSTATUS:BUSY
X-MICROSOFT-CDO-IMPORTANCE:1
END:VEVENT
BEGIN:VEVENT
UID:g8cag@games.golnetwork.com
LOCATION:Fieldhouse C & D
GEO:45.10662;-94.578209
CREATED:20160110T000935Z
DTSTART:20160126T013000Z
DTEND:20160126T021400Z
DTSTAMP:20260422T143627Z
SUMMARY:Dinho's Bros vs. CAC
DESCRIPTION:CAC vs. Dinho's BrosPlus d'info : #69
X-ALT-DESC;FMTTYPE=text/html:<!DOCTYPE HTML PUBLIC "-//W3C//DTD HTML 3.2//E
	N">\n<HTML>\n<HEAD>\n<TITLE></TITLE>\n</HEAD>\n<BODY>\n<h3>CAC vs. Dinho's 
	Bros</h3>Plus d'info : <a href="https://www.golnetwork.com/game/v/82250/">#
	69</a>\n\n</BODY>\n</HTML>
STATUS:CONFIRMED
CLASS:PUBLIC
URL:https://www.golnetwork.com/game/v/82250/
X-MICROSOFT-CDO-BUSYSTATUS:BUSY
X-MICROSOFT-CDO-IMPORTANCE:1
END:VEVENT
BEGIN:VEVENT
UID:g8cai@games.golnetwork.com
LOCATION:Fieldhouse C & D
GEO:45.10662;-94.578209
CREATED:20160110T000935Z
DTSTART:20160126T023000Z
DTEND:20160126T031400Z
DTSTAMP:20260422T143627Z
SUMMARY:Chat Chit vs. CFC
DESCRIPTION:CFC vs. Chat ChitPlus d'info : #70
X-ALT-DESC;FMTTYPE=text/html:<!DOCTYPE HTML PUBLIC "-//W3C//DTD HTML 3.2//E
	N">\n<HTML>\n<HEAD>\n<TITLE></TITLE>\n</HEAD>\n<BODY>\n<h3>CFC vs. Chat Chi
	t</h3>Plus d'info : <a href="https://www.golnetwork.com/game/v/82251/">#70<
	/a>\n\n</BODY>\n</HTML>
STATUS:CONFIRMED
CLASS:PUBLIC
URL:https://www.golnetwork.com/game/v/82251/
X-MICROSOFT-CDO-BUSYSTATUS:BUSY
X-MICROSOFT-CDO-IMPORTANCE:1
END:VEVENT
BEGIN:VEVENT
UID:g8cbf@games.golnetwork.com
LOCATION:Fieldhouse C & D
GEO:45.10662;-94.578209
CREATED:20160110T000935Z
DTSTART:20160131T203000Z
DTEND:20160131T211400Z
DTSTAMP:20260422T143627Z
SUMMARY:Nostos Grill vs. St. Henri Casuals
DESCRIPTION:St. Henri Casuals vs. Nostos GrillPlus d'info : #83
X-ALT-DESC;FMTTYPE=text/html:<!DOCTYPE HTML PUBLIC "-//W3C//DTD HTML 3.2//E
	N">\n<HTML>\n<HEAD>\n<TITLE></TITLE>\n</HEAD>\n<BODY>\n<h3>St. Henri Casual
	s vs. Nostos Grill</h3>Plus d'info : <a href="https://www.golnetwork.com/ga
	me/v/82263/">#83</a>\n\n</BODY>\n</HTML>
STATUS:CONFIRMED
CLASS:PUBLIC
URL:https://www.golnetwork.com/game/v/82263/
X-MICROSOFT-CDO-BUSYSTATUS:BUSY
X-MICROSOFT-CDO-IMPORTANCE:1
END:VEVENT
BEGIN:VEVENT
UID:g8cbh@games.golnetwork.com
LOCATION:Fieldhouse C & D
GEO:45.10662;-94.578209
CREATED:20160110T000935Z
DTSTART:20160131T213000Z
DTEND:20160131T221400Z
DTSTAMP:20260422T143627Z
SUMMARY:Dinho's Bros vs. Victorious Secret (OPC)
DESCRIPTION:Victorious Secret (OPC) vs. Dinho's BrosPlus d'info : #84
X-ALT-DESC;FMTTYPE=text/html:<!DOCTYPE HTML PUBLIC "-//W3C//DTD HTML 3.2//E
	N">\n<HTML>\n<HEAD>\n<TITLE></TITLE>\n</HEAD>\n<BODY>\n<h3>Victorious Secre
	t (OPC) vs. Dinho's Bros</h3>Plus d'info : <a href="https://www.golnetwork.
	com/game/v/82264/">#84</a>\n\n</BODY>\n</HTML>
STATUS:CONFIRMED
CLASS:PUBLIC
URL:https://www.golnetwork.com/game/v/82264/
X-MICROSOFT-CDO-BUSYSTATUS:BUSY
X-MICROSOFT-CDO-IMPORTANCE:1
END:VEVENT
BEGIN:VEVENT
UID:g8cbp@games.golnetwork.com
LOCATION:Fieldhouse C & D
GEO:45.10662;-94.578209
CREATED:20160110T000935Z
DTSTART:20160202T013000Z
DTEND:20160202T021400Z
DTSTAMP:20260422T143627Z
SUMMARY:Chat Chit vs. Bench FC
DESCRIPTION:Bench FC vs. Chat ChitPlus d'info : #88
X-ALT-DESC;FMTTYPE=text/html:<!DOCTYPE HTML PUBLIC "-//W3C//DTD HTML 3.2//E
	N">\n<HTML>\n<HEAD>\n<TITLE></TITLE>\n</HEAD>\n<BODY>\n<h3>Bench FC vs. Cha
	t Chit</h3>Plus d'info : <a href="https://www.golnetwork.com/game/v/82268/"
	>#88</a>\n\n</BODY>\n</HTML>
STATUS:CONFIRMED
CLASS:PUBLIC
URL:https://www.golnetwork.com/game/v/82268/
X-MICROSOFT-CDO-BUSYSTATUS:BUSY
X-MICROSOFT-CDO-IMPORTANCE:1
END:VEVENT
BEGIN:VEVENT
UID:g8cc0@games.golnetwork.com
LOCATION:Fieldhouse C & D
GEO:45.10662;-94.578209
CREATED:20160110T000935Z
DTSTART:20160202T023000Z
DTEND:20160202T031400Z
DTSTAMP:20260422T143627Z
SUMMARY:CFC vs. CAC
DESCRIPTION:CAC vs. CFCPlus d'info : #89
X-ALT-DESC;FMTTYPE=text/html:<!DOCTYPE HTML PUBLIC "-//W3C//DTD HTML 3.2//E
	N">\n<HTML>\n<HEAD>\n<TITLE></TITLE>\n</HEAD>\n<BODY>\n<h3>CAC vs. CFC</h3>
	Plus d'info : <a href="https://www.golnetwork.com/game/v/82269/">#89</a>\n\
	n</BODY>\n</HTML>
STATUS:CONFIRMED
CLASS:PUBLIC
URL:https://www.golnetwork.com/game/v/82269/
X-MICROSOFT-CDO-BUSYSTATUS:BUSY
X-MICROSOFT-CDO-IMPORTANCE:1
END:VEVENT
BEGIN:VEVENT
UID:g8cdj@games.golnetwork.com
LOCATION:Fieldhouse C & D
GEO:45.10662;-94.578209
CREATED:20160110T000936Z
DTSTART:20160207T003000Z
DTEND:20160207T011400Z
DTSTAMP:20260422T143627Z
SUMMARY:Dinho's Bros vs. Sigma Chi ΣΧ
DESCRIPTION:Sigma Chi ΣΧ vs. Dinho's BrosPlus d'info : #112
X-ALT-DESC;FMTTYPE=text/html:<!DOCTYPE HTML PUBLIC "-//W3C//DTD HTML 3.2//E
	N">\n<HTML>\n<HEAD>\n<TITLE></TITLE>\n</HEAD>\n<BODY>\n<h3>Sigma Chi ΣΧ v
	s. Dinho's Bros</h3>Plus d'info : <a href="https://www.golnetwork.com/game/
	v/82292/">#112</a>\n\n</BODY>\n</HTML>
STATUS:CONFIRMED
CLASS:PUBLIC
URL:https://www.golnetwork.com/game/v/82292/
X-MICROSOFT-CDO-BUSYSTATUS:BUSY
X-MICROSOFT-CDO-IMPORTANCE:1
END:VEVENT
BEGIN:VEVENT
UID:g8cdl@games.golnetwork.com
LOCATION:Fieldhouse C & D
GEO:45.10662;-94.578209
CREATED:20160110T000936Z
DTSTART:20160207T143000Z
DTEND:20160207T151400Z
DTSTAMP:20260422T143627Z
SUMMARY:Chat Chit vs. St. Henri Casuals
DESCRIPTION:St. Henri Casuals vs. Chat ChitPlus d'info : #113
X-ALT-DESC;FMTTYPE=text/html:<!DOCTYPE HTML PUBLIC "-//W3C//DTD HTML 3.2//E
	N">\n<HTML>\n<HEAD>\n<TITLE></TITLE>\n</HEAD>\n<BODY>\n<h3>St. Henri Casual
	s vs. Chat Chit</h3>Plus d'info : <a href="https://www.golnetwork.com/game/
	v/82293/">#113</a>\n\n</BODY>\n</HTML>
STATUS:CONFIRMED
CLASS:PUBLIC
URL:https://www.golnetwork.com/game/v/82293/
X-MICROSOFT-CDO-BUSYSTATUS:BUSY
X-MICROSOFT-CDO-IMPORTANCE:1
END:VEVENT
BEGIN:VEVENT
UID:g8cdn@games.golnetwork.com
LOCATION:Fieldhouse C & D
GEO:45.10662;-94.578209
CREATED:20160110T000936Z
DTSTART:20160207T153000Z
DTEND:20160207T161400Z
DTSTAMP:20260422T143627Z
SUMMARY:CFC vs. Victorious Secret (OPC)
DESCRIPTION:Victorious Secret (OPC) vs. CFCPlus d'info : #114
X-ALT-DESC;FMTTYPE=text/html:<!DOCTYPE HTML PUBLIC "-//W3C//DTD HTML 3.2//E
	N">\n<HTML>\n<HEAD>\n<TITLE></TITLE>\n</HEAD>\n<BODY>\n<h3>Victorious Secre
	t (OPC) vs. CFC</h3>Plus d'info : <a href="https://www.golnetwork.com/game/
	v/82294/">#114</a>\n\n</BODY>\n</HTML>
STATUS:CONFIRMED
CLASS:PUBLIC
URL:https://www.golnetwork.com/game/v/82294/
X-MICROSOFT-CDO-BUSYSTATUS:BUSY
X-MICROSOFT-CDO-IMPORTANCE:1
END:VEVENT
BEGIN:VEVENT
UID:g8cdp@games.golnetwork.com
LOCATION:Fieldhouse C & D
GEO:45.10662;-94.578209
CREATED:20160110T000936Z
DTSTART:20160207T163000Z
DTEND:20160207T171400Z
DTSTAMP:20260422T143627Z
SUMMARY:CAC vs. Bench FC
DESCRIPTION:Bench FC vs. CACPlus d'info : #115
X-ALT-DESC;FMTTYPE=text/html:<!DOCTYPE HTML PUBLIC "-//W3C//DTD HTML 3.2//E
	N">\n<HTML>\n<HEAD>\n<TITLE></TITLE>\n</HEAD>\n<BODY>\n<h3>Bench FC vs. CAC
	</h3>Plus d'info : <a href="https://www.golnetwork.com/game/v/82295/">#115<
	/a>\n\n</BODY>\n</HTML>
STATUS:CONFIRMED
CLASS:PUBLIC
URL:https://www.golnetwork.com/game/v/82295/
X-MICROSOFT-CDO-BUSYSTATUS:BUSY
X-MICROSOFT-CDO-IMPORTANCE:1
END:VEVENT
BEGIN:VEVENT
UID:g8cg8@games.golnetwork.com
LOCATION:Fieldhouse C & D
GEO:45.10662;-94.578209
CREATED:20160110T000937Z
DTSTART:20160217T013000Z
DTEND:20160217T021400Z
DTSTAMP:20260422T143627Z
SUMMARY:Chat Chit vs. Nostos Grill
DESCRIPTION:Nostos Grill vs. Chat ChitPlus d'info : #151
X-ALT-DESC;FMTTYPE=text/html:<!DOCTYPE HTML PUBLIC "-//W3C//DTD HTML 3.2//E
	N">\n<HTML>\n<HEAD>\n<TITLE></TITLE>\n</HEAD>\n<BODY>\n<h3>Nostos Grill vs.
	 Chat Chit</h3>Plus d'info : <a href="https://www.golnetwork.com/game/v/823
	27/">#151</a>\n\n</BODY>\n</HTML>
STATUS:CONFIRMED
CLASS:PUBLIC
URL:https://www.golnetwork.com/game/v/82327/
X-MICROSOFT-CDO-BUSYSTATUS:BUSY
X-MICROSOFT-CDO-IMPORTANCE:1
END:VEVENT
BEGIN:VEVENT
UID:g8cga@games.golnetwork.com
LOCATION:Fieldhouse C & D
GEO:45.10662;-94.578209
CREATED:20160110T000937Z
DTSTART:20160217T023000Z
DTEND:20160217T031400Z
DTSTAMP:20260422T143627Z
SUMMARY:Bench FC vs. Victorious Secret (OPC)
DESCRIPTION:Victorious Secret (OPC) vs. Bench FCPlus d'info : #152
X-ALT-DESC;FMTTYPE=text/html:<!DOCTYPE HTML PUBLIC "-//W3C//DTD HTML 3.2//E
	N">\n<HTML>\n<HEAD>\n<TITLE></TITLE>\n</HEAD>\n<BODY>\n<h3>Victorious Secre
	t (OPC) vs. Bench FC</h3>Plus d'info : <a href="https://www.golnetwork.com/
	game/v/82328/">#152</a>\n\n</BODY>\n</HTML>
STATUS:CONFIRMED
CLASS:PUBLIC
URL:https://www.golnetwork.com/game/v/82328/
X-MICROSOFT-CDO-BUSYSTATUS:BUSY
X-MICROSOFT-CDO-IMPORTANCE:1
END:VEVENT
BEGIN:VEVENT
UID:g8cgc@games.golnetwork.com
LOCATION:Fieldhouse C & D
GEO:45.10662;-94.578209
CREATED:20160110T000937Z
DTSTART:20160218T013000Z
DTEND:20160218T021400Z
DTSTAMP:20260422T143627Z
SUMMARY:CAC vs. St. Henri Casuals
DESCRIPTION:St. Henri Casuals vs. CACPlus d'info : #153
X-ALT-DESC;FMTTYPE=text/html:<!DOCTYPE HTML PUBLIC "-//W3C//DTD HTML 3.2//E
	N">\n<HTML>\n<HEAD>\n<TITLE></TITLE>\n</HEAD>\n<BODY>\n<h3>St. Henri Casual
	s vs. CAC</h3>Plus d'info : <a href="https://www.golnetwork.com/game/v/8232
	9/">#153</a>\n\n</BODY>\n</HTML>
STATUS:CONFIRMED
CLASS:PUBLIC
URL:https://www.golnetwork.com/game/v/82329/
X-MICROSOFT-CDO-BUSYSTATUS:BUSY
X-MICROSOFT-CDO-IMPORTANCE:1
END:VEVENT
BEGIN:VEVENT
UID:g8cge@games.golnetwork.com
LOCATION:Fieldhouse C & D
GEO:45.10662;-94.578209
CREATED:20160110T000937Z
DTSTART:20160218T023000Z
DTEND:20160218T031400Z
DTSTAMP:20260422T143627Z
SUMMARY:CFC vs. Sigma Chi ΣΧ
DESCRIPTION:Sigma Chi ΣΧ vs. CFCPlus d'info : #154
X-ALT-DESC;FMTTYPE=text/html:<!DOCTYPE HTML PUBLIC "-//W3C//DTD HTML 3.2//E
	N">\n<HTML>\n<HEAD>\n<TITLE></TITLE>\n</HEAD>\n<BODY>\n<h3>Sigma Chi ΣΧ v
	s. CFC</h3>Plus d'info : <a href="https://www.golnetwork.com/game/v/82330/"
	>#154</a>\n\n</BODY>\n</HTML>
STATUS:CONFIRMED
CLASS:PUBLIC
URL:https://www.golnetwork.com/game/v/82330/
X-MICROSOFT-CDO-BUSYSTATUS:BUSY
X-MICROSOFT-CDO-IMPORTANCE:1
END:VEVENT
BEGIN:VEVENT
UID:g8cig@games.golnetwork.com
LOCATION:Fieldhouse C & D
GEO:45.10662;-94.578209
CREATED:20160110T000938Z
DTSTART:20160222T003000Z
DTEND:20160222T011400Z
DTSTAMP:20260422T143627Z
SUMMARY:CFC vs. Dinho's Bros
DESCRIPTION:Dinho's Bros vs. CFCPlus d'info : #182
X-ALT-DESC;FMTTYPE=text/html:<!DOCTYPE HTML PUBLIC "-//W3C//DTD HTML 3.2//E
	N">\n<HTML>\n<HEAD>\n<TITLE></TITLE>\n</HEAD>\n<BODY>\n<h3>Dinho's Bros vs.
	 CFC</h3>Plus d'info : <a href="https://www.golnetwork.com/game/v/82358/">#
	182</a>\n\n</BODY>\n</HTML>
STATUS:CONFIRMED
CLASS:PUBLIC
URL:https://www.golnetwork.com/game/v/82358/
X-MICROSOFT-CDO-BUSYSTATUS:BUSY
X-MICROSOFT-CDO-IMPORTANCE:1
END:VEVENT
BEGIN:VEVENT
UID:g8cjd@games.golnetwork.com
LOCATION:Fieldhouse C & D
GEO:45.10662;-94.578209
CREATED:20160110T000939Z
DTSTART:20160309T003000Z
DTEND:20160309T011400Z
DTSTAMP:20260422T143627Z
SUMMARY:Victorious Secret (OPC) vs. St. Henri Casuals
DESCRIPTION:St. Henri Casuals vs. Victorious Secret (OPC)Plus d'info : #194
X-ALT-DESC;FMTTYPE=text/html:<!DOCTYPE HTML PUBLIC "-//W3C//DTD HTML 3.2//E
	N">\n<HTML>\n<HEAD>\n<TITLE></TITLE>\n</HEAD>\n<BODY>\n<h3>St. Henri Casual
	s vs. Victorious Secret (OPC)</h3>Plus d'info : <a href="https://www.golnet
	work.com/game/v/82370/">#194</a>\n\n</BODY>\n</HTML>
STATUS:CONFIRMED
CLASS:PUBLIC
URL:https://www.golnetwork.com/game/v/82370/
X-MICROSOFT-CDO-BUSYSTATUS:BUSY
X-MICROSOFT-CDO-IMPORTANCE:1
END:VEVENT
BEGIN:VEVENT
UID:g8cjj@games.golnetwork.com
LOCATION:Fieldhouse C & D
GEO:45.10662;-94.578209
CREATED:20160110T000939Z
DTSTART:20160310T013000Z
DTEND:20160310T021400Z
DTSTAMP:20260422T143627Z
SUMMARY:CAC vs. Nostos Grill
DESCRIPTION:Nostos Grill vs. CACPlus d'info : #197
X-ALT-DESC;FMTTYPE=text/html:<!DOCTYPE HTML PUBLIC "-//W3C//DTD HTML 3.2//E
	N">\n<HTML>\n<HEAD>\n<TITLE></TITLE>\n</HEAD>\n<BODY>\n<h3>Nostos Grill vs.
	 CAC</h3>Plus d'info : <a href="https://www.golnetwork.com/game/v/82373/">#
	197</a>\n\n</BODY>\n</HTML>
STATUS:CONFIRMED
CLASS:PUBLIC
URL:https://www.golnetwork.com/game/v/82373/
X-MICROSOFT-CDO-BUSYSTATUS:BUSY
X-MICROSOFT-CDO-IMPORTANCE:1
END:VEVENT
BEGIN:VEVENT
UID:g8cjl@games.golnetwork.com
LOCATION:Fieldhouse C & D
GEO:45.10662;-94.578209
CREATED:20160110T000939Z
DTSTART:20160310T023000Z
DTEND:20160310T031400Z
DTSTAMP:20260422T143627Z
SUMMARY:Bench FC vs. Sigma Chi ΣΧ
DESCRIPTION:Sigma Chi ΣΧ vs. Bench FCPlus d'info : #198
X-ALT-DESC;FMTTYPE=text/html:<!DOCTYPE HTML PUBLIC "-//W3C//DTD HTML 3.2//E
	N">\n<HTML>\n<HEAD>\n<TITLE></TITLE>\n</HEAD>\n<BODY>\n<h3>Sigma Chi ΣΧ v
	s. Bench FC</h3>Plus d'info : <a href="https://www.golnetwork.com/game/v/82
	374/">#198</a>\n\n</BODY>\n</HTML>
STATUS:CONFIRMED
CLASS:PUBLIC
URL:https://www.golnetwork.com/game/v/82374/
X-MICROSOFT-CDO-BUSYSTATUS:BUSY
X-MICROSOFT-CDO-IMPORTANCE:1
END:VEVENT
BEGIN:VEVENT
UID:g8co8@games.golnetwork.com
LOCATION:Fieldhouse C & D
GEO:45.10662;-94.578209
CREATED:20160110T000941Z
DTSTART:20160325T003000Z
DTEND:20160325T011400Z
DTSTAMP:20260422T143627Z
SUMMARY:Victorious Secret (OPC) vs. Chat Chit
DESCRIPTION:Chat Chit vs. Victorious Secret (OPC)Plus d'info : #264
X-ALT-DESC;FMTTYPE=text/html:<!DOCTYPE HTML PUBLIC "-//W3C//DTD HTML 3.2//E
	N">\n<HTML>\n<HEAD>\n<TITLE></TITLE>\n</HEAD>\n<BODY>\n<h3>Chat Chit vs. Vi
	ctorious Secret (OPC)</h3>Plus d'info : <a href="https://www.golnetwork.com
	/game/v/82435/">#264</a>\n\n</BODY>\n</HTML>
STATUS:CONFIRMED
CLASS:PUBLIC
URL:https://www.golnetwork.com/game/v/82435/
X-MICROSOFT-CDO-BUSYSTATUS:BUSY
X-MICROSOFT-CDO-IMPORTANCE:1
END:VEVENT
BEGIN:VEVENT
UID:g8coa@games.golnetwork.com
LOCATION:Fieldhouse C & D
GEO:45.10662;-94.578209
CREATED:20160110T000941Z
DTSTART:20160402T143000Z
DTEND:20160402T151400Z
DTSTAMP:20260422T143627Z
SUMMARY:St. Henri Casuals vs. Dinho's Bros
DESCRIPTION:Dinho's Bros vs. St. Henri CasualsPlus d'info : #265
X-ALT-DESC;FMTTYPE=text/html:<!DOCTYPE HTML PUBLIC "-//W3C//DTD HTML 3.2//E
	N">\n<HTML>\n<HEAD>\n<TITLE></TITLE>\n</HEAD>\n<BODY>\n<h3>Dinho's Bros vs.
	 St. Henri Casuals</h3>Plus d'info : <a href="https://www.golnetwork.com/ga
	me/v/82436/">#265</a>\n\n</BODY>\n</HTML>
STATUS:CONFIRMED
CLASS:PUBLIC
URL:https://www.golnetwork.com/game/v/82436/
X-MICROSOFT-CDO-BUSYSTATUS:BUSY
X-MICROSOFT-CDO-IMPORTANCE:1
END:VEVENT
BEGIN:VEVENT
UID:g8coc@games.golnetwork.com
LOCATION:Fieldhouse C & D
GEO:45.10662;-94.578209
CREATED:20160110T000941Z
DTSTART:20160402T153000Z
DTEND:20160402T161400Z
DTSTAMP:20260422T143627Z
SUMMARY:Sigma Chi ΣΧ vs. Nostos Grill
DESCRIPTION:Nostos Grill vs. Sigma Chi ΣΧPlus d'info : #266
X-ALT-DESC;FMTTYPE=text/html:<!DOCTYPE HTML PUBLIC "-//W3C//DTD HTML 3.2//E
	N">\n<HTML>\n<HEAD>\n<TITLE></TITLE>\n</HEAD>\n<BODY>\n<h3>Nostos Grill vs.
	 Sigma Chi ΣΧ</h3>Plus d'info : <a href="https://www.golnetwork.com/game/
	v/82437/">#266</a>\n\n</BODY>\n</HTML>
STATUS:CONFIRMED
CLASS:PUBLIC
URL:https://www.golnetwork.com/game/v/82437/
X-MICROSOFT-CDO-BUSYSTATUS:BUSY
X-MICROSOFT-CDO-IMPORTANCE:1
END:VEVENT
END:VCALENDAR
