BEGIN:VCALENDAR
PRODID:-//gdesolutions.com//MV Framework 1.0.0.1607 Calendar//EN
VERSION:2.0
METHOD:PUBLISH
CALSCALE:GREGORIAN
BEGIN:VEVENT
UID:g8c6a@games.golnetwork.com
LOCATION:Fieldhouse C & D
GEO:45.10662;-94.578209
CREATED:20160110T000930Z
DTSTART:20160116T013000Z
DTEND:20160116T021400Z
DTSTAMP:20260421T015300Z
SUMMARY:Cleats & Cleavage vs. Bent by Beckham
DESCRIPTION:Bent by Beckham vs. Cleats & CleavagePlus d'info : #11
X-ALT-DESC;FMTTYPE=text/html:<!DOCTYPE HTML PUBLIC "-//W3C//DTD HTML 3.2//E
	N">\n<HTML>\n<HEAD>\n<TITLE></TITLE>\n</HEAD>\n<BODY>\n<h3>Bent by Beckham 
	vs. Cleats & Cleavage</h3>Plus d'info : <a href="https://www.golnetwork.com
	/game/v/82193/">#11</a>\n\n</BODY>\n</HTML>
STATUS:CONFIRMED
CLASS:PUBLIC
URL:https://www.golnetwork.com/game/v/82193/
X-MICROSOFT-CDO-BUSYSTATUS:BUSY
X-MICROSOFT-CDO-IMPORTANCE:1
END:VEVENT
BEGIN:VEVENT
UID:g8c6c@games.golnetwork.com
LOCATION:Fieldhouse C & D
GEO:45.10662;-94.578209
CREATED:20160110T000931Z
DTSTART:20160116T023000Z
DTEND:20160116T031400Z
DTSTAMP:20260421T015300Z
SUMMARY:Ball of Duty vs. Kiss My Pass
DESCRIPTION:Kiss My Pass vs. Ball of DutyPlus d'info : #12
X-ALT-DESC;FMTTYPE=text/html:<!DOCTYPE HTML PUBLIC "-//W3C//DTD HTML 3.2//E
	N">\n<HTML>\n<HEAD>\n<TITLE></TITLE>\n</HEAD>\n<BODY>\n<h3>Kiss My Pass vs.
	 Ball of Duty</h3>Plus d'info : <a href="https://www.golnetwork.com/game/v/
	82194/">#12</a>\n\n</BODY>\n</HTML>
STATUS:CONFIRMED
CLASS:PUBLIC
URL:https://www.golnetwork.com/game/v/82194/
X-MICROSOFT-CDO-BUSYSTATUS:BUSY
X-MICROSOFT-CDO-IMPORTANCE:1
END:VEVENT
BEGIN:VEVENT
UID:g8c8g@games.golnetwork.com
LOCATION:Fieldhouse C & D
GEO:45.10662;-94.578209
CREATED:20160110T000934Z
DTSTART:20160121T013000Z
DTEND:20160121T021400Z
DTSTAMP:20260421T015300Z
SUMMARY:Cleats & Cleavage vs. Kiss My Pass
DESCRIPTION:Kiss My Pass vs. Cleats & CleavagePlus d'info : #41
X-ALT-DESC;FMTTYPE=text/html:<!DOCTYPE HTML PUBLIC "-//W3C//DTD HTML 3.2//E
	N">\n<HTML>\n<HEAD>\n<TITLE></TITLE>\n</HEAD>\n<BODY>\n<h3>Kiss My Pass vs.
	 Cleats & Cleavage</h3>Plus d'info : <a href="https://www.golnetwork.com/ga
	me/v/82223/">#41</a>\n\n</BODY>\n</HTML>
STATUS:CONFIRMED
CLASS:PUBLIC
URL:https://www.golnetwork.com/game/v/82223/
X-MICROSOFT-CDO-BUSYSTATUS:BUSY
X-MICROSOFT-CDO-IMPORTANCE:1
END:VEVENT
BEGIN:VEVENT
UID:g8c8i@games.golnetwork.com
LOCATION:Fieldhouse C & D
GEO:45.10662;-94.578209
CREATED:20160110T000934Z
DTSTART:20160121T023000Z
DTEND:20160121T031400Z
DTSTAMP:20260421T015300Z
SUMMARY:Bent by Beckham vs. Ball of Duty
DESCRIPTION:Ball of Duty vs. Bent by BeckhamPlus d'info : #42
X-ALT-DESC;FMTTYPE=text/html:<!DOCTYPE HTML PUBLIC "-//W3C//DTD HTML 3.2//E
	N">\n<HTML>\n<HEAD>\n<TITLE></TITLE>\n</HEAD>\n<BODY>\n<h3>Ball of Duty vs.
	 Bent by Beckham</h3>Plus d'info : <a href="https://www.golnetwork.com/game
	/v/82224/">#42</a>\n\n</BODY>\n</HTML>
STATUS:CONFIRMED
CLASS:PUBLIC
URL:https://www.golnetwork.com/game/v/82224/
X-MICROSOFT-CDO-BUSYSTATUS:BUSY
X-MICROSOFT-CDO-IMPORTANCE:1
END:VEVENT
BEGIN:VEVENT
UID:g8caa@games.golnetwork.com
LOCATION:Fieldhouse C & D
GEO:45.10662;-94.578209
CREATED:20160110T000935Z
DTSTART:20160124T223000Z
DTEND:20160124T231400Z
DTSTAMP:20260421T015300Z
SUMMARY:Gymsharks vs. Ball of Duty
DESCRIPTION:Ball of Duty vs. GymsharksPlus d'info : #66
X-ALT-DESC;FMTTYPE=text/html:<!DOCTYPE HTML PUBLIC "-//W3C//DTD HTML 3.2//E
	N">\n<HTML>\n<HEAD>\n<TITLE></TITLE>\n</HEAD>\n<BODY>\n<h3>Ball of Duty vs.
	 Gymsharks</h3>Plus d'info : <a href="https://www.golnetwork.com/game/v/822
	47/">#66</a>\n\n</BODY>\n</HTML>
STATUS:CONFIRMED
CLASS:PUBLIC
URL:https://www.golnetwork.com/game/v/82247/
X-MICROSOFT-CDO-BUSYSTATUS:BUSY
X-MICROSOFT-CDO-IMPORTANCE:1
END:VEVENT
BEGIN:VEVENT
UID:g8cbd@games.golnetwork.com
LOCATION:Fieldhouse C & D
GEO:45.10662;-94.578209
CREATED:20160110T000935Z
DTSTART:20160131T193000Z
DTEND:20160131T201400Z
DTSTAMP:20260421T015300Z
SUMMARY:Bent by Beckham vs. Gymsharks
DESCRIPTION:Gymsharks vs. Bent by BeckhamPlus d'info : #82
X-ALT-DESC;FMTTYPE=text/html:<!DOCTYPE HTML PUBLIC "-//W3C//DTD HTML 3.2//E
	N">\n<HTML>\n<HEAD>\n<TITLE></TITLE>\n</HEAD>\n<BODY>\n<h3>Gymsharks vs. Be
	nt by Beckham</h3>Plus d'info : <a href="https://www.golnetwork.com/game/v/
	82262/">#82</a>\n\n</BODY>\n</HTML>
STATUS:CONFIRMED
CLASS:PUBLIC
URL:https://www.golnetwork.com/game/v/82262/
X-MICROSOFT-CDO-BUSYSTATUS:BUSY
X-MICROSOFT-CDO-IMPORTANCE:1
END:VEVENT
BEGIN:VEVENT
UID:g8ce8@games.golnetwork.com
LOCATION:Fieldhouse C & D
GEO:45.10662;-94.578209
CREATED:20160110T000937Z
DTSTART:20160209T013000Z
DTEND:20160209T021400Z
DTSTAMP:20260421T015300Z
SUMMARY:Ball of Duty vs. Cleats & Cleavage
DESCRIPTION:Cleats & Cleavage vs. Ball of DutyPlus d'info : #124
X-ALT-DESC;FMTTYPE=text/html:<!DOCTYPE HTML PUBLIC "-//W3C//DTD HTML 3.2//E
	N">\n<HTML>\n<HEAD>\n<TITLE></TITLE>\n</HEAD>\n<BODY>\n<h3>Cleats & Cleavag
	e vs. Ball of Duty</h3>Plus d'info : <a href="https://www.golnetwork.com/ga
	me/v/82300/">#124</a>\n\n</BODY>\n</HTML>
STATUS:CONFIRMED
CLASS:PUBLIC
URL:https://www.golnetwork.com/game/v/82300/
X-MICROSOFT-CDO-BUSYSTATUS:BUSY
X-MICROSOFT-CDO-IMPORTANCE:1
END:VEVENT
BEGIN:VEVENT
UID:g8cea@games.golnetwork.com
LOCATION:Fieldhouse C & D
GEO:45.10662;-94.578209
CREATED:20160110T000937Z
DTSTART:20160209T023000Z
DTEND:20160209T031400Z
DTSTAMP:20260421T015300Z
SUMMARY:Kiss My Pass vs. Gymsharks
DESCRIPTION:Gymsharks vs. Kiss My PassPlus d'info : #125
X-ALT-DESC;FMTTYPE=text/html:<!DOCTYPE HTML PUBLIC "-//W3C//DTD HTML 3.2//E
	N">\n<HTML>\n<HEAD>\n<TITLE></TITLE>\n</HEAD>\n<BODY>\n<h3>Gymsharks vs. Ki
	ss My Pass</h3>Plus d'info : <a href="https://www.golnetwork.com/game/v/823
	01/">#125</a>\n\n</BODY>\n</HTML>
STATUS:CONFIRMED
CLASS:PUBLIC
URL:https://www.golnetwork.com/game/v/82301/
X-MICROSOFT-CDO-BUSYSTATUS:BUSY
X-MICROSOFT-CDO-IMPORTANCE:1
END:VEVENT
BEGIN:VEVENT
UID:g8cg0@games.golnetwork.com
LOCATION:Fieldhouse C & D
GEO:45.10662;-94.578209
CREATED:20160110T000937Z
DTSTART:20160216T013000Z
DTEND:20160216T021400Z
DTSTAMP:20260421T015300Z
SUMMARY:Kiss My Pass vs. Bent by Beckham
DESCRIPTION:Bent by Beckham vs. Kiss My PassPlus d'info : #147
X-ALT-DESC;FMTTYPE=text/html:<!DOCTYPE HTML PUBLIC "-//W3C//DTD HTML 3.2//E
	N">\n<HTML>\n<HEAD>\n<TITLE></TITLE>\n</HEAD>\n<BODY>\n<h3>Bent by Beckham 
	vs. Kiss My Pass</h3>Plus d'info : <a href="https://www.golnetwork.com/game
	/v/82323/">#147</a>\n\n</BODY>\n</HTML>
STATUS:CONFIRMED
CLASS:PUBLIC
URL:https://www.golnetwork.com/game/v/82323/
X-MICROSOFT-CDO-BUSYSTATUS:BUSY
X-MICROSOFT-CDO-IMPORTANCE:1
END:VEVENT
BEGIN:VEVENT
UID:g8cg2@games.golnetwork.com
LOCATION:Fieldhouse C & D
GEO:45.10662;-94.578209
CREATED:20160110T000937Z
DTSTART:20160216T023000Z
DTEND:20160216T031400Z
DTSTAMP:20260421T015300Z
SUMMARY:Gymsharks vs. Cleats & Cleavage
DESCRIPTION:Cleats & Cleavage vs. GymsharksPlus d'info : #148
X-ALT-DESC;FMTTYPE=text/html:<!DOCTYPE HTML PUBLIC "-//W3C//DTD HTML 3.2//E
	N">\n<HTML>\n<HEAD>\n<TITLE></TITLE>\n</HEAD>\n<BODY>\n<h3>Cleats & Cleavag
	e vs. Gymsharks</h3>Plus d'info : <a href="https://www.golnetwork.com/game/
	v/82324/">#148</a>\n\n</BODY>\n</HTML>
STATUS:CONFIRMED
CLASS:PUBLIC
URL:https://www.golnetwork.com/game/v/82324/
X-MICROSOFT-CDO-BUSYSTATUS:BUSY
X-MICROSOFT-CDO-IMPORTANCE:1
END:VEVENT
BEGIN:VEVENT
UID:g8cii@games.golnetwork.com
LOCATION:Fieldhouse C & D
GEO:45.10662;-94.578209
CREATED:20160110T000938Z
DTSTART:20160223T013000Z
DTEND:20160223T021400Z
DTSTAMP:20260421T015300Z
SUMMARY:Cleats & Cleavage vs. Bent by Beckham
DESCRIPTION:Bent by Beckham vs. Cleats & CleavagePlus d'info : #183
X-ALT-DESC;FMTTYPE=text/html:<!DOCTYPE HTML PUBLIC "-//W3C//DTD HTML 3.2//E
	N">\n<HTML>\n<HEAD>\n<TITLE></TITLE>\n</HEAD>\n<BODY>\n<h3>Bent by Beckham 
	vs. Cleats & Cleavage</h3>Plus d'info : <a href="https://www.golnetwork.com
	/game/v/82359/">#183</a>\n\n</BODY>\n</HTML>
STATUS:CONFIRMED
CLASS:PUBLIC
URL:https://www.golnetwork.com/game/v/82359/
X-MICROSOFT-CDO-BUSYSTATUS:BUSY
X-MICROSOFT-CDO-IMPORTANCE:1
END:VEVENT
BEGIN:VEVENT
UID:g8cik@games.golnetwork.com
LOCATION:Fieldhouse C & D
GEO:45.10662;-94.578209
CREATED:20160110T000938Z
DTSTART:20160223T023000Z
DTEND:20160223T031400Z
DTSTAMP:20260421T015300Z
SUMMARY:Gymsharks vs. Ball of Duty
DESCRIPTION:Ball of Duty vs. GymsharksPlus d'info : #184
X-ALT-DESC;FMTTYPE=text/html:<!DOCTYPE HTML PUBLIC "-//W3C//DTD HTML 3.2//E
	N">\n<HTML>\n<HEAD>\n<TITLE></TITLE>\n</HEAD>\n<BODY>\n<h3>Ball of Duty vs.
	 Gymsharks</h3>Plus d'info : <a href="https://www.golnetwork.com/game/v/823
	60/">#184</a>\n\n</BODY>\n</HTML>
STATUS:CONFIRMED
CLASS:PUBLIC
URL:https://www.golnetwork.com/game/v/82360/
X-MICROSOFT-CDO-BUSYSTATUS:BUSY
X-MICROSOFT-CDO-IMPORTANCE:1
END:VEVENT
BEGIN:VEVENT
UID:g8cl7@games.golnetwork.com
LOCATION:Fieldhouse C & D
GEO:45.10662;-94.578209
CREATED:20160110T000940Z
DTSTART:20160313T163000Z
DTEND:20160313T171400Z
DTSTAMP:20260421T015300Z
SUMMARY:Bent by Beckham vs. Ball of Duty
DESCRIPTION:Ball of Duty vs. Bent by BeckhamPlus d'info : #219
X-ALT-DESC;FMTTYPE=text/html:<!DOCTYPE HTML PUBLIC "-//W3C//DTD HTML 3.2//E
	N">\n<HTML>\n<HEAD>\n<TITLE></TITLE>\n</HEAD>\n<BODY>\n<h3>Ball of Duty vs.
	 Bent by Beckham</h3>Plus d'info : <a href="https://www.golnetwork.com/game
	/v/82394/">#219</a>\n\n</BODY>\n</HTML>
STATUS:CONFIRMED
CLASS:PUBLIC
URL:https://www.golnetwork.com/game/v/82394/
X-MICROSOFT-CDO-BUSYSTATUS:BUSY
X-MICROSOFT-CDO-IMPORTANCE:1
END:VEVENT
BEGIN:VEVENT
UID:g8cl9@games.golnetwork.com
LOCATION:Fieldhouse C & D
GEO:45.10662;-94.578209
CREATED:20160110T000940Z
DTSTART:20160313T173000Z
DTEND:20160313T181400Z
DTSTAMP:20260421T015300Z
SUMMARY:Cleats & Cleavage vs. Kiss My Pass
DESCRIPTION:Kiss My Pass vs. Cleats & CleavagePlus d'info : #220
X-ALT-DESC;FMTTYPE=text/html:<!DOCTYPE HTML PUBLIC "-//W3C//DTD HTML 3.2//E
	N">\n<HTML>\n<HEAD>\n<TITLE></TITLE>\n</HEAD>\n<BODY>\n<h3>Kiss My Pass vs.
	 Cleats & Cleavage</h3>Plus d'info : <a href="https://www.golnetwork.com/ga
	me/v/82395/">#220</a>\n\n</BODY>\n</HTML>
STATUS:CONFIRMED
CLASS:PUBLIC
URL:https://www.golnetwork.com/game/v/82395/
X-MICROSOFT-CDO-BUSYSTATUS:BUSY
X-MICROSOFT-CDO-IMPORTANCE:1
END:VEVENT
BEGIN:VEVENT
UID:g8co2@games.golnetwork.com
LOCATION:Fieldhouse C & D
GEO:45.10662;-94.578209
CREATED:20160110T000941Z
DTSTART:20160403T133000Z
DTEND:20160403T141400Z
DTSTAMP:20260421T015300Z
SUMMARY:Gymsharks vs. Kiss My Pass
DESCRIPTION:Kiss My Pass vs. GymsharksPlus d'info : #261
X-ALT-DESC;FMTTYPE=text/html:<!DOCTYPE HTML PUBLIC "-//W3C//DTD HTML 3.2//E
	N">\n<HTML>\n<HEAD>\n<TITLE></TITLE>\n</HEAD>\n<BODY>\n<h3>Kiss My Pass vs.
	 Gymsharks</h3>Plus d'info : <a href="https://www.golnetwork.com/game/v/824
	32/">#261</a>\n\n</BODY>\n</HTML>
STATUS:CONFIRMED
CLASS:PUBLIC
URL:https://www.golnetwork.com/game/v/82432/
X-MICROSOFT-CDO-BUSYSTATUS:BUSY
X-MICROSOFT-CDO-IMPORTANCE:1
END:VEVENT
END:VCALENDAR
