BEGIN:VCALENDAR
PRODID:-//gdesolutions.com//MV Framework 1.0.0.1607 Calendar//EN
VERSION:2.0
METHOD:PUBLISH
CALSCALE:GREGORIAN
BEGIN:VEVENT
UID:g8hmh@games.golnetwork.com
LOCATION:Louis Riel #2
GEO:45.4410208;-75.5715394
CREATED:20160301T032230Z
DTSTART:20160304T020000Z
DTEND:20160304T025000Z
DTSTAMP:20260422T040416Z
SUMMARY:Fusion vs. ABCDE FC
DESCRIPTION:ABCDE FC vs. FusionPlus d'info : #5
X-ALT-DESC;FMTTYPE=text/html:<!DOCTYPE HTML PUBLIC "-//W3C//DTD HTML 3.2//E
	N">\n<HTML>\n<HEAD>\n<TITLE></TITLE>\n</HEAD>\n<BODY>\n<h3>ABCDE FC vs. Fus
	ion</h3>Plus d'info : <a href="https://www.golnetwork.com/game/v/84235/">#5
	</a>\n\n</BODY>\n</HTML>
STATUS:CONFIRMED
CLASS:PUBLIC
URL:https://www.golnetwork.com/game/v/84235/
X-MICROSOFT-CDO-BUSYSTATUS:BUSY
X-MICROSOFT-CDO-IMPORTANCE:1
END:VEVENT
BEGIN:VEVENT
UID:g8hmp@games.golnetwork.com
LOCATION:Louis Riel #3
GEO:45.4410208;-75.5715394
CREATED:20160301T032231Z
DTSTART:20160304T033000Z
DTEND:20160304T042000Z
DTSTAMP:20260422T040416Z
SUMMARY:Faux Paw FC vs. The All-Stars
DESCRIPTION:The All-Stars vs. Faux Paw FCPlus d'info : #9
X-ALT-DESC;FMTTYPE=text/html:<!DOCTYPE HTML PUBLIC "-//W3C//DTD HTML 3.2//E
	N">\n<HTML>\n<HEAD>\n<TITLE></TITLE>\n</HEAD>\n<BODY>\n<h3>The All-Stars vs
	. Faux Paw FC</h3>Plus d'info : <a href="https://www.golnetwork.com/game/v/
	84239/">#9</a>\n\n</BODY>\n</HTML>
STATUS:CONFIRMED
CLASS:PUBLIC
URL:https://www.golnetwork.com/game/v/84239/
X-MICROSOFT-CDO-BUSYSTATUS:BUSY
X-MICROSOFT-CDO-IMPORTANCE:1
END:VEVENT
BEGIN:VEVENT
UID:g8i0e@games.golnetwork.com
LOCATION:Branchaud Briere Field #1
GEO:45.4982732;-75.6421544
CREATED:20160301T211222Z
DTSTART:20160311T020000Z
DTEND:20160311T025000Z
DTSTAMP:20260422T040416Z
SUMMARY:ABCDE FC vs. The All-Stars
DESCRIPTION:The All-Stars vs. ABCDE FCPlus d'info : #15
X-ALT-DESC;FMTTYPE=text/html:<!DOCTYPE HTML PUBLIC "-//W3C//DTD HTML 3.2//E
	N">\n<HTML>\n<HEAD>\n<TITLE></TITLE>\n</HEAD>\n<BODY>\n<h3>The All-Stars vs
	. ABCDE FC</h3>Plus d'info : <a href="https://www.golnetwork.com/game/v/843
	01/">#15</a>\n\n</BODY>\n</HTML>
STATUS:CONFIRMED
CLASS:PUBLIC
URL:https://www.golnetwork.com/game/v/84301/
X-MICROSOFT-CDO-BUSYSTATUS:BUSY
X-MICROSOFT-CDO-IMPORTANCE:1
END:VEVENT
BEGIN:VEVENT
UID:g8i0c@games.golnetwork.com
LOCATION:Hornet's Nest #3
GEO:45.4428309;-75.575268
CREATED:20160301T211222Z
DTSTART:20160311T033000Z
DTEND:20160311T042000Z
DTSTAMP:20260422T040416Z
SUMMARY:Fusion vs. Winded FC
DESCRIPTION:Winded FC vs. FusionPlus d'info : #14
X-ALT-DESC;FMTTYPE=text/html:<!DOCTYPE HTML PUBLIC "-//W3C//DTD HTML 3.2//E
	N">\n<HTML>\n<HEAD>\n<TITLE></TITLE>\n</HEAD>\n<BODY>\n<h3>Winded FC vs. Fu
	sion</h3>Plus d'info : <a href="https://www.golnetwork.com/game/v/84300/">#
	14</a>\n\n</BODY>\n</HTML>
STATUS:CONFIRMED
CLASS:PUBLIC
URL:https://www.golnetwork.com/game/v/84300/
X-MICROSOFT-CDO-BUSYSTATUS:BUSY
X-MICROSOFT-CDO-IMPORTANCE:1
END:VEVENT
BEGIN:VEVENT
UID:g8i20@games.golnetwork.com
LOCATION:Lees Dome Field #1
GEO:45.415776;-75.6684899
CREATED:20160301T211223Z
DTSTART:20160317T230000Z
DTEND:20160317T235000Z
DTSTAMP:20260422T040416Z
SUMMARY:Faux Paw FC vs. Winded FC
DESCRIPTION:Winded FC vs. Faux Paw FCPlus d'info : #35
X-ALT-DESC;FMTTYPE=text/html:<!DOCTYPE HTML PUBLIC "-//W3C//DTD HTML 3.2//E
	N">\n<HTML>\n<HEAD>\n<TITLE></TITLE>\n</HEAD>\n<BODY>\n<h3>Winded FC vs. Fa
	ux Paw FC</h3>Plus d'info : <a href="https://www.golnetwork.com/game/v/8432
	1/">#35</a>\n\n</BODY>\n</HTML>
STATUS:CONFIRMED
CLASS:PUBLIC
URL:https://www.golnetwork.com/game/v/84321/
X-MICROSOFT-CDO-BUSYSTATUS:BUSY
X-MICROSOFT-CDO-IMPORTANCE:1
END:VEVENT
BEGIN:VEVENT
UID:g8i22@games.golnetwork.com
LOCATION:Lees Dome Field #2
GEO:45.415776;-75.6684899
CREATED:20160301T211223Z
DTSTART:20160317T230000Z
DTEND:20160317T235000Z
DTSTAMP:20260422T040416Z
SUMMARY:The All-Stars vs. Fusion
DESCRIPTION:Fusion vs. The All-StarsPlus d'info : #36
X-ALT-DESC;FMTTYPE=text/html:<!DOCTYPE HTML PUBLIC "-//W3C//DTD HTML 3.2//E
	N">\n<HTML>\n<HEAD>\n<TITLE></TITLE>\n</HEAD>\n<BODY>\n<h3>Fusion vs. The A
	ll-Stars</h3>Plus d'info : <a href="https://www.golnetwork.com/game/v/84322
	/">#36</a>\n\n</BODY>\n</HTML>
STATUS:CONFIRMED
CLASS:PUBLIC
URL:https://www.golnetwork.com/game/v/84322/
X-MICROSOFT-CDO-BUSYSTATUS:BUSY
X-MICROSOFT-CDO-IMPORTANCE:1
END:VEVENT
BEGIN:VEVENT
UID:g8i1j@games.golnetwork.com
LOCATION:Hornet's Nest #2
GEO:45.4428309;-75.575268
CREATED:20160301T211223Z
DTSTART:20160318T023000Z
DTEND:20160318T032000Z
DTSTAMP:20260422T040416Z
SUMMARY:Ineedasub FC vs. ABCDE FC
DESCRIPTION:ABCDE FC vs. Ineedasub FCPlus d'info : #31
X-ALT-DESC;FMTTYPE=text/html:<!DOCTYPE HTML PUBLIC "-//W3C//DTD HTML 3.2//E
	N">\n<HTML>\n<HEAD>\n<TITLE></TITLE>\n</HEAD>\n<BODY>\n<h3>ABCDE FC vs. Ine
	edasub FC</h3>Plus d'info : <a href="https://www.golnetwork.com/game/v/8431
	7/">#31</a>\n\n</BODY>\n</HTML>
STATUS:CONFIRMED
CLASS:PUBLIC
URL:https://www.golnetwork.com/game/v/84317/
X-MICROSOFT-CDO-BUSYSTATUS:BUSY
X-MICROSOFT-CDO-IMPORTANCE:1
END:VEVENT
BEGIN:VEVENT
UID:g8i2c@games.golnetwork.com
LOCATION:Louis Riel #1
GEO:45.4410208;-75.5715394
CREATED:20160301T211223Z
DTSTART:20160325T010000Z
DTEND:20160325T015000Z
DTSTAMP:20260422T040416Z
SUMMARY:ABCDE FC vs. Faux Paw FC
DESCRIPTION:Faux Paw FC vs. ABCDE FCPlus d'info : #41
X-ALT-DESC;FMTTYPE=text/html:<!DOCTYPE HTML PUBLIC "-//W3C//DTD HTML 3.2//E
	N">\n<HTML>\n<HEAD>\n<TITLE></TITLE>\n</HEAD>\n<BODY>\n<h3>Faux Paw FC vs. 
	ABCDE FC</h3>Plus d'info : <a href="https://www.golnetwork.com/game/v/84327
	/">#41</a>\n\n</BODY>\n</HTML>
STATUS:CONFIRMED
CLASS:PUBLIC
URL:https://www.golnetwork.com/game/v/84327/
X-MICROSOFT-CDO-BUSYSTATUS:BUSY
X-MICROSOFT-CDO-IMPORTANCE:1
END:VEVENT
BEGIN:VEVENT
UID:g8i2i@games.golnetwork.com
LOCATION:Louis Riel #1
GEO:45.4410208;-75.5715394
CREATED:20160301T211223Z
DTSTART:20160325T020000Z
DTEND:20160325T025000Z
DTSTAMP:20260422T040416Z
SUMMARY:Winded FC vs. The All-Stars
DESCRIPTION:The All-Stars vs. Winded FCPlus d'info : #44
X-ALT-DESC;FMTTYPE=text/html:<!DOCTYPE HTML PUBLIC "-//W3C//DTD HTML 3.2//E
	N">\n<HTML>\n<HEAD>\n<TITLE></TITLE>\n</HEAD>\n<BODY>\n<h3>The All-Stars vs
	. Winded FC</h3>Plus d'info : <a href="https://www.golnetwork.com/game/v/84
	330/">#44</a>\n\n</BODY>\n</HTML>
STATUS:CONFIRMED
CLASS:PUBLIC
URL:https://www.golnetwork.com/game/v/84330/
X-MICROSOFT-CDO-BUSYSTATUS:BUSY
X-MICROSOFT-CDO-IMPORTANCE:1
END:VEVENT
END:VCALENDAR
