BEGIN:VCALENDAR
PRODID:-//gdesolutions.com//MV Framework 1.0.0.1607 Calendar//EN
VERSION:2.0
METHOD:PUBLISH
CALSCALE:GREGORIAN
BEGIN:VEVENT
UID:g8jfa@games.golnetwork.com
LOCATION:Louis Riel #1
GEO:45.4410208;-75.5715394
CREATED:20160316T210815Z
DTSTART:20160319T230000Z
DTEND:20160319T232500Z
DTSTAMP:20260420T021736Z
SUMMARY:Why Bother vs. Team FC
DESCRIPTION:Team FC vs. Why BotherPlus d'info : #1
X-ALT-DESC;FMTTYPE=text/html:<!DOCTYPE HTML PUBLIC "-//W3C//DTD HTML 3.2//E
	N">\n<HTML>\n<HEAD>\n<TITLE></TITLE>\n</HEAD>\n<BODY>\n<h3>Team FC vs. Why 
	Bother</h3>Plus d'info : <a href="https://www.golnetwork.com/game/v/84866/"
	>#1</a>\n\n</BODY>\n</HTML>
STATUS:CONFIRMED
CLASS:PUBLIC
URL:https://www.golnetwork.com/game/v/84866/
X-MICROSOFT-CDO-BUSYSTATUS:BUSY
X-MICROSOFT-CDO-IMPORTANCE:1
END:VEVENT
BEGIN:VEVENT
UID:g8jfc@games.golnetwork.com
LOCATION:Louis Riel #2
GEO:45.4410208;-75.5715394
CREATED:20160316T210815Z
DTSTART:20160319T230000Z
DTEND:20160319T232500Z
DTSTAMP:20260420T021736Z
SUMMARY:Fighting Mongooses vs. Barrhaven United
DESCRIPTION:Barrhaven United vs. Fighting MongoosesPlus d'info : #2
X-ALT-DESC;FMTTYPE=text/html:<!DOCTYPE HTML PUBLIC "-//W3C//DTD HTML 3.2//E
	N">\n<HTML>\n<HEAD>\n<TITLE></TITLE>\n</HEAD>\n<BODY>\n<h3>Barrhaven United
	 vs. Fighting Mongooses</h3>Plus d'info : <a href="https://www.golnetwork.c
	om/game/v/84867/">#2</a>\n\n</BODY>\n</HTML>
STATUS:CONFIRMED
CLASS:PUBLIC
URL:https://www.golnetwork.com/game/v/84867/
X-MICROSOFT-CDO-BUSYSTATUS:BUSY
X-MICROSOFT-CDO-IMPORTANCE:1
END:VEVENT
BEGIN:VEVENT
UID:g8jfi@games.golnetwork.com
LOCATION:Louis Riel #2
GEO:45.4410208;-75.5715394
CREATED:20160316T210815Z
DTSTART:20160319T233000Z
DTEND:20160319T235500Z
DTSTAMP:20260420T021736Z
SUMMARY:The Monsters vs. Fantasy Draught
DESCRIPTION:Fantasy Draught vs. The MonstersPlus d'info : #5
X-ALT-DESC;FMTTYPE=text/html:<!DOCTYPE HTML PUBLIC "-//W3C//DTD HTML 3.2//E
	N">\n<HTML>\n<HEAD>\n<TITLE></TITLE>\n</HEAD>\n<BODY>\n<h3>Fantasy Draught 
	vs. The Monsters</h3>Plus d'info : <a href="https://www.golnetwork.com/game
	/v/84870/">#5</a>\n\n</BODY>\n</HTML>
STATUS:CONFIRMED
CLASS:PUBLIC
URL:https://www.golnetwork.com/game/v/84870/
X-MICROSOFT-CDO-BUSYSTATUS:BUSY
X-MICROSOFT-CDO-IMPORTANCE:1
END:VEVENT
BEGIN:VEVENT
UID:g8jfo@games.golnetwork.com
LOCATION:Louis Riel #2
GEO:45.4410208;-75.5715394
CREATED:20160316T210815Z
DTSTART:20160320T000000Z
DTEND:20160320T002500Z
DTSTAMP:20260420T021736Z
SUMMARY:SRP OttawaU Local Committee vs. Team FC
DESCRIPTION:Team FC vs. SRP OttawaU Local CommitteePlus d'info : #8
X-ALT-DESC;FMTTYPE=text/html:<!DOCTYPE HTML PUBLIC "-//W3C//DTD HTML 3.2//E
	N">\n<HTML>\n<HEAD>\n<TITLE></TITLE>\n</HEAD>\n<BODY>\n<h3>Team FC vs. SRP 
	OttawaU Local Committee</h3>Plus d'info : <a href="https://www.golnetwork.c
	om/game/v/84873/">#8</a>\n\n</BODY>\n</HTML>
STATUS:CONFIRMED
CLASS:PUBLIC
URL:https://www.golnetwork.com/game/v/84873/
X-MICROSOFT-CDO-BUSYSTATUS:BUSY
X-MICROSOFT-CDO-IMPORTANCE:1
END:VEVENT
BEGIN:VEVENT
UID:g8jg1@games.golnetwork.com
LOCATION:Louis Riel #1
GEO:45.4410208;-75.5715394
CREATED:20160316T210815Z
DTSTART:20160320T003000Z
DTEND:20160320T005500Z
DTSTAMP:20260420T021736Z
SUMMARY:Barrhaven United vs. Why Bother
DESCRIPTION:Why Bother vs. Barrhaven UnitedPlus d'info : #10
X-ALT-DESC;FMTTYPE=text/html:<!DOCTYPE HTML PUBLIC "-//W3C//DTD HTML 3.2//E
	N">\n<HTML>\n<HEAD>\n<TITLE></TITLE>\n</HEAD>\n<BODY>\n<h3>Why Bother vs. B
	arrhaven United</h3>Plus d'info : <a href="https://www.golnetwork.com/game/
	v/84875/">#10</a>\n\n</BODY>\n</HTML>
STATUS:CONFIRMED
CLASS:PUBLIC
URL:https://www.golnetwork.com/game/v/84875/
X-MICROSOFT-CDO-BUSYSTATUS:BUSY
X-MICROSOFT-CDO-IMPORTANCE:1
END:VEVENT
BEGIN:VEVENT
UID:g8jg3@games.golnetwork.com
LOCATION:Louis Riel #2
GEO:45.4410208;-75.5715394
CREATED:20160316T210815Z
DTSTART:20160320T003000Z
DTEND:20160320T005500Z
DTSTAMP:20260420T021736Z
SUMMARY:The Monsters vs. Fighting Mongooses
DESCRIPTION:Fighting Mongooses vs. The MonstersPlus d'info : #11
X-ALT-DESC;FMTTYPE=text/html:<!DOCTYPE HTML PUBLIC "-//W3C//DTD HTML 3.2//E
	N">\n<HTML>\n<HEAD>\n<TITLE></TITLE>\n</HEAD>\n<BODY>\n<h3>Fighting Mongoos
	es vs. The Monsters</h3>Plus d'info : <a href="https://www.golnetwork.com/g
	ame/v/84876/">#11</a>\n\n</BODY>\n</HTML>
STATUS:CONFIRMED
CLASS:PUBLIC
URL:https://www.golnetwork.com/game/v/84876/
X-MICROSOFT-CDO-BUSYSTATUS:BUSY
X-MICROSOFT-CDO-IMPORTANCE:1
END:VEVENT
BEGIN:VEVENT
UID:g8jg9@games.golnetwork.com
LOCATION:Louis Riel #2
GEO:45.4410208;-75.5715394
CREATED:20160316T210815Z
DTSTART:20160320T010000Z
DTEND:20160320T012500Z
DTSTAMP:20260420T021736Z
SUMMARY:SRP OttawaU Local Committee vs. Fantasy Draught
DESCRIPTION:Fantasy Draught vs. SRP OttawaU Local CommitteePlus d'info : #1
	4
X-ALT-DESC;FMTTYPE=text/html:<!DOCTYPE HTML PUBLIC "-//W3C//DTD HTML 3.2//E
	N">\n<HTML>\n<HEAD>\n<TITLE></TITLE>\n</HEAD>\n<BODY>\n<h3>Fantasy Draught 
	vs. SRP OttawaU Local Committee</h3>Plus d'info : <a href="https://www.goln
	etwork.com/game/v/84879/">#14</a>\n\n</BODY>\n</HTML>
STATUS:CONFIRMED
CLASS:PUBLIC
URL:https://www.golnetwork.com/game/v/84879/
X-MICROSOFT-CDO-BUSYSTATUS:BUSY
X-MICROSOFT-CDO-IMPORTANCE:1
END:VEVENT
BEGIN:VEVENT
UID:g8jgf@games.golnetwork.com
LOCATION:Louis Riel #2
GEO:45.4410208;-75.5715394
CREATED:20160316T210816Z
DTSTART:20160320T013000Z
DTEND:20160320T015500Z
DTSTAMP:20260420T021736Z
SUMMARY:Barrhaven United vs. Team FC
DESCRIPTION:Team FC vs. Barrhaven UnitedPlus d'info : #17
X-ALT-DESC;FMTTYPE=text/html:<!DOCTYPE HTML PUBLIC "-//W3C//DTD HTML 3.2//E
	N">\n<HTML>\n<HEAD>\n<TITLE></TITLE>\n</HEAD>\n<BODY>\n<h3>Team FC vs. Barr
	haven United</h3>Plus d'info : <a href="https://www.golnetwork.com/game/v/8
	4882/">#17</a>\n\n</BODY>\n</HTML>
STATUS:CONFIRMED
CLASS:PUBLIC
URL:https://www.golnetwork.com/game/v/84882/
X-MICROSOFT-CDO-BUSYSTATUS:BUSY
X-MICROSOFT-CDO-IMPORTANCE:1
END:VEVENT
BEGIN:VEVENT
UID:g8jgj@games.golnetwork.com
LOCATION:Louis Riel #1
GEO:45.4410208;-75.5715394
CREATED:20160316T210816Z
DTSTART:20160320T020000Z
DTEND:20160320T022500Z
DTSTAMP:20260420T021736Z
SUMMARY:Fantasy Draught vs. Fighting Mongooses
DESCRIPTION:Fighting Mongooses vs. Fantasy DraughtPlus d'info : #19
X-ALT-DESC;FMTTYPE=text/html:<!DOCTYPE HTML PUBLIC "-//W3C//DTD HTML 3.2//E
	N">\n<HTML>\n<HEAD>\n<TITLE></TITLE>\n</HEAD>\n<BODY>\n<h3>Fighting Mongoos
	es vs. Fantasy Draught</h3>Plus d'info : <a href="https://www.golnetwork.co
	m/game/v/84884/">#19</a>\n\n</BODY>\n</HTML>
STATUS:CONFIRMED
CLASS:PUBLIC
URL:https://www.golnetwork.com/game/v/84884/
X-MICROSOFT-CDO-BUSYSTATUS:BUSY
X-MICROSOFT-CDO-IMPORTANCE:1
END:VEVENT
BEGIN:VEVENT
UID:g8jgl@games.golnetwork.com
LOCATION:Louis Riel #2
GEO:45.4410208;-75.5715394
CREATED:20160316T210816Z
DTSTART:20160320T020000Z
DTEND:20160320T022500Z
DTSTAMP:20260420T021736Z
SUMMARY:Why Bother vs. SRP OttawaU Local Committee
DESCRIPTION:SRP OttawaU Local Committee vs. Why BotherPlus d'info : #20
X-ALT-DESC;FMTTYPE=text/html:<!DOCTYPE HTML PUBLIC "-//W3C//DTD HTML 3.2//E
	N">\n<HTML>\n<HEAD>\n<TITLE></TITLE>\n</HEAD>\n<BODY>\n<h3>SRP OttawaU Loca
	l Committee vs. Why Bother</h3>Plus d'info : <a href="https://www.golnetwor
	k.com/game/v/84885/">#20</a>\n\n</BODY>\n</HTML>
STATUS:CONFIRMED
CLASS:PUBLIC
URL:https://www.golnetwork.com/game/v/84885/
X-MICROSOFT-CDO-BUSYSTATUS:BUSY
X-MICROSOFT-CDO-IMPORTANCE:1
END:VEVENT
BEGIN:VEVENT
UID:g8jgp@games.golnetwork.com
LOCATION:Louis Riel #1
GEO:45.4410208;-75.5715394
CREATED:20160316T210816Z
DTSTART:20160320T023000Z
DTEND:20160320T025500Z
DTSTAMP:20260420T021736Z
SUMMARY:Ittihad Ottawa vs. The Monsters
DESCRIPTION:The Monsters vs. Ittihad OttawaPlus d'info : #22
X-ALT-DESC;FMTTYPE=text/html:<!DOCTYPE HTML PUBLIC "-//W3C//DTD HTML 3.2//E
	N">\n<HTML>\n<HEAD>\n<TITLE></TITLE>\n</HEAD>\n<BODY>\n<h3>The Monsters vs.
	 Ittihad Ottawa</h3>Plus d'info : <a href="https://www.golnetwork.com/game/
	v/84887/">#22</a>\n\n</BODY>\n</HTML>
STATUS:CONFIRMED
CLASS:PUBLIC
URL:https://www.golnetwork.com/game/v/84887/
X-MICROSOFT-CDO-BUSYSTATUS:BUSY
X-MICROSOFT-CDO-IMPORTANCE:1
END:VEVENT
END:VCALENDAR
