BEGIN:VCALENDAR
PRODID:-//gdesolutions.com//MV Framework 1.0.0.1607 Calendar//EN
VERSION:2.0
METHOD:PUBLISH
CALSCALE:GREGORIAN
BEGIN:VEVENT
UID:g8jfe@games.golnetwork.com
LOCATION:Louis Riel #3
GEO:45.4410208;-75.5715394
CREATED:20160316T210815Z
DTSTART:20160319T230000Z
DTEND:20160319T232500Z
DTSTAMP:20260420T015432Z
SUMMARY:Amal 4 vs. Killer Bees
DESCRIPTION:Killer Bees vs. Amal 4Plus d'info : #3
X-ALT-DESC;FMTTYPE=text/html:<!DOCTYPE HTML PUBLIC "-//W3C//DTD HTML 3.2//E
	N">\n<HTML>\n<HEAD>\n<TITLE></TITLE>\n</HEAD>\n<BODY>\n<h3>Killer Bees vs. 
	Amal 4</h3>Plus d'info : <a href="https://www.golnetwork.com/game/v/84868/"
	>#3</a>\n\n</BODY>\n</HTML>
STATUS:CONFIRMED
CLASS:PUBLIC
URL:https://www.golnetwork.com/game/v/84868/
X-MICROSOFT-CDO-BUSYSTATUS:BUSY
X-MICROSOFT-CDO-IMPORTANCE:1
END:VEVENT
BEGIN:VEVENT
UID:g8jfk@games.golnetwork.com
LOCATION:Louis Riel #3
GEO:45.4410208;-75.5715394
CREATED:20160316T210815Z
DTSTART:20160319T233000Z
DTEND:20160319T235500Z
DTSTAMP:20260420T015432Z
SUMMARY:Ittihad Ottawa vs. Where is the D?
DESCRIPTION:Where is the D? vs. Ittihad OttawaPlus d'info : #6
X-ALT-DESC;FMTTYPE=text/html:<!DOCTYPE HTML PUBLIC "-//W3C//DTD HTML 3.2//E
	N">\n<HTML>\n<HEAD>\n<TITLE></TITLE>\n</HEAD>\n<BODY>\n<h3>Where is the D? 
	vs. Ittihad Ottawa</h3>Plus d'info : <a href="https://www.golnetwork.com/ga
	me/v/84871/">#6</a>\n\n</BODY>\n</HTML>
STATUS:CONFIRMED
CLASS:PUBLIC
URL:https://www.golnetwork.com/game/v/84871/
X-MICROSOFT-CDO-BUSYSTATUS:BUSY
X-MICROSOFT-CDO-IMPORTANCE:1
END:VEVENT
BEGIN:VEVENT
UID:g8jfq@games.golnetwork.com
LOCATION:Louis Riel #3
GEO:45.4410208;-75.5715394
CREATED:20160316T210815Z
DTSTART:20160320T000000Z
DTEND:20160320T002500Z
DTSTAMP:20260420T015432Z
SUMMARY:Athletic Bluerange FC vs. Killer Bees
DESCRIPTION:Killer Bees vs. Athletic Bluerange FCPlus d'info : #9
X-ALT-DESC;FMTTYPE=text/html:<!DOCTYPE HTML PUBLIC "-//W3C//DTD HTML 3.2//E
	N">\n<HTML>\n<HEAD>\n<TITLE></TITLE>\n</HEAD>\n<BODY>\n<h3>Killer Bees vs. 
	Athletic Bluerange FC</h3>Plus d'info : <a href="https://www.golnetwork.com
	/game/v/84874/">#9</a>\n\n</BODY>\n</HTML>
STATUS:CONFIRMED
CLASS:PUBLIC
URL:https://www.golnetwork.com/game/v/84874/
X-MICROSOFT-CDO-BUSYSTATUS:BUSY
X-MICROSOFT-CDO-IMPORTANCE:1
END:VEVENT
BEGIN:VEVENT
UID:g8jg5@games.golnetwork.com
LOCATION:Louis Riel #3
GEO:45.4410208;-75.5715394
CREATED:20160316T210815Z
DTSTART:20160320T003000Z
DTEND:20160320T005500Z
DTSTAMP:20260420T015432Z
SUMMARY:Where is the D? vs. Amal 4
DESCRIPTION:Amal 4 vs. Where is the D?Plus d'info : #12
X-ALT-DESC;FMTTYPE=text/html:<!DOCTYPE HTML PUBLIC "-//W3C//DTD HTML 3.2//E
	N">\n<HTML>\n<HEAD>\n<TITLE></TITLE>\n</HEAD>\n<BODY>\n<h3>Amal 4 vs. Where
	 is the D?</h3>Plus d'info : <a href="https://www.golnetwork.com/game/v/848
	77/">#12</a>\n\n</BODY>\n</HTML>
STATUS:CONFIRMED
CLASS:PUBLIC
URL:https://www.golnetwork.com/game/v/84877/
X-MICROSOFT-CDO-BUSYSTATUS:BUSY
X-MICROSOFT-CDO-IMPORTANCE:1
END:VEVENT
BEGIN:VEVENT
UID:g8jgb@games.golnetwork.com
LOCATION:Louis Riel #3
GEO:45.4410208;-75.5715394
CREATED:20160316T210815Z
DTSTART:20160320T010000Z
DTEND:20160320T012500Z
DTSTAMP:20260420T015432Z
SUMMARY:Ittihad Ottawa vs. Athletic Bluerange FC
DESCRIPTION:Athletic Bluerange FC vs. Ittihad OttawaPlus d'info : #15
X-ALT-DESC;FMTTYPE=text/html:<!DOCTYPE HTML PUBLIC "-//W3C//DTD HTML 3.2//E
	N">\n<HTML>\n<HEAD>\n<TITLE></TITLE>\n</HEAD>\n<BODY>\n<h3>Athletic Blueran
	ge FC vs. Ittihad Ottawa</h3>Plus d'info : <a href="https://www.golnetwork.
	com/game/v/84880/">#15</a>\n\n</BODY>\n</HTML>
STATUS:CONFIRMED
CLASS:PUBLIC
URL:https://www.golnetwork.com/game/v/84880/
X-MICROSOFT-CDO-BUSYSTATUS:BUSY
X-MICROSOFT-CDO-IMPORTANCE:1
END:VEVENT
BEGIN:VEVENT
UID:g8jgh@games.golnetwork.com
LOCATION:Louis Riel #3
GEO:45.4410208;-75.5715394
CREATED:20160316T210816Z
DTSTART:20160320T013000Z
DTEND:20160320T015500Z
DTSTAMP:20260420T015432Z
SUMMARY:Where is the D? vs. Killer Bees
DESCRIPTION:Killer Bees vs. Where is the D?Plus d'info : #18
X-ALT-DESC;FMTTYPE=text/html:<!DOCTYPE HTML PUBLIC "-//W3C//DTD HTML 3.2//E
	N">\n<HTML>\n<HEAD>\n<TITLE></TITLE>\n</HEAD>\n<BODY>\n<h3>Killer Bees vs. 
	Where is the D?</h3>Plus d'info : <a href="https://www.golnetwork.com/game/
	v/84883/">#18</a>\n\n</BODY>\n</HTML>
STATUS:CONFIRMED
CLASS:PUBLIC
URL:https://www.golnetwork.com/game/v/84883/
X-MICROSOFT-CDO-BUSYSTATUS:BUSY
X-MICROSOFT-CDO-IMPORTANCE:1
END:VEVENT
BEGIN:VEVENT
UID:g8jgn@games.golnetwork.com
LOCATION:Louis Riel #3
GEO:45.4410208;-75.5715394
CREATED:20160316T210816Z
DTSTART:20160320T020000Z
DTEND:20160320T022500Z
DTSTAMP:20260420T015432Z
SUMMARY:Athletic Bluerange FC vs. Amal 4
DESCRIPTION:Amal 4 vs. Athletic Bluerange FCPlus d'info : #21
X-ALT-DESC;FMTTYPE=text/html:<!DOCTYPE HTML PUBLIC "-//W3C//DTD HTML 3.2//E
	N">\n<HTML>\n<HEAD>\n<TITLE></TITLE>\n</HEAD>\n<BODY>\n<h3>Amal 4 vs. Athle
	tic Bluerange FC</h3>Plus d'info : <a href="https://www.golnetwork.com/game
	/v/84886/">#21</a>\n\n</BODY>\n</HTML>
STATUS:CONFIRMED
CLASS:PUBLIC
URL:https://www.golnetwork.com/game/v/84886/
X-MICROSOFT-CDO-BUSYSTATUS:BUSY
X-MICROSOFT-CDO-IMPORTANCE:1
END:VEVENT
END:VCALENDAR
