BEGIN:VCALENDAR
PRODID:-//gdesolutions.com//MV Framework 1.0.0.1607 Calendar//EN
VERSION:2.0
METHOD:PUBLISH
CALSCALE:GREGORIAN
BEGIN:VEVENT
UID:g8jfg@games.golnetwork.com
LOCATION:Louis Riel #1
GEO:45.4410208;-75.5715394
CREATED:20160316T210815Z
DTSTART:20160319T233000Z
DTEND:20160319T235500Z
DTSTAMP:20260421T170425Z
SUMMARY:Cheetos FC vs. Real Ale Madrid
DESCRIPTION:Real Ale Madrid vs. Cheetos FCPlus d'info : #4
X-ALT-DESC;FMTTYPE=text/html:<!DOCTYPE HTML PUBLIC "-//W3C//DTD HTML 3.2//E
	N">\n<HTML>\n<HEAD>\n<TITLE></TITLE>\n</HEAD>\n<BODY>\n<h3>Real Ale Madrid 
	vs. Cheetos FC</h3>Plus d'info : <a href="https://www.golnetwork.com/game/v
	/84869/">#4</a>\n\n</BODY>\n</HTML>
STATUS:CONFIRMED
CLASS:PUBLIC
URL:https://www.golnetwork.com/game/v/84869/
X-MICROSOFT-CDO-BUSYSTATUS:BUSY
X-MICROSOFT-CDO-IMPORTANCE:1
END:VEVENT
BEGIN:VEVENT
UID:g8jfm@games.golnetwork.com
LOCATION:Louis Riel #1
GEO:45.4410208;-75.5715394
CREATED:20160316T210815Z
DTSTART:20160320T000000Z
DTEND:20160320T002500Z
DTSTAMP:20260421T170425Z
SUMMARY:WUSC and Friends vs. The Overrulers
DESCRIPTION:The Overrulers vs. WUSC and FriendsPlus d'info : #7
X-ALT-DESC;FMTTYPE=text/html:<!DOCTYPE HTML PUBLIC "-//W3C//DTD HTML 3.2//E
	N">\n<HTML>\n<HEAD>\n<TITLE></TITLE>\n</HEAD>\n<BODY>\n<h3>The Overrulers v
	s. WUSC and Friends</h3>Plus d'info : <a href="https://www.golnetwork.com/g
	ame/v/84872/">#7</a>\n\n</BODY>\n</HTML>
STATUS:CONFIRMED
CLASS:PUBLIC
URL:https://www.golnetwork.com/game/v/84872/
X-MICROSOFT-CDO-BUSYSTATUS:BUSY
X-MICROSOFT-CDO-IMPORTANCE:1
END:VEVENT
BEGIN:VEVENT
UID:g8jg7@games.golnetwork.com
LOCATION:Louis Riel #1
GEO:45.4410208;-75.5715394
CREATED:20160316T210815Z
DTSTART:20160320T010000Z
DTEND:20160320T012500Z
DTSTAMP:20260421T170425Z
SUMMARY:WUSC and Friends vs. Real Ale Madrid
DESCRIPTION:Real Ale Madrid vs. WUSC and FriendsPlus d'info : #13
X-ALT-DESC;FMTTYPE=text/html:<!DOCTYPE HTML PUBLIC "-//W3C//DTD HTML 3.2//E
	N">\n<HTML>\n<HEAD>\n<TITLE></TITLE>\n</HEAD>\n<BODY>\n<h3>Real Ale Madrid 
	vs. WUSC and Friends</h3>Plus d'info : <a href="https://www.golnetwork.com/
	game/v/84878/">#13</a>\n\n</BODY>\n</HTML>
STATUS:CONFIRMED
CLASS:PUBLIC
URL:https://www.golnetwork.com/game/v/84878/
X-MICROSOFT-CDO-BUSYSTATUS:BUSY
X-MICROSOFT-CDO-IMPORTANCE:1
END:VEVENT
BEGIN:VEVENT
UID:g8jgd@games.golnetwork.com
LOCATION:Louis Riel #1
GEO:45.4410208;-75.5715394
CREATED:20160316T210815Z
DTSTART:20160320T013000Z
DTEND:20160320T015500Z
DTSTAMP:20260421T170425Z
SUMMARY:The Overrulers vs. Cheetos FC
DESCRIPTION:Cheetos FC vs. The OverrulersPlus d'info : #16
X-ALT-DESC;FMTTYPE=text/html:<!DOCTYPE HTML PUBLIC "-//W3C//DTD HTML 3.2//E
	N">\n<HTML>\n<HEAD>\n<TITLE></TITLE>\n</HEAD>\n<BODY>\n<h3>Cheetos FC vs. T
	he Overrulers</h3>Plus d'info : <a href="https://www.golnetwork.com/game/v/
	84881/">#16</a>\n\n</BODY>\n</HTML>
STATUS:CONFIRMED
CLASS:PUBLIC
URL:https://www.golnetwork.com/game/v/84881/
X-MICROSOFT-CDO-BUSYSTATUS:BUSY
X-MICROSOFT-CDO-IMPORTANCE:1
END:VEVENT
BEGIN:VEVENT
UID:g8jh0@games.golnetwork.com
LOCATION:Louis Riel #2
GEO:45.4410208;-75.5715394
CREATED:20160316T210816Z
DTSTART:20160320T023000Z
DTEND:20160320T025500Z
DTSTAMP:20260421T170425Z
SUMMARY:The Overrulers vs. Real Ale Madrid
DESCRIPTION:Real Ale Madrid vs. The OverrulersPlus d'info : #23
X-ALT-DESC;FMTTYPE=text/html:<!DOCTYPE HTML PUBLIC "-//W3C//DTD HTML 3.2//E
	N">\n<HTML>\n<HEAD>\n<TITLE></TITLE>\n</HEAD>\n<BODY>\n<h3>Real Ale Madrid 
	vs. The Overrulers</h3>Plus d'info : <a href="https://www.golnetwork.com/ga
	me/v/84888/">#23</a>\n\n</BODY>\n</HTML>
STATUS:CONFIRMED
CLASS:PUBLIC
URL:https://www.golnetwork.com/game/v/84888/
X-MICROSOFT-CDO-BUSYSTATUS:BUSY
X-MICROSOFT-CDO-IMPORTANCE:1
END:VEVENT
BEGIN:VEVENT
UID:g8jh2@games.golnetwork.com
LOCATION:Louis Riel #3
GEO:45.4410208;-75.5715394
CREATED:20160316T210816Z
DTSTART:20160320T023000Z
DTEND:20160320T025500Z
DTSTAMP:20260421T170425Z
SUMMARY:Cheetos FC vs. WUSC and Friends
DESCRIPTION:WUSC and Friends vs. Cheetos FCPlus d'info : #24
X-ALT-DESC;FMTTYPE=text/html:<!DOCTYPE HTML PUBLIC "-//W3C//DTD HTML 3.2//E
	N">\n<HTML>\n<HEAD>\n<TITLE></TITLE>\n</HEAD>\n<BODY>\n<h3>WUSC and Friends
	 vs. Cheetos FC</h3>Plus d'info : <a href="https://www.golnetwork.com/game/
	v/84889/">#24</a>\n\n</BODY>\n</HTML>
STATUS:CONFIRMED
CLASS:PUBLIC
URL:https://www.golnetwork.com/game/v/84889/
X-MICROSOFT-CDO-BUSYSTATUS:BUSY
X-MICROSOFT-CDO-IMPORTANCE:1
END:VEVENT
END:VCALENDAR
