BEGIN:VCALENDAR
PRODID:-//gdesolutions.com//MV Framework 1.0.0.1607 Calendar//EN
VERSION:2.0
METHOD:PUBLISH
CALSCALE:GREGORIAN
BEGIN:VEVENT
UID:g8k1l@games.golnetwork.com
LOCATION:Louis Riel #1
GEO:45.4410208;-75.5715394
CREATED:20160318T172526Z
DTSTART:20160322T233000Z
DTEND:20160323T000000Z
DTSTAMP:20260422T041505Z
SUMMARY:Meds & Friends vs. Young Guns United
DESCRIPTION:Young Guns United vs. Meds & FriendsPlus d'info : #1
X-ALT-DESC;FMTTYPE=text/html:<!DOCTYPE HTML PUBLIC "-//W3C//DTD HTML 3.2//E
	N">\n<HTML>\n<HEAD>\n<TITLE></TITLE>\n</HEAD>\n<BODY>\n<h3>Young Guns Unite
	d vs. Meds & Friends</h3>Plus d'info : <a href="https://www.golnetwork.com/
	game/v/85047/">#1</a>\n\n</BODY>\n</HTML>
STATUS:CONFIRMED
CLASS:PUBLIC
URL:https://www.golnetwork.com/game/v/85047/
X-MICROSOFT-CDO-BUSYSTATUS:BUSY
X-MICROSOFT-CDO-IMPORTANCE:1
END:VEVENT
BEGIN:VEVENT
UID:g8k1n@games.golnetwork.com
LOCATION:Louis Riel #1
GEO:45.4410208;-75.5715394
CREATED:20160318T172537Z
DTSTART:20160323T003000Z
DTEND:20160323T010000Z
DTSTAMP:20260422T041505Z
SUMMARY:Individuals vs. Otto Man Empire
DESCRIPTION:Otto Man Empire vs. IndividualsPlus d'info : #2
X-ALT-DESC;FMTTYPE=text/html:<!DOCTYPE HTML PUBLIC "-//W3C//DTD HTML 3.2//E
	N">\n<HTML>\n<HEAD>\n<TITLE></TITLE>\n</HEAD>\n<BODY>\n<h3>Otto Man Empire 
	vs. Individuals</h3>Plus d'info : <a href="https://www.golnetwork.com/game/
	v/85048/">#2</a>\n\n</BODY>\n</HTML>
STATUS:CONFIRMED
CLASS:PUBLIC
URL:https://www.golnetwork.com/game/v/85048/
X-MICROSOFT-CDO-BUSYSTATUS:BUSY
X-MICROSOFT-CDO-IMPORTANCE:1
END:VEVENT
BEGIN:VEVENT
UID:g8k24@games.golnetwork.com
LOCATION:Louis Riel #1
GEO:45.4410208;-75.5715394
CREATED:20160321T061208Z
DTSTART:20160323T013000Z
DTEND:20160323T020000Z
DTSTAMP:20260422T041505Z
SUMMARY:Individuals vs. Individuals 2
DESCRIPTION:Individuals 2 vs. IndividualsPlus d'info : #1
X-ALT-DESC;FMTTYPE=text/html:<!DOCTYPE HTML PUBLIC "-//W3C//DTD HTML 3.2//E
	N">\n<HTML>\n<HEAD>\n<TITLE></TITLE>\n</HEAD>\n<BODY>\n<h3>Individuals 2 vs
	. Individuals</h3>Plus d'info : <a href="https://www.golnetwork.com/game/v/
	85052/">#1</a>\n\n</BODY>\n</HTML>
STATUS:CONFIRMED
CLASS:PUBLIC
URL:https://www.golnetwork.com/game/v/85052/
X-MICROSOFT-CDO-BUSYSTATUS:BUSY
X-MICROSOFT-CDO-IMPORTANCE:1
END:VEVENT
BEGIN:VEVENT
UID:g8k26@games.golnetwork.com
LOCATION:Louis Riel #1
GEO:45.4410208;-75.5715394
CREATED:20160321T061208Z
DTSTART:20160329T230000Z
DTEND:20160329T233000Z
DTSTAMP:20260422T041505Z
SUMMARY:Meds & Friends vs. Individuals
DESCRIPTION:Individuals vs. Meds & FriendsPlus d'info : #2
X-ALT-DESC;FMTTYPE=text/html:<!DOCTYPE HTML PUBLIC "-//W3C//DTD HTML 3.2//E
	N">\n<HTML>\n<HEAD>\n<TITLE></TITLE>\n</HEAD>\n<BODY>\n<h3>Individuals vs. 
	Meds & Friends</h3>Plus d'info : <a href="https://www.golnetwork.com/game/v
	/85053/">#2</a>\n\n</BODY>\n</HTML>
STATUS:CONFIRMED
CLASS:PUBLIC
URL:https://www.golnetwork.com/game/v/85053/
X-MICROSOFT-CDO-BUSYSTATUS:BUSY
X-MICROSOFT-CDO-IMPORTANCE:1
END:VEVENT
BEGIN:VEVENT
UID:g8kc2@games.golnetwork.com
LOCATION:Louis Riel #1
GEO:45.4410208;-75.5715394
CREATED:20160327T203540Z
DTSTART:20160330T000000Z
DTEND:20160330T003000Z
DTSTAMP:20260422T041505Z
SUMMARY:Nutmeg vs. Individuals 2
DESCRIPTION:Individuals 2 vs. NutmegPlus d'info : #5
X-ALT-DESC;FMTTYPE=text/html:<!DOCTYPE HTML PUBLIC "-//W3C//DTD HTML 3.2//E
	N">\n<HTML>\n<HEAD>\n<TITLE></TITLE>\n</HEAD>\n<BODY>\n<h3>Individuals 2 vs
	. Nutmeg</h3>Plus d'info : <a href="https://www.golnetwork.com/game/v/85186
	/">#5</a>\n\n</BODY>\n</HTML>
STATUS:CONFIRMED
CLASS:PUBLIC
URL:https://www.golnetwork.com/game/v/85186/
X-MICROSOFT-CDO-BUSYSTATUS:BUSY
X-MICROSOFT-CDO-IMPORTANCE:1
END:VEVENT
BEGIN:VEVENT
UID:g8k2a@games.golnetwork.com
LOCATION:Louis Riel #1
GEO:45.4410208;-75.5715394
CREATED:20160321T061208Z
DTSTART:20160330T010000Z
DTEND:20160330T013000Z
DTSTAMP:20260422T041505Z
SUMMARY:Otto Man Empire vs. Young Guns United
DESCRIPTION:Young Guns United vs. Otto Man EmpirePlus d'info : #4
X-ALT-DESC;FMTTYPE=text/html:<!DOCTYPE HTML PUBLIC "-//W3C//DTD HTML 3.2//E
	N">\n<HTML>\n<HEAD>\n<TITLE></TITLE>\n</HEAD>\n<BODY>\n<h3>Young Guns Unite
	d vs. Otto Man Empire</h3>Plus d'info : <a href="https://www.golnetwork.com
	/game/v/85055/">#4</a>\n\n</BODY>\n</HTML>
STATUS:CONFIRMED
CLASS:PUBLIC
URL:https://www.golnetwork.com/game/v/85055/
X-MICROSOFT-CDO-BUSYSTATUS:BUSY
X-MICROSOFT-CDO-IMPORTANCE:1
END:VEVENT
BEGIN:VEVENT
UID:g8k2c@games.golnetwork.com
LOCATION:Louis Riel #2
GEO:45.4410208;-75.5715394
CREATED:20160321T061208Z
DTSTART:20160406T000000Z
DTEND:20160406T003000Z
DTSTAMP:20260422T041505Z
SUMMARY:Individuals vs. Young Guns United
DESCRIPTION:Young Guns United vs. IndividualsPlus d'info : #5
X-ALT-DESC;FMTTYPE=text/html:<!DOCTYPE HTML PUBLIC "-//W3C//DTD HTML 3.2//E
	N">\n<HTML>\n<HEAD>\n<TITLE></TITLE>\n</HEAD>\n<BODY>\n<h3>Young Guns Unite
	d vs. Individuals</h3>Plus d'info : <a href="https://www.golnetwork.com/gam
	e/v/85056/">#5</a>\n\n</BODY>\n</HTML>
STATUS:CONFIRMED
CLASS:PUBLIC
URL:https://www.golnetwork.com/game/v/85056/
X-MICROSOFT-CDO-BUSYSTATUS:BUSY
X-MICROSOFT-CDO-IMPORTANCE:1
END:VEVENT
BEGIN:VEVENT
UID:g8k2e@games.golnetwork.com
LOCATION:Louis Riel #2
GEO:45.4410208;-75.5715394
CREATED:20160321T061208Z
DTSTART:20160406T010000Z
DTEND:20160406T013000Z
DTSTAMP:20260422T041505Z
SUMMARY:Individuals 2 vs. Meds & Friends
DESCRIPTION:Meds & Friends vs. Individuals 2Plus d'info : #6
X-ALT-DESC;FMTTYPE=text/html:<!DOCTYPE HTML PUBLIC "-//W3C//DTD HTML 3.2//E
	N">\n<HTML>\n<HEAD>\n<TITLE></TITLE>\n</HEAD>\n<BODY>\n<h3>Meds & Friends v
	s. Individuals 2</h3>Plus d'info : <a href="https://www.golnetwork.com/game
	/v/85057/">#6</a>\n\n</BODY>\n</HTML>
STATUS:CONFIRMED
CLASS:PUBLIC
URL:https://www.golnetwork.com/game/v/85057/
X-MICROSOFT-CDO-BUSYSTATUS:BUSY
X-MICROSOFT-CDO-IMPORTANCE:1
END:VEVENT
BEGIN:VEVENT
UID:g8kca@games.golnetwork.com
LOCATION:Louis Riel #2
GEO:45.4410208;-75.5715394
CREATED:20160327T204439Z
DTSTART:20160406T020000Z
DTEND:20160406T023000Z
DTSTAMP:20260422T041505Z
SUMMARY:Otto Man Empire vs. Nutmeg
DESCRIPTION:Nutmeg vs. Otto Man EmpirePlus d'info : #9
X-ALT-DESC;FMTTYPE=text/html:<!DOCTYPE HTML PUBLIC "-//W3C//DTD HTML 3.2//E
	N">\n<HTML>\n<HEAD>\n<TITLE></TITLE>\n</HEAD>\n<BODY>\n<h3>Nutmeg vs. Otto 
	Man Empire</h3>Plus d'info : <a href="https://www.golnetwork.com/game/v/851
	90/">#9</a>\n\n</BODY>\n</HTML>
STATUS:CONFIRMED
CLASS:PUBLIC
URL:https://www.golnetwork.com/game/v/85190/
X-MICROSOFT-CDO-BUSYSTATUS:BUSY
X-MICROSOFT-CDO-IMPORTANCE:1
END:VEVENT
BEGIN:VEVENT
UID:g8kc4@games.golnetwork.com
LOCATION:Louis Riel #1
GEO:45.4410208;-75.5715394
CREATED:20160327T204036Z
DTSTART:20160412T230000Z
DTEND:20160412T233000Z
DTSTAMP:20260422T041505Z
SUMMARY:Meds & Friends vs. Nutmeg
DESCRIPTION:Nutmeg vs. Meds & FriendsPlus d'info : #10
X-ALT-DESC;FMTTYPE=text/html:<!DOCTYPE HTML PUBLIC "-//W3C//DTD HTML 3.2//E
	N">\n<HTML>\n<HEAD>\n<TITLE></TITLE>\n</HEAD>\n<BODY>\n<h3>Nutmeg vs. Meds 
	& Friends</h3>Plus d'info : <a href="https://www.golnetwork.com/game/v/8518
	7/">#10</a>\n\n</BODY>\n</HTML>
STATUS:CONFIRMED
CLASS:PUBLIC
URL:https://www.golnetwork.com/game/v/85187/
X-MICROSOFT-CDO-BUSYSTATUS:BUSY
X-MICROSOFT-CDO-IMPORTANCE:1
END:VEVENT
BEGIN:VEVENT
UID:g8k2i@games.golnetwork.com
LOCATION:Louis Riel #1
GEO:45.4410208;-75.5715394
CREATED:20160321T061208Z
DTSTART:20160413T000000Z
DTEND:20160413T003000Z
DTSTAMP:20260422T041505Z
SUMMARY:Individuals 2 vs. Otto Man Empire
DESCRIPTION:Otto Man Empire vs. Individuals 2Plus d'info : #8
X-ALT-DESC;FMTTYPE=text/html:<!DOCTYPE HTML PUBLIC "-//W3C//DTD HTML 3.2//E
	N">\n<HTML>\n<HEAD>\n<TITLE></TITLE>\n</HEAD>\n<BODY>\n<h3>Otto Man Empire 
	vs. Individuals 2</h3>Plus d'info : <a href="https://www.golnetwork.com/gam
	e/v/85059/">#8</a>\n\n</BODY>\n</HTML>
STATUS:CONFIRMED
CLASS:PUBLIC
URL:https://www.golnetwork.com/game/v/85059/
X-MICROSOFT-CDO-BUSYSTATUS:BUSY
X-MICROSOFT-CDO-IMPORTANCE:1
END:VEVENT
BEGIN:VEVENT
UID:g8k2k@games.golnetwork.com
LOCATION:Louis Riel #1
GEO:45.4410208;-75.5715394
CREATED:20160321T061208Z
DTSTART:20160413T010000Z
DTEND:20160413T013000Z
DTSTAMP:20260422T041505Z
SUMMARY:Individuals vs. Young Guns United
DESCRIPTION:Young Guns United vs. IndividualsPlus d'info : #9
X-ALT-DESC;FMTTYPE=text/html:<!DOCTYPE HTML PUBLIC "-//W3C//DTD HTML 3.2//E
	N">\n<HTML>\n<HEAD>\n<TITLE></TITLE>\n</HEAD>\n<BODY>\n<h3>Young Guns Unite
	d vs. Individuals</h3>Plus d'info : <a href="https://www.golnetwork.com/gam
	e/v/85060/">#9</a>\n\n</BODY>\n</HTML>
STATUS:CONFIRMED
CLASS:PUBLIC
URL:https://www.golnetwork.com/game/v/85060/
X-MICROSOFT-CDO-BUSYSTATUS:BUSY
X-MICROSOFT-CDO-IMPORTANCE:1
END:VEVENT
BEGIN:VEVENT
UID:g8k2m@games.golnetwork.com
LOCATION:Louis Riel #1
GEO:45.4410208;-75.5715394
CREATED:20160321T061208Z
DTSTART:20160419T230000Z
DTEND:20160419T233000Z
DTSTAMP:20260422T041505Z
SUMMARY:Individuals vs. Otto Man Empire
DESCRIPTION:Otto Man Empire vs. IndividualsPlus d'info : #10
X-ALT-DESC;FMTTYPE=text/html:<!DOCTYPE HTML PUBLIC "-//W3C//DTD HTML 3.2//E
	N">\n<HTML>\n<HEAD>\n<TITLE></TITLE>\n</HEAD>\n<BODY>\n<h3>Otto Man Empire 
	vs. Individuals</h3>Plus d'info : <a href="https://www.golnetwork.com/game/
	v/85061/">#10</a>\n\n</BODY>\n</HTML>
STATUS:CONFIRMED
CLASS:PUBLIC
URL:https://www.golnetwork.com/game/v/85061/
X-MICROSOFT-CDO-BUSYSTATUS:BUSY
X-MICROSOFT-CDO-IMPORTANCE:1
END:VEVENT
BEGIN:VEVENT
UID:g8k2o@games.golnetwork.com
LOCATION:Louis Riel #1
GEO:45.4410208;-75.5715394
CREATED:20160321T061208Z
DTSTART:20160420T000000Z
DTEND:20160420T003000Z
DTSTAMP:20260422T041505Z
SUMMARY:Individuals 2 vs. Meds & Friends
DESCRIPTION:Meds & Friends vs. Individuals 2Plus d'info : #11
X-ALT-DESC;FMTTYPE=text/html:<!DOCTYPE HTML PUBLIC "-//W3C//DTD HTML 3.2//E
	N">\n<HTML>\n<HEAD>\n<TITLE></TITLE>\n</HEAD>\n<BODY>\n<h3>Meds & Friends v
	s. Individuals 2</h3>Plus d'info : <a href="https://www.golnetwork.com/game
	/v/85062/">#11</a>\n\n</BODY>\n</HTML>
STATUS:CONFIRMED
CLASS:PUBLIC
URL:https://www.golnetwork.com/game/v/85062/
X-MICROSOFT-CDO-BUSYSTATUS:BUSY
X-MICROSOFT-CDO-IMPORTANCE:1
END:VEVENT
BEGIN:VEVENT
UID:g8kc6@games.golnetwork.com
LOCATION:Louis Riel #1
GEO:45.4410208;-75.5715394
CREATED:20160327T204116Z
DTSTART:20160420T010000Z
DTEND:20160420T013000Z
DTSTAMP:20260422T041505Z
SUMMARY:Young Guns United vs. Nutmeg
DESCRIPTION:Nutmeg vs. Young Guns UnitedPlus d'info : #15
X-ALT-DESC;FMTTYPE=text/html:<!DOCTYPE HTML PUBLIC "-//W3C//DTD HTML 3.2//E
	N">\n<HTML>\n<HEAD>\n<TITLE></TITLE>\n</HEAD>\n<BODY>\n<h3>Nutmeg vs. Young
	 Guns United</h3>Plus d'info : <a href="https://www.golnetwork.com/game/v/8
	5188/">#15</a>\n\n</BODY>\n</HTML>
STATUS:CONFIRMED
CLASS:PUBLIC
URL:https://www.golnetwork.com/game/v/85188/
X-MICROSOFT-CDO-BUSYSTATUS:BUSY
X-MICROSOFT-CDO-IMPORTANCE:1
END:VEVENT
BEGIN:VEVENT
UID:g8kc8@games.golnetwork.com
LOCATION:Louis Riel #1
GEO:45.4410208;-75.5715394
CREATED:20160327T204331Z
DTSTART:20160426T230000Z
DTEND:20160426T233000Z
DTSTAMP:20260422T041505Z
SUMMARY:Individuals vs. Nutmeg
DESCRIPTION:Nutmeg vs. IndividualsPlus d'info : #16
X-ALT-DESC;FMTTYPE=text/html:<!DOCTYPE HTML PUBLIC "-//W3C//DTD HTML 3.2//E
	N">\n<HTML>\n<HEAD>\n<TITLE></TITLE>\n</HEAD>\n<BODY>\n<h3>Nutmeg vs. Indiv
	iduals</h3>Plus d'info : <a href="https://www.golnetwork.com/game/v/85189/"
	>#16</a>\n\n</BODY>\n</HTML>
STATUS:CONFIRMED
CLASS:PUBLIC
URL:https://www.golnetwork.com/game/v/85189/
X-MICROSOFT-CDO-BUSYSTATUS:BUSY
X-MICROSOFT-CDO-IMPORTANCE:1
END:VEVENT
BEGIN:VEVENT
UID:g8k33@games.golnetwork.com
LOCATION:Louis Riel #1
GEO:45.4410208;-75.5715394
CREATED:20160321T061208Z
DTSTART:20160427T000000Z
DTEND:20160427T003000Z
DTSTAMP:20260422T041505Z
SUMMARY:Young Guns United vs. Individuals 2
DESCRIPTION:Individuals 2 vs. Young Guns UnitedPlus d'info : #14
X-ALT-DESC;FMTTYPE=text/html:<!DOCTYPE HTML PUBLIC "-//W3C//DTD HTML 3.2//E
	N">\n<HTML>\n<HEAD>\n<TITLE></TITLE>\n</HEAD>\n<BODY>\n<h3>Individuals 2 vs
	. Young Guns United</h3>Plus d'info : <a href="https://www.golnetwork.com/g
	ame/v/85065/">#14</a>\n\n</BODY>\n</HTML>
STATUS:CONFIRMED
CLASS:PUBLIC
URL:https://www.golnetwork.com/game/v/85065/
X-MICROSOFT-CDO-BUSYSTATUS:BUSY
X-MICROSOFT-CDO-IMPORTANCE:1
END:VEVENT
BEGIN:VEVENT
UID:g8k35@games.golnetwork.com
LOCATION:Louis Riel #1
GEO:45.4410208;-75.5715394
CREATED:20160321T061208Z
DTSTART:20160427T010000Z
DTEND:20160427T013000Z
DTSTAMP:20260422T041505Z
SUMMARY:Otto Man Empire vs. Meds & Friends
DESCRIPTION:Meds & Friends vs. Otto Man EmpirePlus d'info : #15
X-ALT-DESC;FMTTYPE=text/html:<!DOCTYPE HTML PUBLIC "-//W3C//DTD HTML 3.2//E
	N">\n<HTML>\n<HEAD>\n<TITLE></TITLE>\n</HEAD>\n<BODY>\n<h3>Meds & Friends v
	s. Otto Man Empire</h3>Plus d'info : <a href="https://www.golnetwork.com/ga
	me/v/85066/">#15</a>\n\n</BODY>\n</HTML>
STATUS:CONFIRMED
CLASS:PUBLIC
URL:https://www.golnetwork.com/game/v/85066/
X-MICROSOFT-CDO-BUSYSTATUS:BUSY
X-MICROSOFT-CDO-IMPORTANCE:1
END:VEVENT
BEGIN:VEVENT
UID:g90bg@games.golnetwork.com
LOCATION:Louis Riel #1
GEO:45.4410208;-75.5715394
CREATED:20160501T235807Z
DTSTART:20160503T230000Z
DTEND:20160503T233000Z
DTSTAMP:20260422T041505Z
SUMMARY:Otto Man Empire vs. Young Guns United
DESCRIPTION:Young Guns United vs. Otto Man EmpirePlus d'info : #19
X-ALT-DESC;FMTTYPE=text/html:<!DOCTYPE HTML PUBLIC "-//W3C//DTD HTML 3.2//E
	N">\n<HTML>\n<HEAD>\n<TITLE></TITLE>\n</HEAD>\n<BODY>\n<h3>Young Guns Unite
	d vs. Otto Man Empire</h3>Plus d'info : <a href="https://www.golnetwork.com
	/game/v/87731/">#19</a>\n\n</BODY>\n</HTML>
STATUS:CONFIRMED
CLASS:PUBLIC
URL:https://www.golnetwork.com/game/v/87731/
X-MICROSOFT-CDO-BUSYSTATUS:BUSY
X-MICROSOFT-CDO-IMPORTANCE:1
END:VEVENT
BEGIN:VEVENT
UID:g90bi@games.golnetwork.com
LOCATION:Louis Riel #1
GEO:45.4410208;-75.5715394
CREATED:20160501T235819Z
DTSTART:20160504T000000Z
DTEND:20160504T003000Z
DTSTAMP:20260422T041505Z
SUMMARY:Nutmeg vs. Individuals 2
DESCRIPTION:Individuals 2 vs. NutmegPlus d'info : #20
X-ALT-DESC;FMTTYPE=text/html:<!DOCTYPE HTML PUBLIC "-//W3C//DTD HTML 3.2//E
	N">\n<HTML>\n<HEAD>\n<TITLE></TITLE>\n</HEAD>\n<BODY>\n<h3>Individuals 2 vs
	. Nutmeg</h3>Plus d'info : <a href="https://www.golnetwork.com/game/v/87732
	/">#20</a>\n\n</BODY>\n</HTML>
STATUS:CONFIRMED
CLASS:PUBLIC
URL:https://www.golnetwork.com/game/v/87732/
X-MICROSOFT-CDO-BUSYSTATUS:BUSY
X-MICROSOFT-CDO-IMPORTANCE:1
END:VEVENT
BEGIN:VEVENT
UID:g90bk@games.golnetwork.com
LOCATION:Louis Riel #1
GEO:45.4410208;-75.5715394
CREATED:20160501T235829Z
DTSTART:20160504T010000Z
DTEND:20160504T013000Z
DTSTAMP:20260422T041505Z
SUMMARY:Meds & Friends vs. Individuals
DESCRIPTION:Individuals vs. Meds & FriendsPlus d'info : #21
X-ALT-DESC;FMTTYPE=text/html:<!DOCTYPE HTML PUBLIC "-//W3C//DTD HTML 3.2//E
	N">\n<HTML>\n<HEAD>\n<TITLE></TITLE>\n</HEAD>\n<BODY>\n<h3>Individuals vs. 
	Meds & Friends</h3>Plus d'info : <a href="https://www.golnetwork.com/game/v
	/87733/">#21</a>\n\n</BODY>\n</HTML>
STATUS:CONFIRMED
CLASS:PUBLIC
URL:https://www.golnetwork.com/game/v/87733/
X-MICROSOFT-CDO-BUSYSTATUS:BUSY
X-MICROSOFT-CDO-IMPORTANCE:1
END:VEVENT
BEGIN:VEVENT
UID:g90po@games.golnetwork.com
LOCATION:Louis Riel #1
GEO:45.4410208;-75.5715394
CREATED:20160507T172236Z
DTSTART:20160511T003000Z
DTEND:20160511T010000Z
DTSTAMP:20260422T041505Z
SUMMARY:Individuals vs. Nutmeg
DESCRIPTION:Nutmeg vs. IndividualsPlus d'info : #24
X-ALT-DESC;FMTTYPE=text/html:<!DOCTYPE HTML PUBLIC "-//W3C//DTD HTML 3.2//E
	N">\n<HTML>\n<HEAD>\n<TITLE></TITLE>\n</HEAD>\n<BODY>\n<h3>Nutmeg vs. Indiv
	iduals</h3>Plus d'info : <a href="https://www.golnetwork.com/game/v/87924/"
	>#24</a>\n\n</BODY>\n</HTML>
STATUS:CONFIRMED
CLASS:PUBLIC
URL:https://www.golnetwork.com/game/v/87924/
X-MICROSOFT-CDO-BUSYSTATUS:BUSY
X-MICROSOFT-CDO-IMPORTANCE:1
END:VEVENT
END:VCALENDAR
