BEGIN:VCALENDAR
PRODID:-//gdesolutions.com//MV Framework 1.0.0.1607 Calendar//EN
VERSION:2.0
METHOD:PUBLISH
CALSCALE:GREGORIAN
BEGIN:VEVENT
UID:g8k4a@games.golnetwork.com
LOCATION:Currie Gyms 1 & 2
GEO:45.10662;-94.578209
CREATED:20160321T183404Z
DTSTART:20160324T013000Z
DTEND:20160324T022000Z
DTSTAMP:20260421T061346Z
SUMMARY:Obi-Wan Olajuwon vs. HemoglobinTrotters (OPB)
DESCRIPTION:HemoglobinTrotters (OPB) vs. Obi-Wan OlajuwonPlus d'info : #155
X-ALT-DESC;FMTTYPE=text/html:<!DOCTYPE HTML PUBLIC "-//W3C//DTD HTML 3.2//E
	N">\n<HTML>\n<HEAD>\n<TITLE></TITLE>\n</HEAD>\n<BODY>\n<h3>HemoglobinTrotte
	rs (OPB) vs. Obi-Wan Olajuwon</h3>Plus d'info : <a href="https://www.golnet
	work.com/game/v/85082/">#155</a>\n\n</BODY>\n</HTML>
STATUS:CONFIRMED
CLASS:PUBLIC
URL:https://www.golnetwork.com/game/v/85082/
X-MICROSOFT-CDO-BUSYSTATUS:BUSY
X-MICROSOFT-CDO-IMPORTANCE:1
END:VEVENT
BEGIN:VEVENT
UID:g8k4c@games.golnetwork.com
LOCATION:Currie Gyms 3 & 4
GEO:45.10662;-94.578209
CREATED:20160321T183405Z
DTSTART:20160330T003000Z
DTEND:20160330T012000Z
DTSTAMP:20260421T061346Z
SUMMARY:Istanbul United (OPB) vs. Gardner Hoop Dreams
DESCRIPTION:Gardner Hoop Dreams vs. Istanbul United (OPB)Plus d'info : #160
X-ALT-DESC;FMTTYPE=text/html:<!DOCTYPE HTML PUBLIC "-//W3C//DTD HTML 3.2//E
	N">\n<HTML>\n<HEAD>\n<TITLE></TITLE>\n</HEAD>\n<BODY>\n<h3>Gardner Hoop Dre
	ams vs. Istanbul United (OPB)</h3>Plus d'info : <a href="https://www.golnet
	work.com/game/v/85083/">#160</a>\n\n</BODY>\n</HTML>
STATUS:CONFIRMED
CLASS:PUBLIC
URL:https://www.golnetwork.com/game/v/85083/
X-MICROSOFT-CDO-BUSYSTATUS:BUSY
X-MICROSOFT-CDO-IMPORTANCE:1
END:VEVENT
BEGIN:VEVENT
UID:g8k4e@games.golnetwork.com
LOCATION:Currie Gyms 3 & 4
GEO:45.10662;-94.578209
CREATED:20160321T183405Z
DTSTART:20160330T013000Z
DTEND:20160330T022000Z
DTSTAMP:20260421T061346Z
SUMMARY:Fat Birdman vs. My D Just Rose
DESCRIPTION:My D Just Rose vs. Fat BirdmanPlus d'info : #161
X-ALT-DESC;FMTTYPE=text/html:<!DOCTYPE HTML PUBLIC "-//W3C//DTD HTML 3.2//E
	N">\n<HTML>\n<HEAD>\n<TITLE></TITLE>\n</HEAD>\n<BODY>\n<h3>My D Just Rose v
	s. Fat Birdman</h3>Plus d'info : <a href="https://www.golnetwork.com/game/v
	/85084/">#161</a>\n\n</BODY>\n</HTML>
STATUS:CONFIRMED
CLASS:PUBLIC
URL:https://www.golnetwork.com/game/v/85084/
X-MICROSOFT-CDO-BUSYSTATUS:BUSY
X-MICROSOFT-CDO-IMPORTANCE:1
END:VEVENT
BEGIN:VEVENT
UID:g8k4g@games.golnetwork.com
LOCATION:Currie Gyms 1 & 2
GEO:45.10662;-94.578209
CREATED:20160321T183405Z
DTSTART:20160330T233000Z
DTEND:20160331T002000Z
DTSTAMP:20260421T061346Z
SUMMARY:Supreme Court vs. Shockwave
DESCRIPTION:Shockwave vs. Supreme CourtPlus d'info : #162
X-ALT-DESC;FMTTYPE=text/html:<!DOCTYPE HTML PUBLIC "-//W3C//DTD HTML 3.2//E
	N">\n<HTML>\n<HEAD>\n<TITLE></TITLE>\n</HEAD>\n<BODY>\n<h3>Shockwave vs. Su
	preme Court</h3>Plus d'info : <a href="https://www.golnetwork.com/game/v/85
	085/">#162</a>\n\n</BODY>\n</HTML>
STATUS:CONFIRMED
CLASS:PUBLIC
URL:https://www.golnetwork.com/game/v/85085/
X-MICROSOFT-CDO-BUSYSTATUS:BUSY
X-MICROSOFT-CDO-IMPORTANCE:1
END:VEVENT
BEGIN:VEVENT
UID:g8k4k@games.golnetwork.com
LOCATION:Currie Gyms 1 & 2
GEO:45.10662;-94.578209
CREATED:20160321T183405Z
DTSTART:20160402T003000Z
DTEND:20160402T012000Z
DTSTAMP:20260421T061346Z
SUMMARY:Istanbul United (OPB) vs. Fat Birdman
DESCRIPTION:Fat Birdman vs. Istanbul United (OPB)Plus d'info : #169
X-ALT-DESC;FMTTYPE=text/html:<!DOCTYPE HTML PUBLIC "-//W3C//DTD HTML 3.2//E
	N">\n<HTML>\n<HEAD>\n<TITLE></TITLE>\n</HEAD>\n<BODY>\n<h3>Fat Birdman vs. 
	Istanbul United (OPB)</h3>Plus d'info : <a href="https://www.golnetwork.com
	/game/v/85087/">#169</a>\n\n</BODY>\n</HTML>
STATUS:CONFIRMED
CLASS:PUBLIC
URL:https://www.golnetwork.com/game/v/85087/
X-MICROSOFT-CDO-BUSYSTATUS:BUSY
X-MICROSOFT-CDO-IMPORTANCE:1
END:VEVENT
BEGIN:VEVENT
UID:g8k4i@games.golnetwork.com
LOCATION:Currie Gyms 3 & 4
GEO:45.10662;-94.578209
CREATED:20160321T183405Z
DTSTART:20160402T013000Z
DTEND:20160402T022000Z
DTSTAMP:20260421T061346Z
SUMMARY:Supreme Court vs. Obi-Wan Olajuwon
DESCRIPTION:Obi-Wan Olajuwon vs. Supreme CourtPlus d'info : #170
X-ALT-DESC;FMTTYPE=text/html:<!DOCTYPE HTML PUBLIC "-//W3C//DTD HTML 3.2//E
	N">\n<HTML>\n<HEAD>\n<TITLE></TITLE>\n</HEAD>\n<BODY>\n<h3>Obi-Wan Olajuwon
	 vs. Supreme Court</h3>Plus d'info : <a href="https://www.golnetwork.com/ga
	me/v/85086/">#170</a>\n\n</BODY>\n</HTML>
STATUS:CONFIRMED
CLASS:PUBLIC
URL:https://www.golnetwork.com/game/v/85086/
X-MICROSOFT-CDO-BUSYSTATUS:BUSY
X-MICROSOFT-CDO-IMPORTANCE:1
END:VEVENT
BEGIN:VEVENT
UID:g8k4m@games.golnetwork.com
LOCATION:Currie Gyms 3 & 4
GEO:45.10662;-94.578209
CREATED:20160321T183406Z
DTSTART:20160406T001500Z
DTEND:20160406T010500Z
DTSTAMP:20260421T061346Z
SUMMARY:Fat Birdman vs. Obi-Wan Olajuwon
DESCRIPTION:Obi-Wan Olajuwon vs. Fat BirdmanPlus d'info : #175
X-ALT-DESC;FMTTYPE=text/html:<!DOCTYPE HTML PUBLIC "-//W3C//DTD HTML 3.2//E
	N">\n<HTML>\n<HEAD>\n<TITLE></TITLE>\n</HEAD>\n<BODY>\n<h3>Obi-Wan Olajuwon
	 vs. Fat Birdman</h3>Plus d'info : <a href="https://www.golnetwork.com/game
	/v/85088/">#175</a>\n\n</BODY>\n</HTML>
STATUS:CONFIRMED
CLASS:PUBLIC
URL:https://www.golnetwork.com/game/v/85088/
X-MICROSOFT-CDO-BUSYSTATUS:BUSY
X-MICROSOFT-CDO-IMPORTANCE:1
END:VEVENT
END:VCALENDAR
