BEGIN:VCALENDAR
PRODID:-//gdesolutions.com//MV Framework 1.0.0.1607 Calendar//EN
VERSION:2.0
METHOD:PUBLISH
CALSCALE:GREGORIAN
BEGIN:VEVENT
UID:g8oam@games.golnetwork.com
LOCATION:Jesse Ketchum Field
CREATED:20160419T143339Z
DTSTART:20160618T170000Z
DTEND:20160618T181500Z
DTSTAMP:20260421T015149Z
SUMMARY:Sickkids vs. MPA (Blue)
DESCRIPTION:MPA (Blue) vs. SickkidsPlus d'info : #43
X-ALT-DESC;FMTTYPE=text/html:<!DOCTYPE HTML PUBLIC "-//W3C//DTD HTML 3.2//E
	N">\n<HTML>\n<HEAD>\n<TITLE></TITLE>\n</HEAD>\n<BODY>\n<h3>MPA (Blue) vs. S
	ickkids</h3>Plus d'info : <a href="https://www.golnetwork.com/game/v/86627/
	">#43</a>\n\n</BODY>\n</HTML>
STATUS:CONFIRMED
CLASS:PUBLIC
URL:https://www.golnetwork.com/game/v/86627/
X-MICROSOFT-CDO-BUSYSTATUS:BUSY
X-MICROSOFT-CDO-IMPORTANCE:1
END:VEVENT
BEGIN:VEVENT
UID:g8oao@games.golnetwork.com
LOCATION:Jesse Ketchum Field
CREATED:20160419T143339Z
DTSTART:20160618T181500Z
DTEND:20160618T193000Z
DTSTAMP:20260421T015149Z
SUMMARY:The Messi Files vs. The Orange
DESCRIPTION:The Orange vs. The Messi FilesPlus d'info : #44
X-ALT-DESC;FMTTYPE=text/html:<!DOCTYPE HTML PUBLIC "-//W3C//DTD HTML 3.2//E
	N">\n<HTML>\n<HEAD>\n<TITLE></TITLE>\n</HEAD>\n<BODY>\n<h3>The Orange vs. T
	he Messi Files</h3>Plus d'info : <a href="https://www.golnetwork.com/game/v
	/86628/">#44</a>\n\n</BODY>\n</HTML>
STATUS:CONFIRMED
CLASS:PUBLIC
URL:https://www.golnetwork.com/game/v/86628/
X-MICROSOFT-CDO-BUSYSTATUS:BUSY
X-MICROSOFT-CDO-IMPORTANCE:1
END:VEVENT
BEGIN:VEVENT
UID:g8oaq@games.golnetwork.com
LOCATION:Jesse Ketchum Field
CREATED:20160419T143339Z
DTSTART:20160625T170000Z
DTEND:20160625T181500Z
DTSTAMP:20260421T015149Z
SUMMARY:The Orange vs. MPA (Blue)
DESCRIPTION:MPA (Blue) vs. The OrangePlus d'info : #49
X-ALT-DESC;FMTTYPE=text/html:<!DOCTYPE HTML PUBLIC "-//W3C//DTD HTML 3.2//E
	N">\n<HTML>\n<HEAD>\n<TITLE></TITLE>\n</HEAD>\n<BODY>\n<h3>MPA (Blue) vs. T
	he Orange</h3>Plus d'info : <a href="https://www.golnetwork.com/game/v/8662
	9/">#49</a>\n\n</BODY>\n</HTML>
STATUS:CONFIRMED
CLASS:PUBLIC
URL:https://www.golnetwork.com/game/v/86629/
X-MICROSOFT-CDO-BUSYSTATUS:BUSY
X-MICROSOFT-CDO-IMPORTANCE:1
END:VEVENT
END:VCALENDAR
