BEGIN:VCALENDAR
PRODID:-//gdesolutions.com//MV Framework 1.0.0.1607 Calendar//EN
VERSION:2.0
METHOD:PUBLISH
CALSCALE:GREGORIAN
BEGIN:VEVENT
UID:g8qeq@games.golnetwork.com
LOCATION:CVM - Court #1
GEO:45.5146585;-73.5658635
CREATED:20160430T221306Z
DTSTART:20160920T003000Z
DTEND:20160920T013000Z
DTSTAMP:20260422T061833Z
SUMMARY:MILTON PARC vs. RETRO
DESCRIPTION:RETRO vs. MILTON PARCPlus d'info : #46
X-ALT-DESC;FMTTYPE=text/html:<!DOCTYPE HTML PUBLIC "-//W3C//DTD HTML 3.2//E
	N">\n<HTML>\n<HEAD>\n<TITLE></TITLE>\n</HEAD>\n<BODY>\n<h3>RETRO vs. MILTON
	 PARC</h3>Plus d'info : <a href="https://www.golnetwork.com/game/v/87412/">
	#46</a>\n\n</BODY>\n</HTML>
STATUS:CONFIRMED
CLASS:PUBLIC
URL:https://www.golnetwork.com/game/v/87412/
X-MICROSOFT-CDO-BUSYSTATUS:BUSY
X-MICROSOFT-CDO-IMPORTANCE:1
END:VEVENT
BEGIN:VEVENT
UID:g8qeo@games.golnetwork.com
LOCATION:CVM - Court #1
GEO:45.5146585;-73.5658635
CREATED:20160430T221306Z
DTSTART:20160920T013000Z
DTEND:20160920T023000Z
DTSTAMP:20260422T061833Z
SUMMARY:AK REC ALL STARS vs. X PISTOLS
DESCRIPTION:X PISTOLS vs. AK REC ALL STARSPlus d'info : #47
X-ALT-DESC;FMTTYPE=text/html:<!DOCTYPE HTML PUBLIC "-//W3C//DTD HTML 3.2//E
	N">\n<HTML>\n<HEAD>\n<TITLE></TITLE>\n</HEAD>\n<BODY>\n<h3>X PISTOLS vs. AK
	 REC ALL STARS</h3>Plus d'info : <a href="https://www.golnetwork.com/game/v
	/87411/">#47</a>\n\n</BODY>\n</HTML>
STATUS:CONFIRMED
CLASS:PUBLIC
URL:https://www.golnetwork.com/game/v/87411/
X-MICROSOFT-CDO-BUSYSTATUS:BUSY
X-MICROSOFT-CDO-IMPORTANCE:1
END:VEVENT
BEGIN:VEVENT
UID:g8qf3@games.golnetwork.com
LOCATION:CVM - Court #1
GEO:45.5146585;-73.5658635
CREATED:20160430T221306Z
DTSTART:20160927T000000Z
DTEND:20160927T010000Z
DTSTAMP:20260422T061833Z
SUMMARY:X PISTOLS vs. LAKERS
DESCRIPTION:LAKERS vs. X PISTOLSPlus d'info : #48
X-ALT-DESC;FMTTYPE=text/html:<!DOCTYPE HTML PUBLIC "-//W3C//DTD HTML 3.2//E
	N">\n<HTML>\n<HEAD>\n<TITLE></TITLE>\n</HEAD>\n<BODY>\n<h3>LAKERS vs. X PIS
	TOLS</h3>Plus d'info : <a href="https://www.golnetwork.com/game/v/87414/">#
	48</a>\n\n</BODY>\n</HTML>
STATUS:CONFIRMED
CLASS:PUBLIC
URL:https://www.golnetwork.com/game/v/87414/
X-MICROSOFT-CDO-BUSYSTATUS:BUSY
X-MICROSOFT-CDO-IMPORTANCE:1
END:VEVENT
BEGIN:VEVENT
UID:g8qf1@games.golnetwork.com
LOCATION:CVM - Court #1
GEO:45.5146585;-73.5658635
CREATED:20160430T221306Z
DTSTART:20160927T011500Z
DTEND:20160927T021500Z
DTSTAMP:20260422T061833Z
SUMMARY:RETRO vs. RETRO
DESCRIPTION:RETRO vs. RETROPlus d'info : #49
X-ALT-DESC;FMTTYPE=text/html:<!DOCTYPE HTML PUBLIC "-//W3C//DTD HTML 3.2//E
	N">\n<HTML>\n<HEAD>\n<TITLE></TITLE>\n</HEAD>\n<BODY>\n<h3>RETRO vs. RETRO<
	/h3>Plus d'info : <a href="https://www.golnetwork.com/game/v/87413/">#49</a
	>\n\n</BODY>\n</HTML>
STATUS:CONFIRMED
CLASS:PUBLIC
URL:https://www.golnetwork.com/game/v/87413/
X-MICROSOFT-CDO-BUSYSTATUS:BUSY
X-MICROSOFT-CDO-IMPORTANCE:1
END:VEVENT
BEGIN:VEVENT
UID:g8qf5@games.golnetwork.com
LOCATION:CVM - Court #1
GEO:45.5146585;-73.5658635
CREATED:20160430T221306Z
DTSTART:20160929T013000Z
DTEND:20160929T023000Z
DTSTAMP:20260422T061833Z
SUMMARY:LAKERS vs. RETRO
DESCRIPTION:RETRO vs. LAKERSPlus d'info : #79
X-ALT-DESC;FMTTYPE=text/html:<!DOCTYPE HTML PUBLIC "-//W3C//DTD HTML 3.2//E
	N">\n<HTML>\n<HEAD>\n<TITLE></TITLE>\n</HEAD>\n<BODY>\n<h3>RETRO vs. LAKERS
	</h3>Plus d'info : <a href="https://www.golnetwork.com/game/v/87415/">#79</
	a>\n\n</BODY>\n</HTML>
STATUS:CONFIRMED
CLASS:PUBLIC
URL:https://www.golnetwork.com/game/v/87415/
X-MICROSOFT-CDO-BUSYSTATUS:BUSY
X-MICROSOFT-CDO-IMPORTANCE:1
END:VEVENT
END:VCALENDAR
