BEGIN:VCALENDAR
PRODID:-//gdesolutions.com//MV Framework 1.0.0.1607 Calendar//EN
VERSION:2.0
METHOD:PUBLISH
CALSCALE:GREGORIAN
BEGIN:VEVENT
UID:g957d@games.golnetwork.com
LOCATION:Louis Riel #2
GEO:45.4410208;-75.5715394
CREATED:20160621T055041Z
DTSTART:20160623T223000Z
DTEND:20160624T000000Z
DTSTAMP:20260420T113018Z
SUMMARY:Hammerheads vs. Red Chili Peppers
DESCRIPTION:Red Chili Peppers vs. HammerheadsPlus d'info : #2
X-ALT-DESC;FMTTYPE=text/html:<!DOCTYPE HTML PUBLIC "-//W3C//DTD HTML 3.2//E
	N">\n<HTML>\n<HEAD>\n<TITLE></TITLE>\n</HEAD>\n<BODY>\n<h3>Red Chili Pepper
	s vs. Hammerheads</h3>Plus d'info : <a href="https://www.golnetwork.com/gam
	e/v/89498/">#2</a>\n\n</BODY>\n</HTML>
STATUS:CONFIRMED
CLASS:PUBLIC
URL:https://www.golnetwork.com/game/v/89498/
X-MICROSOFT-CDO-BUSYSTATUS:BUSY
X-MICROSOFT-CDO-IMPORTANCE:1
END:VEVENT
BEGIN:VEVENT
UID:g9582@games.golnetwork.com
LOCATION:McCarthy Park Field #1
GEO:45.3518541;-75.6719009
CREATED:20160621T055042Z
DTSTART:20160623T224500Z
DTEND:20160624T001500Z
DTSTAMP:20260420T113018Z
SUMMARY:Hooligans United vs. Grasshoppers
DESCRIPTION:Grasshoppers vs. Hooligans UnitedPlus d'info : #10
X-ALT-DESC;FMTTYPE=text/html:<!DOCTYPE HTML PUBLIC "-//W3C//DTD HTML 3.2//E
	N">\n<HTML>\n<HEAD>\n<TITLE></TITLE>\n</HEAD>\n<BODY>\n<h3>Grasshoppers vs.
	 Hooligans United</h3>Plus d'info : <a href="https://www.golnetwork.com/gam
	e/v/89506/">#10</a>\n\n</BODY>\n</HTML>
STATUS:CONFIRMED
CLASS:PUBLIC
URL:https://www.golnetwork.com/game/v/89506/
X-MICROSOFT-CDO-BUSYSTATUS:BUSY
X-MICROSOFT-CDO-IMPORTANCE:1
END:VEVENT
BEGIN:VEVENT
UID:g957j@games.golnetwork.com
LOCATION:Louis Riel #2
GEO:45.4410208;-75.5715394
CREATED:20160621T055041Z
DTSTART:20160624T000000Z
DTEND:20160624T013000Z
DTSTAMP:20260420T113018Z
SUMMARY:JFC vs. The Kickers
DESCRIPTION:The Kickers vs. JFCPlus d'info : #5
X-ALT-DESC;FMTTYPE=text/html:<!DOCTYPE HTML PUBLIC "-//W3C//DTD HTML 3.2//E
	N">\n<HTML>\n<HEAD>\n<TITLE></TITLE>\n</HEAD>\n<BODY>\n<h3>The Kickers vs. 
	JFC</h3>Plus d'info : <a href="https://www.golnetwork.com/game/v/89501/">#5
	</a>\n\n</BODY>\n</HTML>
STATUS:CONFIRMED
CLASS:PUBLIC
URL:https://www.golnetwork.com/game/v/89501/
X-MICROSOFT-CDO-BUSYSTATUS:BUSY
X-MICROSOFT-CDO-IMPORTANCE:1
END:VEVENT
BEGIN:VEVENT
UID:g957n@games.golnetwork.com
LOCATION:Louis Riel #1
GEO:45.4410208;-75.5715394
CREATED:20160621T055042Z
DTSTART:20160624T013000Z
DTEND:20160624T030000Z
DTSTAMP:20260420T113018Z
SUMMARY:Individuals 2 vs. Foot Loose FC
DESCRIPTION:Foot Loose FC vs. Individuals 2Plus d'info : #7
X-ALT-DESC;FMTTYPE=text/html:<!DOCTYPE HTML PUBLIC "-//W3C//DTD HTML 3.2//E
	N">\n<HTML>\n<HEAD>\n<TITLE></TITLE>\n</HEAD>\n<BODY>\n<h3>Foot Loose FC vs
	. Individuals 2</h3>Plus d'info : <a href="https://www.golnetwork.com/game/
	v/89503/">#7</a>\n\n</BODY>\n</HTML>
STATUS:CONFIRMED
CLASS:PUBLIC
URL:https://www.golnetwork.com/game/v/89503/
X-MICROSOFT-CDO-BUSYSTATUS:BUSY
X-MICROSOFT-CDO-IMPORTANCE:1
END:VEVENT
BEGIN:VEVENT
UID:g958i@games.golnetwork.com
LOCATION:Louis Riel #2
GEO:45.4410208;-75.5715394
CREATED:20160621T055043Z
DTSTART:20160630T223000Z
DTEND:20160701T000000Z
DTSTAMP:20260420T113018Z
SUMMARY:JFC vs. Red Chili Peppers
DESCRIPTION:Red Chili Peppers vs. JFCPlus d'info : #18
X-ALT-DESC;FMTTYPE=text/html:<!DOCTYPE HTML PUBLIC "-//W3C//DTD HTML 3.2//E
	N">\n<HTML>\n<HEAD>\n<TITLE></TITLE>\n</HEAD>\n<BODY>\n<h3>Red Chili Pepper
	s vs. JFC</h3>Plus d'info : <a href="https://www.golnetwork.com/game/v/8951
	4/">#18</a>\n\n</BODY>\n</HTML>
STATUS:CONFIRMED
CLASS:PUBLIC
URL:https://www.golnetwork.com/game/v/89514/
X-MICROSOFT-CDO-BUSYSTATUS:BUSY
X-MICROSOFT-CDO-IMPORTANCE:1
END:VEVENT
BEGIN:VEVENT
UID:g9599@games.golnetwork.com
LOCATION:McCarthy Park Field #2
GEO:45.3518541;-75.6719009
CREATED:20160621T055043Z
DTSTART:20160630T224500Z
DTEND:20160701T001500Z
DTSTAMP:20260420T113018Z
SUMMARY:Individuals 2 vs. Hammerheads
DESCRIPTION:Hammerheads vs. Individuals 2Plus d'info : #27
X-ALT-DESC;FMTTYPE=text/html:<!DOCTYPE HTML PUBLIC "-//W3C//DTD HTML 3.2//E
	N">\n<HTML>\n<HEAD>\n<TITLE></TITLE>\n</HEAD>\n<BODY>\n<h3>Hammerheads vs. 
	Individuals 2</h3>Plus d'info : <a href="https://www.golnetwork.com/game/v/
	89523/">#27</a>\n\n</BODY>\n</HTML>
STATUS:CONFIRMED
CLASS:PUBLIC
URL:https://www.golnetwork.com/game/v/89523/
X-MICROSOFT-CDO-BUSYSTATUS:BUSY
X-MICROSOFT-CDO-IMPORTANCE:1
END:VEVENT
BEGIN:VEVENT
UID:g959j@games.golnetwork.com
LOCATION:Lester B Pearson Field 2
GEO:45.4429892;-75.5963901
CREATED:20160621T055043Z
DTSTART:20160630T224500Z
DTEND:20160701T001500Z
DTSTAMP:20260420T113018Z
SUMMARY:Foot Loose FC vs. Grasshoppers
DESCRIPTION:Grasshoppers vs. Foot Loose FCPlus d'info : #32
X-ALT-DESC;FMTTYPE=text/html:<!DOCTYPE HTML PUBLIC "-//W3C//DTD HTML 3.2//E
	N">\n<HTML>\n<HEAD>\n<TITLE></TITLE>\n</HEAD>\n<BODY>\n<h3>Grasshoppers vs.
	 Foot Loose FC</h3>Plus d'info : <a href="https://www.golnetwork.com/game/v
	/89528/">#32</a>\n\n</BODY>\n</HTML>
STATUS:CONFIRMED
CLASS:PUBLIC
URL:https://www.golnetwork.com/game/v/89528/
X-MICROSOFT-CDO-BUSYSTATUS:BUSY
X-MICROSOFT-CDO-IMPORTANCE:1
END:VEVENT
BEGIN:VEVENT
UID:g9593@games.golnetwork.com
LOCATION:Louis Riel #2
GEO:45.4410208;-75.5715394
CREATED:20160621T055043Z
DTSTART:20160701T013000Z
DTEND:20160701T030000Z
DTSTAMP:20260420T113018Z
SUMMARY:Hooligans United vs. The Kickers
DESCRIPTION:The Kickers vs. Hooligans UnitedPlus d'info : #24
X-ALT-DESC;FMTTYPE=text/html:<!DOCTYPE HTML PUBLIC "-//W3C//DTD HTML 3.2//E
	N">\n<HTML>\n<HEAD>\n<TITLE></TITLE>\n</HEAD>\n<BODY>\n<h3>The Kickers vs. 
	Hooligans United</h3>Plus d'info : <a href="https://www.golnetwork.com/game
	/v/89520/">#24</a>\n\n</BODY>\n</HTML>
STATUS:CONFIRMED
CLASS:PUBLIC
URL:https://www.golnetwork.com/game/v/89520/
X-MICROSOFT-CDO-BUSYSTATUS:BUSY
X-MICROSOFT-CDO-IMPORTANCE:1
END:VEVENT
BEGIN:VEVENT
UID:g959p@games.golnetwork.com
LOCATION:Louis Riel #2
GEO:45.4410208;-75.5715394
CREATED:20160621T055043Z
DTSTART:20160707T223000Z
DTEND:20160708T000000Z
DTSTAMP:20260420T113018Z
SUMMARY:Foot Loose FC vs. JFC
DESCRIPTION:JFC vs. Foot Loose FCPlus d'info : #35
X-ALT-DESC;FMTTYPE=text/html:<!DOCTYPE HTML PUBLIC "-//W3C//DTD HTML 3.2//E
	N">\n<HTML>\n<HEAD>\n<TITLE></TITLE>\n</HEAD>\n<BODY>\n<h3>JFC vs. Foot Loo
	se FC</h3>Plus d'info : <a href="https://www.golnetwork.com/game/v/89531/">
	#35</a>\n\n</BODY>\n</HTML>
STATUS:CONFIRMED
CLASS:PUBLIC
URL:https://www.golnetwork.com/game/v/89531/
X-MICROSOFT-CDO-BUSYSTATUS:BUSY
X-MICROSOFT-CDO-IMPORTANCE:1
END:VEVENT
BEGIN:VEVENT
UID:g95ae@games.golnetwork.com
LOCATION:McCarthy Park Field #2
GEO:45.3518541;-75.6719009
CREATED:20160621T055044Z
DTSTART:20160707T224500Z
DTEND:20160708T001500Z
DTSTAMP:20260420T113018Z
SUMMARY:Hooligans United vs. Hammerheads
DESCRIPTION:Hammerheads vs. Hooligans UnitedPlus d'info : #43
X-ALT-DESC;FMTTYPE=text/html:<!DOCTYPE HTML PUBLIC "-//W3C//DTD HTML 3.2//E
	N">\n<HTML>\n<HEAD>\n<TITLE></TITLE>\n</HEAD>\n<BODY>\n<h3>Hammerheads vs. 
	Hooligans United</h3>Plus d'info : <a href="https://www.golnetwork.com/game
	/v/89539/">#43</a>\n\n</BODY>\n</HTML>
STATUS:CONFIRMED
CLASS:PUBLIC
URL:https://www.golnetwork.com/game/v/89539/
X-MICROSOFT-CDO-BUSYSTATUS:BUSY
X-MICROSOFT-CDO-IMPORTANCE:1
END:VEVENT
BEGIN:VEVENT
UID:g95a4@games.golnetwork.com
LOCATION:Louis Riel #2
GEO:45.4410208;-75.5715394
CREATED:20160621T055043Z
DTSTART:20160708T000000Z
DTEND:20160708T013000Z
DTSTAMP:20260420T113018Z
SUMMARY:Individuals 2 vs. The Kickers
DESCRIPTION:The Kickers vs. Individuals 2Plus d'info : #38
X-ALT-DESC;FMTTYPE=text/html:<!DOCTYPE HTML PUBLIC "-//W3C//DTD HTML 3.2//E
	N">\n<HTML>\n<HEAD>\n<TITLE></TITLE>\n</HEAD>\n<BODY>\n<h3>The Kickers vs. 
	Individuals 2</h3>Plus d'info : <a href="https://www.golnetwork.com/game/v/
	89534/">#38</a>\n\n</BODY>\n</HTML>
STATUS:CONFIRMED
CLASS:PUBLIC
URL:https://www.golnetwork.com/game/v/89534/
X-MICROSOFT-CDO-BUSYSTATUS:BUSY
X-MICROSOFT-CDO-IMPORTANCE:1
END:VEVENT
BEGIN:VEVENT
UID:g95a8@games.golnetwork.com
LOCATION:Louis Riel #2
GEO:45.4410208;-75.5715394
CREATED:20160621T055043Z
DTSTART:20160708T013000Z
DTEND:20160708T030000Z
DTSTAMP:20260420T113018Z
SUMMARY:Red Chili Peppers vs. Grasshoppers
DESCRIPTION:Grasshoppers vs. Red Chili PeppersPlus d'info : #40
X-ALT-DESC;FMTTYPE=text/html:<!DOCTYPE HTML PUBLIC "-//W3C//DTD HTML 3.2//E
	N">\n<HTML>\n<HEAD>\n<TITLE></TITLE>\n</HEAD>\n<BODY>\n<h3>Grasshoppers vs.
	 Red Chili Peppers</h3>Plus d'info : <a href="https://www.golnetwork.com/ga
	me/v/89536/">#40</a>\n\n</BODY>\n</HTML>
STATUS:CONFIRMED
CLASS:PUBLIC
URL:https://www.golnetwork.com/game/v/89536/
X-MICROSOFT-CDO-BUSYSTATUS:BUSY
X-MICROSOFT-CDO-IMPORTANCE:1
END:VEVENT
BEGIN:VEVENT
UID:g97e2@games.golnetwork.com
LOCATION:Louis Riel #1
GEO:45.4410208;-75.5715394
CREATED:20160708T195453Z
DTSTART:20160714T223000Z
DTEND:20160715T000000Z
DTSTAMP:20260420T113018Z
SUMMARY:Foot Loose FC vs. The Kickers
DESCRIPTION:The Kickers vs. Foot Loose FCPlus d'info : #1
X-ALT-DESC;FMTTYPE=text/html:<!DOCTYPE HTML PUBLIC "-//W3C//DTD HTML 3.2//E
	N">\n<HTML>\n<HEAD>\n<TITLE></TITLE>\n</HEAD>\n<BODY>\n<h3>The Kickers vs. 
	Foot Loose FC</h3>Plus d'info : <a href="https://www.golnetwork.com/game/v/
	90316/">#1</a>\n\n</BODY>\n</HTML>
STATUS:CONFIRMED
CLASS:PUBLIC
URL:https://www.golnetwork.com/game/v/90316/
X-MICROSOFT-CDO-BUSYSTATUS:BUSY
X-MICROSOFT-CDO-IMPORTANCE:1
END:VEVENT
BEGIN:VEVENT
UID:g97ek@games.golnetwork.com
LOCATION:McCarthy Park Field #1
GEO:45.3518541;-75.6719009
CREATED:20160708T195454Z
DTSTART:20160714T224500Z
DTEND:20160715T001500Z
DTSTAMP:20260420T113018Z
SUMMARY:Hooligans United vs. Red Chili Peppers
DESCRIPTION:Red Chili Peppers vs. Hooligans UnitedPlus d'info : #10
X-ALT-DESC;FMTTYPE=text/html:<!DOCTYPE HTML PUBLIC "-//W3C//DTD HTML 3.2//E
	N">\n<HTML>\n<HEAD>\n<TITLE></TITLE>\n</HEAD>\n<BODY>\n<h3>Red Chili Pepper
	s vs. Hooligans United</h3>Plus d'info : <a href="https://www.golnetwork.co
	m/game/v/90325/">#10</a>\n\n</BODY>\n</HTML>
STATUS:CONFIRMED
CLASS:PUBLIC
URL:https://www.golnetwork.com/game/v/90325/
X-MICROSOFT-CDO-BUSYSTATUS:BUSY
X-MICROSOFT-CDO-IMPORTANCE:1
END:VEVENT
BEGIN:VEVENT
UID:g97ea@games.golnetwork.com
LOCATION:Louis Riel #2
GEO:45.4410208;-75.5715394
CREATED:20160708T195454Z
DTSTART:20160715T000000Z
DTEND:20160715T013000Z
DTSTAMP:20260420T113018Z
SUMMARY:JFC vs. Individuals 2
DESCRIPTION:Individuals 2 vs. JFCPlus d'info : #5
X-ALT-DESC;FMTTYPE=text/html:<!DOCTYPE HTML PUBLIC "-//W3C//DTD HTML 3.2//E
	N">\n<HTML>\n<HEAD>\n<TITLE></TITLE>\n</HEAD>\n<BODY>\n<h3>Individuals 2 vs
	. JFC</h3>Plus d'info : <a href="https://www.golnetwork.com/game/v/90320/">
	#5</a>\n\n</BODY>\n</HTML>
STATUS:CONFIRMED
CLASS:PUBLIC
URL:https://www.golnetwork.com/game/v/90320/
X-MICROSOFT-CDO-BUSYSTATUS:BUSY
X-MICROSOFT-CDO-IMPORTANCE:1
END:VEVENT
BEGIN:VEVENT
UID:g97ee@games.golnetwork.com
LOCATION:Louis Riel #1
GEO:45.4410208;-75.5715394
CREATED:20160708T195454Z
DTSTART:20160715T013000Z
DTEND:20160715T030000Z
DTSTAMP:20260420T113018Z
SUMMARY:Grasshoppers vs. Hammerheads
DESCRIPTION:Hammerheads vs. GrasshoppersPlus d'info : #7
X-ALT-DESC;FMTTYPE=text/html:<!DOCTYPE HTML PUBLIC "-//W3C//DTD HTML 3.2//E
	N">\n<HTML>\n<HEAD>\n<TITLE></TITLE>\n</HEAD>\n<BODY>\n<h3>Hammerheads vs. 
	Grasshoppers</h3>Plus d'info : <a href="https://www.golnetwork.com/game/v/9
	0322/">#7</a>\n\n</BODY>\n</HTML>
STATUS:CONFIRMED
CLASS:PUBLIC
URL:https://www.golnetwork.com/game/v/90322/
X-MICROSOFT-CDO-BUSYSTATUS:BUSY
X-MICROSOFT-CDO-IMPORTANCE:1
END:VEVENT
BEGIN:VEVENT
UID:g97f9@games.golnetwork.com
LOCATION:Louis Riel #1
GEO:45.4410208;-75.5715394
CREATED:20160708T195455Z
DTSTART:20160721T223000Z
DTEND:20160722T000000Z
DTSTAMP:20260420T113018Z
SUMMARY:Red Chili Peppers vs. The Kickers
DESCRIPTION:The Kickers vs. Red Chili PeppersPlus d'info : #18
X-ALT-DESC;FMTTYPE=text/html:<!DOCTYPE HTML PUBLIC "-//W3C//DTD HTML 3.2//E
	N">\n<HTML>\n<HEAD>\n<TITLE></TITLE>\n</HEAD>\n<BODY>\n<h3>The Kickers vs. 
	Red Chili Peppers</h3>Plus d'info : <a href="https://www.golnetwork.com/gam
	e/v/90333/">#18</a>\n\n</BODY>\n</HTML>
STATUS:CONFIRMED
CLASS:PUBLIC
URL:https://www.golnetwork.com/game/v/90333/
X-MICROSOFT-CDO-BUSYSTATUS:BUSY
X-MICROSOFT-CDO-IMPORTANCE:1
END:VEVENT
BEGIN:VEVENT
UID:g97fb@games.golnetwork.com
LOCATION:Louis Riel #2
GEO:45.4410208;-75.5715394
CREATED:20160708T195455Z
DTSTART:20160721T223000Z
DTEND:20160722T000000Z
DTSTAMP:20260420T113018Z
SUMMARY:Individuals 2 vs. Grasshoppers
DESCRIPTION:Grasshoppers vs. Individuals 2Plus d'info : #19
X-ALT-DESC;FMTTYPE=text/html:<!DOCTYPE HTML PUBLIC "-//W3C//DTD HTML 3.2//E
	N">\n<HTML>\n<HEAD>\n<TITLE></TITLE>\n</HEAD>\n<BODY>\n<h3>Grasshoppers vs.
	 Individuals 2</h3>Plus d'info : <a href="https://www.golnetwork.com/game/v
	/90334/">#19</a>\n\n</BODY>\n</HTML>
STATUS:CONFIRMED
CLASS:PUBLIC
URL:https://www.golnetwork.com/game/v/90334/
X-MICROSOFT-CDO-BUSYSTATUS:BUSY
X-MICROSOFT-CDO-IMPORTANCE:1
END:VEVENT
BEGIN:VEVENT
UID:g97ff@games.golnetwork.com
LOCATION:Louis Riel #1
GEO:45.4410208;-75.5715394
CREATED:20160708T195455Z
DTSTART:20160722T000000Z
DTEND:20160722T013000Z
DTSTAMP:20260420T113018Z
SUMMARY:Hooligans United vs. JFC
DESCRIPTION:JFC vs. Hooligans UnitedPlus d'info : #21
X-ALT-DESC;FMTTYPE=text/html:<!DOCTYPE HTML PUBLIC "-//W3C//DTD HTML 3.2//E
	N">\n<HTML>\n<HEAD>\n<TITLE></TITLE>\n</HEAD>\n<BODY>\n<h3>JFC vs. Hooligan
	s United</h3>Plus d'info : <a href="https://www.golnetwork.com/game/v/90336
	/">#21</a>\n\n</BODY>\n</HTML>
STATUS:CONFIRMED
CLASS:PUBLIC
URL:https://www.golnetwork.com/game/v/90336/
X-MICROSOFT-CDO-BUSYSTATUS:BUSY
X-MICROSOFT-CDO-IMPORTANCE:1
END:VEVENT
BEGIN:VEVENT
UID:g97fl@games.golnetwork.com
LOCATION:Louis Riel #1
GEO:45.4410208;-75.5715394
CREATED:20160708T195455Z
DTSTART:20160722T013000Z
DTEND:20160722T030000Z
DTSTAMP:20260420T113018Z
SUMMARY:Missile-toe vs. Hammerheads
DESCRIPTION:Hammerheads vs. Missile-toePlus d'info : #24
X-ALT-DESC;FMTTYPE=text/html:<!DOCTYPE HTML PUBLIC "-//W3C//DTD HTML 3.2//E
	N">\n<HTML>\n<HEAD>\n<TITLE></TITLE>\n</HEAD>\n<BODY>\n<h3>Hammerheads vs. 
	Missile-toe</h3>Plus d'info : <a href="https://www.golnetwork.com/game/v/90
	339/">#24</a>\n\n</BODY>\n</HTML>
STATUS:CONFIRMED
CLASS:PUBLIC
URL:https://www.golnetwork.com/game/v/90339/
X-MICROSOFT-CDO-BUSYSTATUS:BUSY
X-MICROSOFT-CDO-IMPORTANCE:1
END:VEVENT
END:VCALENDAR
