BEGIN:VCALENDAR
PRODID:-//gdesolutions.com//MV Framework 1.0.0.1607 Calendar//EN
VERSION:2.0
METHOD:PUBLISH
CALSCALE:GREGORIAN
BEGIN:VEVENT
UID:g990a@games.golnetwork.com
LOCATION:Louis Riel #1
GEO:45.4410208;-75.5715394
CREATED:20160726T075123Z
DTSTART:20160804T223000Z
DTEND:20160805T000000Z
DTSTAMP:20260421T122731Z
SUMMARY:Team Doug vs. Fm FC
DESCRIPTION:Fm FC vs. Team DougPlus d'info : #153
X-ALT-DESC;FMTTYPE=text/html:<!DOCTYPE HTML PUBLIC "-//W3C//DTD HTML 3.2//E
	N">\n<HTML>\n<HEAD>\n<TITLE></TITLE>\n</HEAD>\n<BODY>\n<h3>Fm FC vs. Team D
	oug</h3>Plus d'info : <a href="https://www.golnetwork.com/game/v/90860/">#1
	53</a>\n\n</BODY>\n</HTML>
STATUS:CONFIRMED
CLASS:PUBLIC
URL:https://www.golnetwork.com/game/v/90860/
X-MICROSOFT-CDO-BUSYSTATUS:BUSY
X-MICROSOFT-CDO-IMPORTANCE:1
END:VEVENT
BEGIN:VEVENT
UID:g990c@games.golnetwork.com
LOCATION:McCarthy Park Field #1
GEO:45.3518541;-75.6719009
CREATED:20160726T075148Z
DTSTART:20160804T224500Z
DTEND:20160805T001500Z
DTSTAMP:20260421T122731Z
SUMMARY:Arsenanal FC vs. The Miseducation
DESCRIPTION:The Miseducation vs. Arsenanal FCPlus d'info : #154
X-ALT-DESC;FMTTYPE=text/html:<!DOCTYPE HTML PUBLIC "-//W3C//DTD HTML 3.2//E
	N">\n<HTML>\n<HEAD>\n<TITLE></TITLE>\n</HEAD>\n<BODY>\n<h3>The Miseducation
	 vs. Arsenanal FC</h3>Plus d'info : <a href="https://www.golnetwork.com/gam
	e/v/90861/">#154</a>\n\n</BODY>\n</HTML>
STATUS:CONFIRMED
CLASS:PUBLIC
URL:https://www.golnetwork.com/game/v/90861/
X-MICROSOFT-CDO-BUSYSTATUS:BUSY
X-MICROSOFT-CDO-IMPORTANCE:1
END:VEVENT
BEGIN:VEVENT
UID:g990e@games.golnetwork.com
LOCATION:McCarthy Park Field #5
GEO:45.3517739;-75.6718247
CREATED:20160726T075214Z
DTSTART:20160804T224500Z
DTEND:20160805T001500Z
DTSTAMP:20260421T122731Z
SUMMARY:Missile-toe vs. One Kick Wonders FC
DESCRIPTION:One Kick Wonders FC vs. Missile-toePlus d'info : #157
X-ALT-DESC;FMTTYPE=text/html:<!DOCTYPE HTML PUBLIC "-//W3C//DTD HTML 3.2//E
	N">\n<HTML>\n<HEAD>\n<TITLE></TITLE>\n</HEAD>\n<BODY>\n<h3>One Kick Wonders
	 FC vs. Missile-toe</h3>Plus d'info : <a href="https://www.golnetwork.com/g
	ame/v/90862/">#157</a>\n\n</BODY>\n</HTML>
STATUS:CONFIRMED
CLASS:PUBLIC
URL:https://www.golnetwork.com/game/v/90862/
X-MICROSOFT-CDO-BUSYSTATUS:BUSY
X-MICROSOFT-CDO-IMPORTANCE:1
END:VEVENT
BEGIN:VEVENT
UID:g990g@games.golnetwork.com
LOCATION:Lester B. Pearson Field 1
GEO:45.4429892;-75.5963901
CREATED:20160726T075241Z
DTSTART:20160804T224500Z
DTEND:20160805T001500Z
DTSTAMP:20260421T122731Z
SUMMARY:Mercury Man Dem vs. Crowding Your Box
DESCRIPTION:Crowding Your Box vs. Mercury Man DemPlus d'info : #158
X-ALT-DESC;FMTTYPE=text/html:<!DOCTYPE HTML PUBLIC "-//W3C//DTD HTML 3.2//E
	N">\n<HTML>\n<HEAD>\n<TITLE></TITLE>\n</HEAD>\n<BODY>\n<h3>Crowding Your Bo
	x vs. Mercury Man Dem</h3>Plus d'info : <a href="https://www.golnetwork.com
	/game/v/90863/">#158</a>\n\n</BODY>\n</HTML>
STATUS:CONFIRMED
CLASS:PUBLIC
URL:https://www.golnetwork.com/game/v/90863/
X-MICROSOFT-CDO-BUSYSTATUS:BUSY
X-MICROSOFT-CDO-IMPORTANCE:1
END:VEVENT
BEGIN:VEVENT
UID:g991h@games.golnetwork.com
LOCATION:Louis Riel #2
GEO:45.4410208;-75.5715394
CREATED:20160727T054416Z
DTSTART:20160805T010000Z
DTEND:20160805T023000Z
DTSTAMP:20260421T122731Z
SUMMARY:Individuals 1 vs. Cornerstone FC
DESCRIPTION:Cornerstone FC vs. Individuals 1Plus d'info : #164
X-ALT-DESC;FMTTYPE=text/html:<!DOCTYPE HTML PUBLIC "-//W3C//DTD HTML 3.2//E
	N">\n<HTML>\n<HEAD>\n<TITLE></TITLE>\n</HEAD>\n<BODY>\n<h3>Cornerstone FC v
	s. Individuals 1</h3>Plus d'info : <a href="https://www.golnetwork.com/game
	/v/90877/">#164</a>\n\n</BODY>\n</HTML>
STATUS:CONFIRMED
CLASS:PUBLIC
URL:https://www.golnetwork.com/game/v/90877/
X-MICROSOFT-CDO-BUSYSTATUS:BUSY
X-MICROSOFT-CDO-IMPORTANCE:1
END:VEVENT
BEGIN:VEVENT
UID:g9a5i@games.golnetwork.com
LOCATION:McCarthy Park Field #5
GEO:45.3517739;-75.6718247
CREATED:20160808T174119Z
DTSTART:20160811T224500Z
DTEND:20160812T001500Z
DTSTAMP:20260421T122731Z
SUMMARY:The Miseducation vs. SupportMyMac Attack
DESCRIPTION:SupportMyMac Attack vs. The MiseducationPlus d'info : #173
X-ALT-DESC;FMTTYPE=text/html:<!DOCTYPE HTML PUBLIC "-//W3C//DTD HTML 3.2//E
	N">\n<HTML>\n<HEAD>\n<TITLE></TITLE>\n</HEAD>\n<BODY>\n<h3>SupportMyMac Att
	ack vs. The Miseducation</h3>Plus d'info : <a href="https://www.golnetwork.
	com/game/v/91296/">#173</a>\n\n</BODY>\n</HTML>
STATUS:CONFIRMED
CLASS:PUBLIC
URL:https://www.golnetwork.com/game/v/91296/
X-MICROSOFT-CDO-BUSYSTATUS:BUSY
X-MICROSOFT-CDO-IMPORTANCE:1
END:VEVENT
BEGIN:VEVENT
UID:g9a5e@games.golnetwork.com
LOCATION:Louis Riel #1
GEO:45.4410208;-75.5715394
CREATED:20160808T174030Z
DTSTART:20160812T000000Z
DTEND:20160812T013000Z
DTSTAMP:20260421T122731Z
SUMMARY:Cornerstone FC vs. Fm FC
DESCRIPTION:Fm FC vs. Cornerstone FCPlus d'info : #177
X-ALT-DESC;FMTTYPE=text/html:<!DOCTYPE HTML PUBLIC "-//W3C//DTD HTML 3.2//E
	N">\n<HTML>\n<HEAD>\n<TITLE></TITLE>\n</HEAD>\n<BODY>\n<h3>Fm FC vs. Corner
	stone FC</h3>Plus d'info : <a href="https://www.golnetwork.com/game/v/91294
	/">#177</a>\n\n</BODY>\n</HTML>
STATUS:CONFIRMED
CLASS:PUBLIC
URL:https://www.golnetwork.com/game/v/91294/
X-MICROSOFT-CDO-BUSYSTATUS:BUSY
X-MICROSOFT-CDO-IMPORTANCE:1
END:VEVENT
BEGIN:VEVENT
UID:g9a5g@games.golnetwork.com
LOCATION:Louis Riel #2
GEO:45.4410208;-75.5715394
CREATED:20160808T174054Z
DTSTART:20160812T000000Z
DTEND:20160812T013000Z
DTSTAMP:20260421T122731Z
SUMMARY:Crowding Your Box vs. One Kick Wonders FC
DESCRIPTION:One Kick Wonders FC vs. Crowding Your BoxPlus d'info : #178
X-ALT-DESC;FMTTYPE=text/html:<!DOCTYPE HTML PUBLIC "-//W3C//DTD HTML 3.2//E
	N">\n<HTML>\n<HEAD>\n<TITLE></TITLE>\n</HEAD>\n<BODY>\n<h3>One Kick Wonders
	 FC vs. Crowding Your Box</h3>Plus d'info : <a href="https://www.golnetwork
	.com/game/v/91295/">#178</a>\n\n</BODY>\n</HTML>
STATUS:CONFIRMED
CLASS:PUBLIC
URL:https://www.golnetwork.com/game/v/91295/
X-MICROSOFT-CDO-BUSYSTATUS:BUSY
X-MICROSOFT-CDO-IMPORTANCE:1
END:VEVENT
BEGIN:VEVENT
UID:g9ah8@games.golnetwork.com
LOCATION:McCarthy Park Field #5
GEO:45.3517739;-75.6718247
CREATED:20160815T195326Z
DTSTART:20160818T223000Z
DTEND:20160819T000000Z
DTSTAMP:20260421T122731Z
SUMMARY:Fm FC vs. SupportMyMac Attack
DESCRIPTION:SupportMyMac Attack vs. Fm FCPlus d'info : #190
X-ALT-DESC;FMTTYPE=text/html:<!DOCTYPE HTML PUBLIC "-//W3C//DTD HTML 3.2//E
	N">\n<HTML>\n<HEAD>\n<TITLE></TITLE>\n</HEAD>\n<BODY>\n<h3>SupportMyMac Att
	ack vs. Fm FC</h3>Plus d'info : <a href="https://www.golnetwork.com/game/v/
	91453/">#190</a>\n\n</BODY>\n</HTML>
STATUS:CONFIRMED
CLASS:PUBLIC
URL:https://www.golnetwork.com/game/v/91453/
X-MICROSOFT-CDO-BUSYSTATUS:BUSY
X-MICROSOFT-CDO-IMPORTANCE:1
END:VEVENT
BEGIN:VEVENT
UID:g9ah6@games.golnetwork.com
LOCATION:Louis Riel #2
GEO:45.4410208;-75.5715394
CREATED:20160815T195251Z
DTSTART:20160819T000000Z
DTEND:20160819T013000Z
DTSTAMP:20260421T122731Z
SUMMARY:The Miseducation vs. Cornerstone FC
DESCRIPTION:Cornerstone FC vs. The MiseducationPlus d'info : #194
X-ALT-DESC;FMTTYPE=text/html:<!DOCTYPE HTML PUBLIC "-//W3C//DTD HTML 3.2//E
	N">\n<HTML>\n<HEAD>\n<TITLE></TITLE>\n</HEAD>\n<BODY>\n<h3>Cornerstone FC v
	s. The Miseducation</h3>Plus d'info : <a href="https://www.golnetwork.com/g
	ame/v/91452/">#194</a>\n\n</BODY>\n</HTML>
STATUS:CONFIRMED
CLASS:PUBLIC
URL:https://www.golnetwork.com/game/v/91452/
X-MICROSOFT-CDO-BUSYSTATUS:BUSY
X-MICROSOFT-CDO-IMPORTANCE:1
END:VEVENT
BEGIN:VEVENT
UID:g9b3f@games.golnetwork.com
LOCATION:Lester B Pearson Field #3
GEO:45.4433016;-75.5957775
CREATED:20160823T211912Z
DTSTART:20160825T223000Z
DTEND:20160826T000000Z
DTSTAMP:20260421T122731Z
SUMMARY:Crowding Your Box vs. Cornerstone FC
DESCRIPTION:Cornerstone FC vs. Crowding Your BoxPlus d'info : #201
X-ALT-DESC;FMTTYPE=text/html:<!DOCTYPE HTML PUBLIC "-//W3C//DTD HTML 3.2//E
	N">\n<HTML>\n<HEAD>\n<TITLE></TITLE>\n</HEAD>\n<BODY>\n<h3>Cornerstone FC v
	s. Crowding Your Box</h3>Plus d'info : <a href="https://www.golnetwork.com/
	game/v/91632/">#201</a>\n\n</BODY>\n</HTML>
STATUS:CONFIRMED
CLASS:PUBLIC
URL:https://www.golnetwork.com/game/v/91632/
X-MICROSOFT-CDO-BUSYSTATUS:BUSY
X-MICROSOFT-CDO-IMPORTANCE:1
END:VEVENT
END:VCALENDAR
