BEGIN:VCALENDAR
PRODID:-//gdesolutions.com//MV Framework 1.0.0.1607 Calendar//EN
VERSION:2.0
METHOD:PUBLISH
CALSCALE:GREGORIAN
BEGIN:VEVENT
UID:g95b1@games.golnetwork.com
LOCATION:North Toronto - Field 2
GEO:43.7098022;-79.3963055
CREATED:20160621T190755Z
DTSTART:20160627T221500Z
DTEND:20160627T231000Z
DTSTAMP:20260420T231107Z
SUMMARY:Spoons and Goons FC vs. I am Batman FC
DESCRIPTION:I am Batman FC vs. Spoons and Goons FCPlus d'info : #2
X-ALT-DESC;FMTTYPE=text/html:<!DOCTYPE HTML PUBLIC "-//W3C//DTD HTML 3.2//E
	N">\n<HTML>\n<HEAD>\n<TITLE></TITLE>\n</HEAD>\n<BODY>\n<h3>I am Batman FC v
	s. Spoons and Goons FC</h3>Plus d'info : <a href="https://www.golnetwork.co
	m/game/v/89546/">#2</a>\n\n</BODY>\n</HTML>
STATUS:CONFIRMED
CLASS:PUBLIC
URL:https://www.golnetwork.com/game/v/89546/
X-MICROSOFT-CDO-BUSYSTATUS:BUSY
X-MICROSOFT-CDO-IMPORTANCE:1
END:VEVENT
BEGIN:VEVENT
UID:g95b3@games.golnetwork.com
LOCATION:North Toronto - Field 2
GEO:43.7098022;-79.3963055
CREATED:20160621T190808Z
DTSTART:20160627T231000Z
DTEND:20160628T000500Z
DTSTAMP:20260420T231107Z
SUMMARY:Ledbury Park vs. Bahama Mama
DESCRIPTION:Bahama Mama vs. Ledbury ParkPlus d'info : #4
X-ALT-DESC;FMTTYPE=text/html:<!DOCTYPE HTML PUBLIC "-//W3C//DTD HTML 3.2//E
	N">\n<HTML>\n<HEAD>\n<TITLE></TITLE>\n</HEAD>\n<BODY>\n<h3>Bahama Mama vs. 
	Ledbury Park</h3>Plus d'info : <a href="https://www.golnetwork.com/game/v/8
	9547/">#4</a>\n\n</BODY>\n</HTML>
STATUS:CONFIRMED
CLASS:PUBLIC
URL:https://www.golnetwork.com/game/v/89547/
X-MICROSOFT-CDO-BUSYSTATUS:BUSY
X-MICROSOFT-CDO-IMPORTANCE:1
END:VEVENT
BEGIN:VEVENT
UID:g93o0@games.golnetwork.com
LOCATION:North Toronto - Field 1
GEO:43.7098022;-79.3963055
CREATED:20160526T202437Z
DTSTART:20160628T000500Z
DTEND:20160628T010500Z
DTSTAMP:20260420T231107Z
SUMMARY:Entuitive FC vs. OTOD
DESCRIPTION:OTOD vs. Entuitive FCPlus d'info : #5
X-ALT-DESC;FMTTYPE=text/html:<!DOCTYPE HTML PUBLIC "-//W3C//DTD HTML 3.2//E
	N">\n<HTML>\n<HEAD>\n<TITLE></TITLE>\n</HEAD>\n<BODY>\n<h3>OTOD vs. Entuiti
	ve FC</h3>Plus d'info : <a href="https://www.golnetwork.com/game/v/88992/">
	#5</a>\n\n</BODY>\n</HTML>
STATUS:CONFIRMED
CLASS:PUBLIC
URL:https://www.golnetwork.com/game/v/88992/
X-MICROSOFT-CDO-BUSYSTATUS:BUSY
X-MICROSOFT-CDO-IMPORTANCE:1
END:VEVENT
BEGIN:VEVENT
UID:g95b5@games.golnetwork.com
LOCATION:North Toronto - Field 2
GEO:43.7098022;-79.3963055
CREATED:20160621T190831Z
DTSTART:20160628T000500Z
DTEND:20160628T010000Z
DTSTAMP:20260420T231107Z
SUMMARY:Eckler FC vs. Team RSA
DESCRIPTION:Team RSA vs. Eckler FCPlus d'info : #6
X-ALT-DESC;FMTTYPE=text/html:<!DOCTYPE HTML PUBLIC "-//W3C//DTD HTML 3.2//E
	N">\n<HTML>\n<HEAD>\n<TITLE></TITLE>\n</HEAD>\n<BODY>\n<h3>Team RSA vs. Eck
	ler FC</h3>Plus d'info : <a href="https://www.golnetwork.com/game/v/89548/"
	>#6</a>\n\n</BODY>\n</HTML>
STATUS:CONFIRMED
CLASS:PUBLIC
URL:https://www.golnetwork.com/game/v/89548/
X-MICROSOFT-CDO-BUSYSTATUS:BUSY
X-MICROSOFT-CDO-IMPORTANCE:1
END:VEVENT
BEGIN:VEVENT
UID:g93o6@games.golnetwork.com
LOCATION:North Toronto - Field 1
GEO:43.7098022;-79.3963055
CREATED:20160526T202437Z
DTSTART:20160704T221500Z
DTEND:20160704T231500Z
DTSTAMP:20260420T231107Z
SUMMARY:OTOD vs. Bahama Mama
DESCRIPTION:Bahama Mama vs. OTODPlus d'info : #7
X-ALT-DESC;FMTTYPE=text/html:<!DOCTYPE HTML PUBLIC "-//W3C//DTD HTML 3.2//E
	N">\n<HTML>\n<HEAD>\n<TITLE></TITLE>\n</HEAD>\n<BODY>\n<h3>Bahama Mama vs. 
	OTOD</h3>Plus d'info : <a href="https://www.golnetwork.com/game/v/88995/">#
	7</a>\n\n</BODY>\n</HTML>
STATUS:CONFIRMED
CLASS:PUBLIC
URL:https://www.golnetwork.com/game/v/88995/
X-MICROSOFT-CDO-BUSYSTATUS:BUSY
X-MICROSOFT-CDO-IMPORTANCE:1
END:VEVENT
BEGIN:VEVENT
UID:g95b7@games.golnetwork.com
LOCATION:North Toronto - Field 2
GEO:43.7098022;-79.3963055
CREATED:20160621T190856Z
DTSTART:20160704T221500Z
DTEND:20160704T231000Z
DTSTAMP:20260420T231107Z
SUMMARY:Team RSA vs. Entuitive FC
DESCRIPTION:Entuitive FC vs. Team RSAPlus d'info : #8
X-ALT-DESC;FMTTYPE=text/html:<!DOCTYPE HTML PUBLIC "-//W3C//DTD HTML 3.2//E
	N">\n<HTML>\n<HEAD>\n<TITLE></TITLE>\n</HEAD>\n<BODY>\n<h3>Entuitive FC vs.
	 Team RSA</h3>Plus d'info : <a href="https://www.golnetwork.com/game/v/8954
	9/">#8</a>\n\n</BODY>\n</HTML>
STATUS:CONFIRMED
CLASS:PUBLIC
URL:https://www.golnetwork.com/game/v/89549/
X-MICROSOFT-CDO-BUSYSTATUS:BUSY
X-MICROSOFT-CDO-IMPORTANCE:1
END:VEVENT
BEGIN:VEVENT
UID:g93o4@games.golnetwork.com
LOCATION:North Toronto - Field 1
GEO:43.7098022;-79.3963055
CREATED:20160526T202437Z
DTSTART:20160704T231000Z
DTEND:20160705T001000Z
DTSTAMP:20260420T231107Z
SUMMARY:I am Batman FC vs. Eckler FC
DESCRIPTION:Eckler FC vs. I am Batman FCPlus d'info : #9
X-ALT-DESC;FMTTYPE=text/html:<!DOCTYPE HTML PUBLIC "-//W3C//DTD HTML 3.2//E
	N">\n<HTML>\n<HEAD>\n<TITLE></TITLE>\n</HEAD>\n<BODY>\n<h3>Eckler FC vs. I 
	am Batman FC</h3>Plus d'info : <a href="https://www.golnetwork.com/game/v/8
	8994/">#9</a>\n\n</BODY>\n</HTML>
STATUS:CONFIRMED
CLASS:PUBLIC
URL:https://www.golnetwork.com/game/v/88994/
X-MICROSOFT-CDO-BUSYSTATUS:BUSY
X-MICROSOFT-CDO-IMPORTANCE:1
END:VEVENT
BEGIN:VEVENT
UID:g95b9@games.golnetwork.com
LOCATION:North Toronto - Field 2
GEO:43.7098022;-79.3963055
CREATED:20160621T190914Z
DTSTART:20160704T231000Z
DTEND:20160705T000500Z
DTSTAMP:20260420T231107Z
SUMMARY:Spoons and Goons FC vs. Ledbury Park
DESCRIPTION:Ledbury Park vs. Spoons and Goons FCPlus d'info : #10
X-ALT-DESC;FMTTYPE=text/html:<!DOCTYPE HTML PUBLIC "-//W3C//DTD HTML 3.2//E
	N">\n<HTML>\n<HEAD>\n<TITLE></TITLE>\n</HEAD>\n<BODY>\n<h3>Ledbury Park vs.
	 Spoons and Goons FC</h3>Plus d'info : <a href="https://www.golnetwork.com/
	game/v/89550/">#10</a>\n\n</BODY>\n</HTML>
STATUS:CONFIRMED
CLASS:PUBLIC
URL:https://www.golnetwork.com/game/v/89550/
X-MICROSOFT-CDO-BUSYSTATUS:BUSY
X-MICROSOFT-CDO-IMPORTANCE:1
END:VEVENT
BEGIN:VEVENT
UID:g93oa@games.golnetwork.com
LOCATION:North Toronto - Field 1
GEO:43.7098022;-79.3963055
CREATED:20160526T202437Z
DTSTART:20160711T231000Z
DTEND:20160712T001000Z
DTSTAMP:20260420T231107Z
SUMMARY:OTOD vs. Spoons and Goons FC
DESCRIPTION:Spoons and Goons FC vs. OTODPlus d'info : #15
X-ALT-DESC;FMTTYPE=text/html:<!DOCTYPE HTML PUBLIC "-//W3C//DTD HTML 3.2//E
	N">\n<HTML>\n<HEAD>\n<TITLE></TITLE>\n</HEAD>\n<BODY>\n<h3>Spoons and Goons
	 FC vs. OTOD</h3>Plus d'info : <a href="https://www.golnetwork.com/game/v/8
	8997/">#15</a>\n\n</BODY>\n</HTML>
STATUS:CONFIRMED
CLASS:PUBLIC
URL:https://www.golnetwork.com/game/v/88997/
X-MICROSOFT-CDO-BUSYSTATUS:BUSY
X-MICROSOFT-CDO-IMPORTANCE:1
END:VEVENT
BEGIN:VEVENT
UID:g95bf@games.golnetwork.com
LOCATION:North Toronto - Field 2
GEO:43.7098022;-79.3963055
CREATED:20160621T191031Z
DTSTART:20160711T231000Z
DTEND:20160712T000500Z
DTSTAMP:20260420T231107Z
SUMMARY:Entuitive FC vs. Bahama Mama
DESCRIPTION:Bahama Mama vs. Entuitive FCPlus d'info : #16
X-ALT-DESC;FMTTYPE=text/html:<!DOCTYPE HTML PUBLIC "-//W3C//DTD HTML 3.2//E
	N">\n<HTML>\n<HEAD>\n<TITLE></TITLE>\n</HEAD>\n<BODY>\n<h3>Bahama Mama vs. 
	Entuitive FC</h3>Plus d'info : <a href="https://www.golnetwork.com/game/v/8
	9553/">#16</a>\n\n</BODY>\n</HTML>
STATUS:CONFIRMED
CLASS:PUBLIC
URL:https://www.golnetwork.com/game/v/89553/
X-MICROSOFT-CDO-BUSYSTATUS:BUSY
X-MICROSOFT-CDO-IMPORTANCE:1
END:VEVENT
BEGIN:VEVENT
UID:g93oc@games.golnetwork.com
LOCATION:North Toronto - Field 1
GEO:43.7098022;-79.3963055
CREATED:20160526T202437Z
DTSTART:20160712T000500Z
DTEND:20160712T010500Z
DTSTAMP:20260420T231107Z
SUMMARY:I am Batman FC vs. Team RSA
DESCRIPTION:Team RSA vs. I am Batman FCPlus d'info : #17
X-ALT-DESC;FMTTYPE=text/html:<!DOCTYPE HTML PUBLIC "-//W3C//DTD HTML 3.2//E
	N">\n<HTML>\n<HEAD>\n<TITLE></TITLE>\n</HEAD>\n<BODY>\n<h3>Team RSA vs. I a
	m Batman FC</h3>Plus d'info : <a href="https://www.golnetwork.com/game/v/88
	998/">#17</a>\n\n</BODY>\n</HTML>
STATUS:CONFIRMED
CLASS:PUBLIC
URL:https://www.golnetwork.com/game/v/88998/
X-MICROSOFT-CDO-BUSYSTATUS:BUSY
X-MICROSOFT-CDO-IMPORTANCE:1
END:VEVENT
BEGIN:VEVENT
UID:g95bh@games.golnetwork.com
LOCATION:North Toronto - Field 2
GEO:43.7098022;-79.3963055
CREATED:20160621T191051Z
DTSTART:20160712T000500Z
DTEND:20160712T010000Z
DTSTAMP:20260420T231107Z
SUMMARY:Ledbury Park vs. Eckler FC
DESCRIPTION:Eckler FC vs. Ledbury ParkPlus d'info : #18
X-ALT-DESC;FMTTYPE=text/html:<!DOCTYPE HTML PUBLIC "-//W3C//DTD HTML 3.2//E
	N">\n<HTML>\n<HEAD>\n<TITLE></TITLE>\n</HEAD>\n<BODY>\n<h3>Eckler FC vs. Le
	dbury Park</h3>Plus d'info : <a href="https://www.golnetwork.com/game/v/895
	54/">#18</a>\n\n</BODY>\n</HTML>
STATUS:CONFIRMED
CLASS:PUBLIC
URL:https://www.golnetwork.com/game/v/89554/
X-MICROSOFT-CDO-BUSYSTATUS:BUSY
X-MICROSOFT-CDO-IMPORTANCE:1
END:VEVENT
BEGIN:VEVENT
UID:g93oe@games.golnetwork.com
LOCATION:North Toronto - Field 1
GEO:43.7098022;-79.3963055
CREATED:20160526T202437Z
DTSTART:20160718T221500Z
DTEND:20160718T231500Z
DTSTAMP:20260420T231107Z
SUMMARY:Eckler FC vs. OTOD
DESCRIPTION:OTOD vs. Eckler FCPlus d'info : #28
X-ALT-DESC;FMTTYPE=text/html:<!DOCTYPE HTML PUBLIC "-//W3C//DTD HTML 3.2//E
	N">\n<HTML>\n<HEAD>\n<TITLE></TITLE>\n</HEAD>\n<BODY>\n<h3>OTOD vs. Eckler 
	FC</h3>Plus d'info : <a href="https://www.golnetwork.com/game/v/88999/">#28
	</a>\n\n</BODY>\n</HTML>
STATUS:CONFIRMED
CLASS:PUBLIC
URL:https://www.golnetwork.com/game/v/88999/
X-MICROSOFT-CDO-BUSYSTATUS:BUSY
X-MICROSOFT-CDO-IMPORTANCE:1
END:VEVENT
BEGIN:VEVENT
UID:g95bj@games.golnetwork.com
LOCATION:North Toronto - Field 2
GEO:43.7098022;-79.3963055
CREATED:20160621T191108Z
DTSTART:20160718T221500Z
DTEND:20160718T231000Z
DTSTAMP:20260420T231107Z
SUMMARY:Ledbury Park vs. I am Batman FC
DESCRIPTION:I am Batman FC vs. Ledbury ParkPlus d'info : #29
X-ALT-DESC;FMTTYPE=text/html:<!DOCTYPE HTML PUBLIC "-//W3C//DTD HTML 3.2//E
	N">\n<HTML>\n<HEAD>\n<TITLE></TITLE>\n</HEAD>\n<BODY>\n<h3>I am Batman FC v
	s. Ledbury Park</h3>Plus d'info : <a href="https://www.golnetwork.com/game/
	v/89555/">#29</a>\n\n</BODY>\n</HTML>
STATUS:CONFIRMED
CLASS:PUBLIC
URL:https://www.golnetwork.com/game/v/89555/
X-MICROSOFT-CDO-BUSYSTATUS:BUSY
X-MICROSOFT-CDO-IMPORTANCE:1
END:VEVENT
BEGIN:VEVENT
UID:g95bl@games.golnetwork.com
LOCATION:North Toronto - Field 1
GEO:43.7098022;-79.3963055
CREATED:20160621T191131Z
DTSTART:20160719T000500Z
DTEND:20160719T010000Z
DTSTAMP:20260420T231107Z
SUMMARY:Team RSA vs. Bahama Mama
DESCRIPTION:Bahama Mama vs. Team RSAPlus d'info : #32
X-ALT-DESC;FMTTYPE=text/html:<!DOCTYPE HTML PUBLIC "-//W3C//DTD HTML 3.2//E
	N">\n<HTML>\n<HEAD>\n<TITLE></TITLE>\n</HEAD>\n<BODY>\n<h3>Bahama Mama vs. 
	Team RSA</h3>Plus d'info : <a href="https://www.golnetwork.com/game/v/89556
	/">#32</a>\n\n</BODY>\n</HTML>
STATUS:CONFIRMED
CLASS:PUBLIC
URL:https://www.golnetwork.com/game/v/89556/
X-MICROSOFT-CDO-BUSYSTATUS:BUSY
X-MICROSOFT-CDO-IMPORTANCE:1
END:VEVENT
BEGIN:VEVENT
UID:g95bn@games.golnetwork.com
LOCATION:North Toronto - Field 2
GEO:43.7098022;-79.3963055
CREATED:20160621T191146Z
DTSTART:20160719T000500Z
DTEND:20160719T010000Z
DTSTAMP:20260420T231107Z
SUMMARY:Spoons and Goons FC vs. Entuitive FC
DESCRIPTION:Entuitive FC vs. Spoons and Goons FCPlus d'info : #33
X-ALT-DESC;FMTTYPE=text/html:<!DOCTYPE HTML PUBLIC "-//W3C//DTD HTML 3.2//E
	N">\n<HTML>\n<HEAD>\n<TITLE></TITLE>\n</HEAD>\n<BODY>\n<h3>Entuitive FC vs.
	 Spoons and Goons FC</h3>Plus d'info : <a href="https://www.golnetwork.com/
	game/v/89557/">#33</a>\n\n</BODY>\n</HTML>
STATUS:CONFIRMED
CLASS:PUBLIC
URL:https://www.golnetwork.com/game/v/89557/
X-MICROSOFT-CDO-BUSYSTATUS:BUSY
X-MICROSOFT-CDO-IMPORTANCE:1
END:VEVENT
BEGIN:VEVENT
UID:g93om@games.golnetwork.com
LOCATION:North Toronto - Field 1
GEO:43.7098022;-79.3963055
CREATED:20160526T202437Z
DTSTART:20160725T221500Z
DTEND:20160725T231500Z
DTSTAMP:20260420T231107Z
SUMMARY:Ledbury Park vs. Entuitive FC
DESCRIPTION:Entuitive FC vs. Ledbury ParkPlus d'info : #51
X-ALT-DESC;FMTTYPE=text/html:<!DOCTYPE HTML PUBLIC "-//W3C//DTD HTML 3.2//E
	N">\n<HTML>\n<HEAD>\n<TITLE></TITLE>\n</HEAD>\n<BODY>\n<h3>Entuitive FC vs.
	 Ledbury Park</h3>Plus d'info : <a href="https://www.golnetwork.com/game/v/
	89003/">#51</a>\n\n</BODY>\n</HTML>
STATUS:CONFIRMED
CLASS:PUBLIC
URL:https://www.golnetwork.com/game/v/89003/
X-MICROSOFT-CDO-BUSYSTATUS:BUSY
X-MICROSOFT-CDO-IMPORTANCE:1
END:VEVENT
BEGIN:VEVENT
UID:g95c0@games.golnetwork.com
LOCATION:North Toronto - Field 2
GEO:43.7098022;-79.3963055
CREATED:20160621T191240Z
DTSTART:20160725T221500Z
DTEND:20160725T231000Z
DTSTAMP:20260420T231107Z
SUMMARY:Eckler FC vs. Spoons and Goons FC
DESCRIPTION:Spoons and Goons FC vs. Eckler FCPlus d'info : #52
X-ALT-DESC;FMTTYPE=text/html:<!DOCTYPE HTML PUBLIC "-//W3C//DTD HTML 3.2//E
	N">\n<HTML>\n<HEAD>\n<TITLE></TITLE>\n</HEAD>\n<BODY>\n<h3>Spoons and Goons
	 FC vs. Eckler FC</h3>Plus d'info : <a href="https://www.golnetwork.com/gam
	e/v/89559/">#52</a>\n\n</BODY>\n</HTML>
STATUS:CONFIRMED
CLASS:PUBLIC
URL:https://www.golnetwork.com/game/v/89559/
X-MICROSOFT-CDO-BUSYSTATUS:BUSY
X-MICROSOFT-CDO-IMPORTANCE:1
END:VEVENT
BEGIN:VEVENT
UID:g93oo@games.golnetwork.com
LOCATION:North Toronto - Field 1
GEO:43.7098022;-79.3963055
CREATED:20160526T202437Z
DTSTART:20160725T231000Z
DTEND:20160726T001000Z
DTSTAMP:20260420T231107Z
SUMMARY:I am Batman FC vs. Bahama Mama
DESCRIPTION:Bahama Mama vs. I am Batman FCPlus d'info : #53
X-ALT-DESC;FMTTYPE=text/html:<!DOCTYPE HTML PUBLIC "-//W3C//DTD HTML 3.2//E
	N">\n<HTML>\n<HEAD>\n<TITLE></TITLE>\n</HEAD>\n<BODY>\n<h3>Bahama Mama vs. 
	I am Batman FC</h3>Plus d'info : <a href="https://www.golnetwork.com/game/v
	/89004/">#53</a>\n\n</BODY>\n</HTML>
STATUS:CONFIRMED
CLASS:PUBLIC
URL:https://www.golnetwork.com/game/v/89004/
X-MICROSOFT-CDO-BUSYSTATUS:BUSY
X-MICROSOFT-CDO-IMPORTANCE:1
END:VEVENT
BEGIN:VEVENT
UID:g95c2@games.golnetwork.com
LOCATION:North Toronto - Field 2
GEO:43.7098022;-79.3963055
CREATED:20160621T191259Z
DTSTART:20160725T231000Z
DTEND:20160726T000500Z
DTSTAMP:20260420T231107Z
SUMMARY:OTOD vs. Team RSA
DESCRIPTION:Team RSA vs. OTODPlus d'info : #54
X-ALT-DESC;FMTTYPE=text/html:<!DOCTYPE HTML PUBLIC "-//W3C//DTD HTML 3.2//E
	N">\n<HTML>\n<HEAD>\n<TITLE></TITLE>\n</HEAD>\n<BODY>\n<h3>Team RSA vs. OTO
	D</h3>Plus d'info : <a href="https://www.golnetwork.com/game/v/89560/">#54<
	/a>\n\n</BODY>\n</HTML>
STATUS:CONFIRMED
CLASS:PUBLIC
URL:https://www.golnetwork.com/game/v/89560/
X-MICROSOFT-CDO-BUSYSTATUS:BUSY
X-MICROSOFT-CDO-IMPORTANCE:1
END:VEVENT
BEGIN:VEVENT
UID:g93oq@games.golnetwork.com
LOCATION:North Toronto - Field 1
GEO:43.7098022;-79.3963055
CREATED:20160526T202437Z
DTSTART:20160801T231000Z
DTEND:20160802T001000Z
DTSTAMP:20260420T231107Z
SUMMARY:Team RSA vs. Ledbury Park
DESCRIPTION:Ledbury Park vs. Team RSAPlus d'info : #80
X-ALT-DESC;FMTTYPE=text/html:<!DOCTYPE HTML PUBLIC "-//W3C//DTD HTML 3.2//E
	N">\n<HTML>\n<HEAD>\n<TITLE></TITLE>\n</HEAD>\n<BODY>\n<h3>Ledbury Park vs.
	 Team RSA</h3>Plus d'info : <a href="https://www.golnetwork.com/game/v/8900
	5/">#80</a>\n\n</BODY>\n</HTML>
STATUS:CONFIRMED
CLASS:PUBLIC
URL:https://www.golnetwork.com/game/v/89005/
X-MICROSOFT-CDO-BUSYSTATUS:BUSY
X-MICROSOFT-CDO-IMPORTANCE:1
END:VEVENT
BEGIN:VEVENT
UID:g95c8@games.golnetwork.com
LOCATION:North Toronto - Field 2
GEO:43.7098022;-79.3963055
CREATED:20160621T191359Z
DTSTART:20160801T231000Z
DTEND:20160802T000500Z
DTSTAMP:20260420T231107Z
SUMMARY:Entuitive FC vs. Eckler FC
DESCRIPTION:Eckler FC vs. Entuitive FCPlus d'info : #81
X-ALT-DESC;FMTTYPE=text/html:<!DOCTYPE HTML PUBLIC "-//W3C//DTD HTML 3.2//E
	N">\n<HTML>\n<HEAD>\n<TITLE></TITLE>\n</HEAD>\n<BODY>\n<h3>Eckler FC vs. En
	tuitive FC</h3>Plus d'info : <a href="https://www.golnetwork.com/game/v/895
	63/">#81</a>\n\n</BODY>\n</HTML>
STATUS:CONFIRMED
CLASS:PUBLIC
URL:https://www.golnetwork.com/game/v/89563/
X-MICROSOFT-CDO-BUSYSTATUS:BUSY
X-MICROSOFT-CDO-IMPORTANCE:1
END:VEVENT
BEGIN:VEVENT
UID:g93p1@games.golnetwork.com
LOCATION:North Toronto - Field 1
GEO:43.7098022;-79.3963055
CREATED:20160526T202437Z
DTSTART:20160802T000500Z
DTEND:20160802T010500Z
DTSTAMP:20260420T231107Z
SUMMARY:OTOD vs. I am Batman FC
DESCRIPTION:I am Batman FC vs. OTODPlus d'info : #82
X-ALT-DESC;FMTTYPE=text/html:<!DOCTYPE HTML PUBLIC "-//W3C//DTD HTML 3.2//E
	N">\n<HTML>\n<HEAD>\n<TITLE></TITLE>\n</HEAD>\n<BODY>\n<h3>I am Batman FC v
	s. OTOD</h3>Plus d'info : <a href="https://www.golnetwork.com/game/v/89006/
	">#82</a>\n\n</BODY>\n</HTML>
STATUS:CONFIRMED
CLASS:PUBLIC
URL:https://www.golnetwork.com/game/v/89006/
X-MICROSOFT-CDO-BUSYSTATUS:BUSY
X-MICROSOFT-CDO-IMPORTANCE:1
END:VEVENT
BEGIN:VEVENT
UID:g95c6@games.golnetwork.com
LOCATION:North Toronto - Field 2
GEO:43.7098022;-79.3963055
CREATED:20160621T191335Z
DTSTART:20160802T000500Z
DTEND:20160802T010000Z
DTSTAMP:20260420T231107Z
SUMMARY:Bahama Mama vs. Spoons and Goons FC
DESCRIPTION:Spoons and Goons FC vs. Bahama MamaPlus d'info : #83
X-ALT-DESC;FMTTYPE=text/html:<!DOCTYPE HTML PUBLIC "-//W3C//DTD HTML 3.2//E
	N">\n<HTML>\n<HEAD>\n<TITLE></TITLE>\n</HEAD>\n<BODY>\n<h3>Spoons and Goons
	 FC vs. Bahama Mama</h3>Plus d'info : <a href="https://www.golnetwork.com/g
	ame/v/89562/">#83</a>\n\n</BODY>\n</HTML>
STATUS:CONFIRMED
CLASS:PUBLIC
URL:https://www.golnetwork.com/game/v/89562/
X-MICROSOFT-CDO-BUSYSTATUS:BUSY
X-MICROSOFT-CDO-IMPORTANCE:1
END:VEVENT
BEGIN:VEVENT
UID:g96ef@games.golnetwork.com
LOCATION:North Toronto - Field 1
GEO:43.7098022;-79.3963055
CREATED:20160630T162607Z
DTSTART:20160808T233000Z
DTEND:20160809T002500Z
DTSTAMP:20260420T231107Z
SUMMARY:Entuitive FC vs. I am Batman FC
DESCRIPTION:I am Batman FC vs. Entuitive FCPlus d'info : #128
X-ALT-DESC;FMTTYPE=text/html:<!DOCTYPE HTML PUBLIC "-//W3C//DTD HTML 3.2//E
	N">\n<HTML>\n<HEAD>\n<TITLE></TITLE>\n</HEAD>\n<BODY>\n<h3>I am Batman FC v
	s. Entuitive FC</h3>Plus d'info : <a href="https://www.golnetwork.com/game/
	v/89958/">#128</a>\n\n</BODY>\n</HTML>
STATUS:CONFIRMED
CLASS:PUBLIC
URL:https://www.golnetwork.com/game/v/89958/
X-MICROSOFT-CDO-BUSYSTATUS:BUSY
X-MICROSOFT-CDO-IMPORTANCE:1
END:VEVENT
BEGIN:VEVENT
UID:g96ed@games.golnetwork.com
LOCATION:North Toronto - Field 2
GEO:43.7098022;-79.3963055
CREATED:20160630T162535Z
DTSTART:20160808T233000Z
DTEND:20160809T002500Z
DTSTAMP:20260420T231107Z
SUMMARY:OTOD vs. Ledbury Park
DESCRIPTION:Ledbury Park vs. OTODPlus d'info : #129
X-ALT-DESC;FMTTYPE=text/html:<!DOCTYPE HTML PUBLIC "-//W3C//DTD HTML 3.2//E
	N">\n<HTML>\n<HEAD>\n<TITLE></TITLE>\n</HEAD>\n<BODY>\n<h3>Ledbury Park vs.
	 OTOD</h3>Plus d'info : <a href="https://www.golnetwork.com/game/v/89957/">
	#129</a>\n\n</BODY>\n</HTML>
STATUS:CONFIRMED
CLASS:PUBLIC
URL:https://www.golnetwork.com/game/v/89957/
X-MICROSOFT-CDO-BUSYSTATUS:BUSY
X-MICROSOFT-CDO-IMPORTANCE:1
END:VEVENT
BEGIN:VEVENT
UID:g93p5@games.golnetwork.com
LOCATION:North Toronto - Field 1
GEO:43.7098022;-79.3963055
CREATED:20160526T202438Z
DTSTART:20160815T221500Z
DTEND:20160815T231500Z
DTSTAMP:20260420T231107Z
SUMMARY:Team RSA vs. Spoons and Goons FC
DESCRIPTION:Spoons and Goons FC vs. Team RSAPlus d'info : #177
X-ALT-DESC;FMTTYPE=text/html:<!DOCTYPE HTML PUBLIC "-//W3C//DTD HTML 3.2//E
	N">\n<HTML>\n<HEAD>\n<TITLE></TITLE>\n</HEAD>\n<BODY>\n<h3>Spoons and Goons
	 FC vs. Team RSA</h3>Plus d'info : <a href="https://www.golnetwork.com/game
	/v/89008/">#177</a>\n\n</BODY>\n</HTML>
STATUS:CONFIRMED
CLASS:PUBLIC
URL:https://www.golnetwork.com/game/v/89008/
X-MICROSOFT-CDO-BUSYSTATUS:BUSY
X-MICROSOFT-CDO-IMPORTANCE:1
END:VEVENT
BEGIN:VEVENT
UID:g95ca@games.golnetwork.com
LOCATION:North Toronto - Field 2
GEO:43.7098022;-79.3963055
CREATED:20160621T192051Z
DTSTART:20160815T221500Z
DTEND:20160815T231000Z
DTSTAMP:20260420T231107Z
SUMMARY:Bahama Mama vs. Eckler FC
DESCRIPTION:Eckler FC vs. Bahama MamaPlus d'info : #178
X-ALT-DESC;FMTTYPE=text/html:<!DOCTYPE HTML PUBLIC "-//W3C//DTD HTML 3.2//E
	N">\n<HTML>\n<HEAD>\n<TITLE></TITLE>\n</HEAD>\n<BODY>\n<h3>Eckler FC vs. Ba
	hama Mama</h3>Plus d'info : <a href="https://www.golnetwork.com/game/v/8956
	4/">#178</a>\n\n</BODY>\n</HTML>
STATUS:CONFIRMED
CLASS:PUBLIC
URL:https://www.golnetwork.com/game/v/89564/
X-MICROSOFT-CDO-BUSYSTATUS:BUSY
X-MICROSOFT-CDO-IMPORTANCE:1
END:VEVENT
BEGIN:VEVENT
UID:g95ck@games.golnetwork.com
LOCATION:North Toronto - Field 1
GEO:43.7098022;-79.3963055
CREATED:20160621T192133Z
DTSTART:20160829T221000Z
DTEND:20160829T230500Z
DTSTAMP:20260420T231107Z
SUMMARY:OTOD vs. I am Batman FC
DESCRIPTION:I am Batman FC vs. OTODPlus d'info : #330
X-ALT-DESC;FMTTYPE=text/html:<!DOCTYPE HTML PUBLIC "-//W3C//DTD HTML 3.2//E
	N">\n<HTML>\n<HEAD>\n<TITLE></TITLE>\n</HEAD>\n<BODY>\n<h3>I am Batman FC v
	s. OTOD</h3>Plus d'info : <a href="https://www.golnetwork.com/game/v/89569/
	">#330</a>\n\n</BODY>\n</HTML>
STATUS:CONFIRMED
CLASS:PUBLIC
URL:https://www.golnetwork.com/game/v/89569/
X-MICROSOFT-CDO-BUSYSTATUS:BUSY
X-MICROSOFT-CDO-IMPORTANCE:1
END:VEVENT
BEGIN:VEVENT
UID:g95ci@games.golnetwork.com
LOCATION:North Toronto - Field 1
GEO:43.7098022;-79.3963055
CREATED:20160621T192125Z
DTSTART:20160829T221000Z
DTEND:20160829T230500Z
DTSTAMP:20260420T231107Z
SUMMARY:Ledbury Park vs. Entuitive FC
DESCRIPTION:Entuitive FC vs. Ledbury ParkPlus d'info : #331
X-ALT-DESC;FMTTYPE=text/html:<!DOCTYPE HTML PUBLIC "-//W3C//DTD HTML 3.2//E
	N">\n<HTML>\n<HEAD>\n<TITLE></TITLE>\n</HEAD>\n<BODY>\n<h3>Entuitive FC vs.
	 Ledbury Park</h3>Plus d'info : <a href="https://www.golnetwork.com/game/v/
	89568/">#331</a>\n\n</BODY>\n</HTML>
STATUS:CONFIRMED
CLASS:PUBLIC
URL:https://www.golnetwork.com/game/v/89568/
X-MICROSOFT-CDO-BUSYSTATUS:BUSY
X-MICROSOFT-CDO-IMPORTANCE:1
END:VEVENT
BEGIN:VEVENT
UID:g95ce@games.golnetwork.com
LOCATION:North Toronto - Field 1
GEO:43.7098022;-79.3963055
CREATED:20160621T192111Z
DTSTART:20160829T230500Z
DTEND:20160830T000000Z
DTSTAMP:20260420T231107Z
SUMMARY:Eckler FC vs. Team RSA
DESCRIPTION:Team RSA vs. Eckler FCPlus d'info : #332
X-ALT-DESC;FMTTYPE=text/html:<!DOCTYPE HTML PUBLIC "-//W3C//DTD HTML 3.2//E
	N">\n<HTML>\n<HEAD>\n<TITLE></TITLE>\n</HEAD>\n<BODY>\n<h3>Team RSA vs. Eck
	ler FC</h3>Plus d'info : <a href="https://www.golnetwork.com/game/v/89566/"
	>#332</a>\n\n</BODY>\n</HTML>
STATUS:CONFIRMED
CLASS:PUBLIC
URL:https://www.golnetwork.com/game/v/89566/
X-MICROSOFT-CDO-BUSYSTATUS:BUSY
X-MICROSOFT-CDO-IMPORTANCE:1
END:VEVENT
BEGIN:VEVENT
UID:g95cm@games.golnetwork.com
LOCATION:North Toronto - Field 1
GEO:43.7098022;-79.3963055
CREATED:20160621T192221Z
DTSTART:20160905T221000Z
DTEND:20160905T230500Z
DTSTAMP:20260420T231107Z
SUMMARY:Ledbury Park vs. Eckler FC
DESCRIPTION:Eckler FC vs. Ledbury ParkPlus d'info : #378
X-ALT-DESC;FMTTYPE=text/html:<!DOCTYPE HTML PUBLIC "-//W3C//DTD HTML 3.2//E
	N">\n<HTML>\n<HEAD>\n<TITLE></TITLE>\n</HEAD>\n<BODY>\n<h3>Eckler FC vs. Le
	dbury Park</h3>Plus d'info : <a href="https://www.golnetwork.com/game/v/895
	70/">#378</a>\n\n</BODY>\n</HTML>
STATUS:CONFIRMED
CLASS:PUBLIC
URL:https://www.golnetwork.com/game/v/89570/
X-MICROSOFT-CDO-BUSYSTATUS:BUSY
X-MICROSOFT-CDO-IMPORTANCE:1
END:VEVENT
BEGIN:VEVENT
UID:g95cg@games.golnetwork.com
LOCATION:North Toronto - Field 2
GEO:43.7098022;-79.3963055
CREATED:20160621T192120Z
DTSTART:20160905T221000Z
DTEND:20160905T230500Z
DTSTAMP:20260420T231107Z
SUMMARY:Entuitive FC vs. Team RSA
DESCRIPTION:Team RSA vs. Entuitive FCPlus d'info : #379
X-ALT-DESC;FMTTYPE=text/html:<!DOCTYPE HTML PUBLIC "-//W3C//DTD HTML 3.2//E
	N">\n<HTML>\n<HEAD>\n<TITLE></TITLE>\n</HEAD>\n<BODY>\n<h3>Team RSA vs. Ent
	uitive FC</h3>Plus d'info : <a href="https://www.golnetwork.com/game/v/8956
	7/">#379</a>\n\n</BODY>\n</HTML>
STATUS:CONFIRMED
CLASS:PUBLIC
URL:https://www.golnetwork.com/game/v/89567/
X-MICROSOFT-CDO-BUSYSTATUS:BUSY
X-MICROSOFT-CDO-IMPORTANCE:1
END:VEVENT
END:VCALENDAR
