BEGIN:VCALENDAR
PRODID:-//gdesolutions.com//MV Framework 1.0.0.1607 Calendar//EN
VERSION:2.0
METHOD:PUBLISH
CALSCALE:GREGORIAN
BEGIN:VEVENT
UID:g97q2@games.golnetwork.com
LOCATION:Cherry Beach East 3
CREATED:20160711T210357Z
DTSTART:20160722T010000Z
DTEND:20160722T020000Z
DTSTAMP:20260421T042606Z
SUMMARY:Fake Madrid vs. Medcan FC
DESCRIPTION:Medcan FC vs. Fake MadridPlus d'info : #44
X-ALT-DESC;FMTTYPE=text/html:<!DOCTYPE HTML PUBLIC "-//W3C//DTD HTML 3.2//E
	N">\n<HTML>\n<HEAD>\n<TITLE></TITLE>\n</HEAD>\n<BODY>\n<h3>Medcan FC vs. Fa
	ke Madrid</h3>Plus d'info : <a href="https://www.golnetwork.com/game/v/9047
	8/">#44</a>\n\n</BODY>\n</HTML>
STATUS:CONFIRMED
CLASS:PUBLIC
URL:https://www.golnetwork.com/game/v/90478/
X-MICROSOFT-CDO-BUSYSTATUS:BUSY
X-MICROSOFT-CDO-IMPORTANCE:1
END:VEVENT
BEGIN:VEVENT
UID:g97q4@games.golnetwork.com
LOCATION:Cherry Beach East 3
CREATED:20160711T210357Z
DTSTART:20160722T020000Z
DTEND:20160722T030000Z
DTSTAMP:20260421T042606Z
SUMMARY:Kicking & Screaming vs. Liverfull
DESCRIPTION:Liverfull vs. Kicking & ScreamingPlus d'info : #47
X-ALT-DESC;FMTTYPE=text/html:<!DOCTYPE HTML PUBLIC "-//W3C//DTD HTML 3.2//E
	N">\n<HTML>\n<HEAD>\n<TITLE></TITLE>\n</HEAD>\n<BODY>\n<h3>Liverfull vs. Ki
	cking & Screaming</h3>Plus d'info : <a href="https://www.golnetwork.com/gam
	e/v/90479/">#47</a>\n\n</BODY>\n</HTML>
STATUS:CONFIRMED
CLASS:PUBLIC
URL:https://www.golnetwork.com/game/v/90479/
X-MICROSOFT-CDO-BUSYSTATUS:BUSY
X-MICROSOFT-CDO-IMPORTANCE:1
END:VEVENT
BEGIN:VEVENT
UID:g97q6@games.golnetwork.com
LOCATION:Cherry Beach East 3
CREATED:20160711T210357Z
DTSTART:20160722T030000Z
DTEND:20160722T040000Z
DTSTAMP:20260421T042606Z
SUMMARY:MMC  vs. Slaters
DESCRIPTION:Slaters vs. MMC Plus d'info : #50
X-ALT-DESC;FMTTYPE=text/html:<!DOCTYPE HTML PUBLIC "-//W3C//DTD HTML 3.2//E
	N">\n<HTML>\n<HEAD>\n<TITLE></TITLE>\n</HEAD>\n<BODY>\n<h3>Slaters vs. MMC 
	</h3>Plus d'info : <a href="https://www.golnetwork.com/game/v/90480/">#50</
	a>\n\n</BODY>\n</HTML>
STATUS:CONFIRMED
CLASS:PUBLIC
URL:https://www.golnetwork.com/game/v/90480/
X-MICROSOFT-CDO-BUSYSTATUS:BUSY
X-MICROSOFT-CDO-IMPORTANCE:1
END:VEVENT
BEGIN:VEVENT
UID:g97qc@games.golnetwork.com
LOCATION:Cherry Beach East 3
CREATED:20160711T210357Z
DTSTART:20160729T010000Z
DTEND:20160729T020000Z
DTSTAMP:20260421T042606Z
SUMMARY:Slaters vs. Liverfull
DESCRIPTION:Liverfull vs. SlatersPlus d'info : #67
X-ALT-DESC;FMTTYPE=text/html:<!DOCTYPE HTML PUBLIC "-//W3C//DTD HTML 3.2//E
	N">\n<HTML>\n<HEAD>\n<TITLE></TITLE>\n</HEAD>\n<BODY>\n<h3>Liverfull vs. Sl
	aters</h3>Plus d'info : <a href="https://www.golnetwork.com/game/v/90483/">
	#67</a>\n\n</BODY>\n</HTML>
STATUS:CONFIRMED
CLASS:PUBLIC
URL:https://www.golnetwork.com/game/v/90483/
X-MICROSOFT-CDO-BUSYSTATUS:BUSY
X-MICROSOFT-CDO-IMPORTANCE:1
END:VEVENT
BEGIN:VEVENT
UID:g97qa@games.golnetwork.com
LOCATION:Cherry Beach East 3
CREATED:20160711T210357Z
DTSTART:20160729T020000Z
DTEND:20160729T030000Z
DTSTAMP:20260421T042606Z
SUMMARY:MMC  vs. Medcan FC
DESCRIPTION:Medcan FC vs. MMC Plus d'info : #70
X-ALT-DESC;FMTTYPE=text/html:<!DOCTYPE HTML PUBLIC "-//W3C//DTD HTML 3.2//E
	N">\n<HTML>\n<HEAD>\n<TITLE></TITLE>\n</HEAD>\n<BODY>\n<h3>Medcan FC vs. MM
	C </h3>Plus d'info : <a href="https://www.golnetwork.com/game/v/90482/">#70
	</a>\n\n</BODY>\n</HTML>
STATUS:CONFIRMED
CLASS:PUBLIC
URL:https://www.golnetwork.com/game/v/90482/
X-MICROSOFT-CDO-BUSYSTATUS:BUSY
X-MICROSOFT-CDO-IMPORTANCE:1
END:VEVENT
BEGIN:VEVENT
UID:g97q8@games.golnetwork.com
LOCATION:Cherry Beach East 3
CREATED:20160711T210357Z
DTSTART:20160729T030000Z
DTEND:20160729T040000Z
DTSTAMP:20260421T042606Z
SUMMARY:Kicking & Screaming vs. Fake Madrid
DESCRIPTION:Fake Madrid vs. Kicking & ScreamingPlus d'info : #73
X-ALT-DESC;FMTTYPE=text/html:<!DOCTYPE HTML PUBLIC "-//W3C//DTD HTML 3.2//E
	N">\n<HTML>\n<HEAD>\n<TITLE></TITLE>\n</HEAD>\n<BODY>\n<h3>Fake Madrid vs. 
	Kicking & Screaming</h3>Plus d'info : <a href="https://www.golnetwork.com/g
	ame/v/90481/">#73</a>\n\n</BODY>\n</HTML>
STATUS:CONFIRMED
CLASS:PUBLIC
URL:https://www.golnetwork.com/game/v/90481/
X-MICROSOFT-CDO-BUSYSTATUS:BUSY
X-MICROSOFT-CDO-IMPORTANCE:1
END:VEVENT
BEGIN:VEVENT
UID:g97qe@games.golnetwork.com
LOCATION:Cherry Beach East 3
CREATED:20160711T210357Z
DTSTART:20160805T010000Z
DTEND:20160805T020000Z
DTSTAMP:20260421T042606Z
SUMMARY:Fake Madrid vs. MMC 
DESCRIPTION:MMC  vs. Fake MadridPlus d'info : #95
X-ALT-DESC;FMTTYPE=text/html:<!DOCTYPE HTML PUBLIC "-//W3C//DTD HTML 3.2//E
	N">\n<HTML>\n<HEAD>\n<TITLE></TITLE>\n</HEAD>\n<BODY>\n<h3>MMC  vs. Fake Ma
	drid</h3>Plus d'info : <a href="https://www.golnetwork.com/game/v/90484/">#
	95</a>\n\n</BODY>\n</HTML>
STATUS:CONFIRMED
CLASS:PUBLIC
URL:https://www.golnetwork.com/game/v/90484/
X-MICROSOFT-CDO-BUSYSTATUS:BUSY
X-MICROSOFT-CDO-IMPORTANCE:1
END:VEVENT
BEGIN:VEVENT
UID:g97qg@games.golnetwork.com
LOCATION:Cherry Beach East 3
CREATED:20160711T210357Z
DTSTART:20160805T020000Z
DTEND:20160805T030000Z
DTSTAMP:20260421T042606Z
SUMMARY:Slaters vs. Kicking & Screaming
DESCRIPTION:Kicking & Screaming vs. SlatersPlus d'info : #98
X-ALT-DESC;FMTTYPE=text/html:<!DOCTYPE HTML PUBLIC "-//W3C//DTD HTML 3.2//E
	N">\n<HTML>\n<HEAD>\n<TITLE></TITLE>\n</HEAD>\n<BODY>\n<h3>Kicking & Scream
	ing vs. Slaters</h3>Plus d'info : <a href="https://www.golnetwork.com/game/
	v/90485/">#98</a>\n\n</BODY>\n</HTML>
STATUS:CONFIRMED
CLASS:PUBLIC
URL:https://www.golnetwork.com/game/v/90485/
X-MICROSOFT-CDO-BUSYSTATUS:BUSY
X-MICROSOFT-CDO-IMPORTANCE:1
END:VEVENT
BEGIN:VEVENT
UID:g97qi@games.golnetwork.com
LOCATION:Cherry Beach East 3
CREATED:20160711T210357Z
DTSTART:20160805T030000Z
DTEND:20160805T040000Z
DTSTAMP:20260421T042606Z
SUMMARY:Liverfull vs. Medcan FC
DESCRIPTION:Medcan FC vs. LiverfullPlus d'info : #101
X-ALT-DESC;FMTTYPE=text/html:<!DOCTYPE HTML PUBLIC "-//W3C//DTD HTML 3.2//E
	N">\n<HTML>\n<HEAD>\n<TITLE></TITLE>\n</HEAD>\n<BODY>\n<h3>Medcan FC vs. Li
	verfull</h3>Plus d'info : <a href="https://www.golnetwork.com/game/v/90486/
	">#101</a>\n\n</BODY>\n</HTML>
STATUS:CONFIRMED
CLASS:PUBLIC
URL:https://www.golnetwork.com/game/v/90486/
X-MICROSOFT-CDO-BUSYSTATUS:BUSY
X-MICROSOFT-CDO-IMPORTANCE:1
END:VEVENT
BEGIN:VEVENT
UID:g97qo@games.golnetwork.com
LOCATION:Cherry Beach East 3
CREATED:20160711T210357Z
DTSTART:20160812T010000Z
DTEND:20160812T020000Z
DTSTAMP:20260421T042606Z
SUMMARY:Medcan FC vs. Kicking & Screaming
DESCRIPTION:Kicking & Screaming vs. Medcan FCPlus d'info : #141
X-ALT-DESC;FMTTYPE=text/html:<!DOCTYPE HTML PUBLIC "-//W3C//DTD HTML 3.2//E
	N">\n<HTML>\n<HEAD>\n<TITLE></TITLE>\n</HEAD>\n<BODY>\n<h3>Kicking & Scream
	ing vs. Medcan FC</h3>Plus d'info : <a href="https://www.golnetwork.com/gam
	e/v/90489/">#141</a>\n\n</BODY>\n</HTML>
STATUS:CONFIRMED
CLASS:PUBLIC
URL:https://www.golnetwork.com/game/v/90489/
X-MICROSOFT-CDO-BUSYSTATUS:BUSY
X-MICROSOFT-CDO-IMPORTANCE:1
END:VEVENT
BEGIN:VEVENT
UID:g97qm@games.golnetwork.com
LOCATION:Cherry Beach East 3
CREATED:20160711T210357Z
DTSTART:20160812T020000Z
DTEND:20160812T030000Z
DTSTAMP:20260421T042606Z
SUMMARY:Liverfull vs. MMC 
DESCRIPTION:MMC  vs. LiverfullPlus d'info : #144
X-ALT-DESC;FMTTYPE=text/html:<!DOCTYPE HTML PUBLIC "-//W3C//DTD HTML 3.2//E
	N">\n<HTML>\n<HEAD>\n<TITLE></TITLE>\n</HEAD>\n<BODY>\n<h3>MMC  vs. Liverfu
	ll</h3>Plus d'info : <a href="https://www.golnetwork.com/game/v/90488/">#14
	4</a>\n\n</BODY>\n</HTML>
STATUS:CONFIRMED
CLASS:PUBLIC
URL:https://www.golnetwork.com/game/v/90488/
X-MICROSOFT-CDO-BUSYSTATUS:BUSY
X-MICROSOFT-CDO-IMPORTANCE:1
END:VEVENT
BEGIN:VEVENT
UID:g97qk@games.golnetwork.com
LOCATION:Cherry Beach East 3
CREATED:20160711T210357Z
DTSTART:20160812T030000Z
DTEND:20160812T040000Z
DTSTAMP:20260421T042606Z
SUMMARY:Slaters vs. Fake Madrid
DESCRIPTION:Fake Madrid vs. SlatersPlus d'info : #147
X-ALT-DESC;FMTTYPE=text/html:<!DOCTYPE HTML PUBLIC "-//W3C//DTD HTML 3.2//E
	N">\n<HTML>\n<HEAD>\n<TITLE></TITLE>\n</HEAD>\n<BODY>\n<h3>Fake Madrid vs. 
	Slaters</h3>Plus d'info : <a href="https://www.golnetwork.com/game/v/90487/
	">#147</a>\n\n</BODY>\n</HTML>
STATUS:CONFIRMED
CLASS:PUBLIC
URL:https://www.golnetwork.com/game/v/90487/
X-MICROSOFT-CDO-BUSYSTATUS:BUSY
X-MICROSOFT-CDO-IMPORTANCE:1
END:VEVENT
BEGIN:VEVENT
UID:g9801@games.golnetwork.com
LOCATION:Cherry Beach East 3
CREATED:20160711T210357Z
DTSTART:20160819T010000Z
DTEND:20160819T020000Z
DTSTAMP:20260421T042606Z
SUMMARY:Medcan FC vs. Slaters
DESCRIPTION:Slaters vs. Medcan FCPlus d'info : #212
X-ALT-DESC;FMTTYPE=text/html:<!DOCTYPE HTML PUBLIC "-//W3C//DTD HTML 3.2//E
	N">\n<HTML>\n<HEAD>\n<TITLE></TITLE>\n</HEAD>\n<BODY>\n<h3>Slaters vs. Medc
	an FC</h3>Plus d'info : <a href="https://www.golnetwork.com/game/v/90491/">
	#212</a>\n\n</BODY>\n</HTML>
STATUS:CONFIRMED
CLASS:PUBLIC
URL:https://www.golnetwork.com/game/v/90491/
X-MICROSOFT-CDO-BUSYSTATUS:BUSY
X-MICROSOFT-CDO-IMPORTANCE:1
END:VEVENT
BEGIN:VEVENT
UID:g97qq@games.golnetwork.com
LOCATION:Cherry Beach East 3
CREATED:20160711T210357Z
DTSTART:20160819T020000Z
DTEND:20160819T030000Z
DTSTAMP:20260421T042606Z
SUMMARY:Fake Madrid vs. Liverfull
DESCRIPTION:Liverfull vs. Fake MadridPlus d'info : #215
X-ALT-DESC;FMTTYPE=text/html:<!DOCTYPE HTML PUBLIC "-//W3C//DTD HTML 3.2//E
	N">\n<HTML>\n<HEAD>\n<TITLE></TITLE>\n</HEAD>\n<BODY>\n<h3>Liverfull vs. Fa
	ke Madrid</h3>Plus d'info : <a href="https://www.golnetwork.com/game/v/9049
	0/">#215</a>\n\n</BODY>\n</HTML>
STATUS:CONFIRMED
CLASS:PUBLIC
URL:https://www.golnetwork.com/game/v/90490/
X-MICROSOFT-CDO-BUSYSTATUS:BUSY
X-MICROSOFT-CDO-IMPORTANCE:1
END:VEVENT
BEGIN:VEVENT
UID:g9803@games.golnetwork.com
LOCATION:Cherry Beach East 3
CREATED:20160711T210357Z
DTSTART:20160819T030000Z
DTEND:20160819T040000Z
DTSTAMP:20260421T042606Z
SUMMARY:Kicking & Screaming vs. MMC 
DESCRIPTION:MMC  vs. Kicking & ScreamingPlus d'info : #218
X-ALT-DESC;FMTTYPE=text/html:<!DOCTYPE HTML PUBLIC "-//W3C//DTD HTML 3.2//E
	N">\n<HTML>\n<HEAD>\n<TITLE></TITLE>\n</HEAD>\n<BODY>\n<h3>MMC  vs. Kicking
	 & Screaming</h3>Plus d'info : <a href="https://www.golnetwork.com/game/v/9
	0492/">#218</a>\n\n</BODY>\n</HTML>
STATUS:CONFIRMED
CLASS:PUBLIC
URL:https://www.golnetwork.com/game/v/90492/
X-MICROSOFT-CDO-BUSYSTATUS:BUSY
X-MICROSOFT-CDO-IMPORTANCE:1
END:VEVENT
BEGIN:VEVENT
UID:g980f@games.golnetwork.com
LOCATION:Cherry Beach East 3
CREATED:20160711T210358Z
DTSTART:20160826T010000Z
DTEND:20160826T020000Z
DTSTAMP:20260421T042606Z
SUMMARY:MMC  vs. Liverfull
DESCRIPTION:Liverfull vs. MMC Plus d'info : #287
X-ALT-DESC;FMTTYPE=text/html:<!DOCTYPE HTML PUBLIC "-//W3C//DTD HTML 3.2//E
	N">\n<HTML>\n<HEAD>\n<TITLE></TITLE>\n</HEAD>\n<BODY>\n<h3>Liverfull vs. MM
	C </h3>Plus d'info : <a href="https://www.golnetwork.com/game/v/90498/">#28
	7</a>\n\n</BODY>\n</HTML>
STATUS:CONFIRMED
CLASS:PUBLIC
URL:https://www.golnetwork.com/game/v/90498/
X-MICROSOFT-CDO-BUSYSTATUS:BUSY
X-MICROSOFT-CDO-IMPORTANCE:1
END:VEVENT
BEGIN:VEVENT
UID:g980d@games.golnetwork.com
LOCATION:Cherry Beach East 3
CREATED:20160711T210358Z
DTSTART:20160826T020000Z
DTEND:20160826T030000Z
DTSTAMP:20260421T042606Z
SUMMARY:Kicking & Screaming vs. Slaters
DESCRIPTION:Slaters vs. Kicking & ScreamingPlus d'info : #290
X-ALT-DESC;FMTTYPE=text/html:<!DOCTYPE HTML PUBLIC "-//W3C//DTD HTML 3.2//E
	N">\n<HTML>\n<HEAD>\n<TITLE></TITLE>\n</HEAD>\n<BODY>\n<h3>Slaters vs. Kick
	ing & Screaming</h3>Plus d'info : <a href="https://www.golnetwork.com/game/
	v/90497/">#290</a>\n\n</BODY>\n</HTML>
STATUS:CONFIRMED
CLASS:PUBLIC
URL:https://www.golnetwork.com/game/v/90497/
X-MICROSOFT-CDO-BUSYSTATUS:BUSY
X-MICROSOFT-CDO-IMPORTANCE:1
END:VEVENT
BEGIN:VEVENT
UID:g980b@games.golnetwork.com
LOCATION:Cherry Beach East 3
CREATED:20160711T210358Z
DTSTART:20160826T030000Z
DTEND:20160826T040000Z
DTSTAMP:20260421T042606Z
SUMMARY:Fake Madrid vs. Medcan FC
DESCRIPTION:Medcan FC vs. Fake MadridPlus d'info : #293
X-ALT-DESC;FMTTYPE=text/html:<!DOCTYPE HTML PUBLIC "-//W3C//DTD HTML 3.2//E
	N">\n<HTML>\n<HEAD>\n<TITLE></TITLE>\n</HEAD>\n<BODY>\n<h3>Medcan FC vs. Fa
	ke Madrid</h3>Plus d'info : <a href="https://www.golnetwork.com/game/v/9049
	6/">#293</a>\n\n</BODY>\n</HTML>
STATUS:CONFIRMED
CLASS:PUBLIC
URL:https://www.golnetwork.com/game/v/90496/
X-MICROSOFT-CDO-BUSYSTATUS:BUSY
X-MICROSOFT-CDO-IMPORTANCE:1
END:VEVENT
BEGIN:VEVENT
UID:g9809@games.golnetwork.com
LOCATION:Cherry Beach East 3
CREATED:20160711T210358Z
DTSTART:20160902T010000Z
DTEND:20160902T020000Z
DTSTAMP:20260421T042606Z
SUMMARY:Kicking & Screaming vs. Fake Madrid
DESCRIPTION:Fake Madrid vs. Kicking & ScreamingPlus d'info : #361
X-ALT-DESC;FMTTYPE=text/html:<!DOCTYPE HTML PUBLIC "-//W3C//DTD HTML 3.2//E
	N">\n<HTML>\n<HEAD>\n<TITLE></TITLE>\n</HEAD>\n<BODY>\n<h3>Fake Madrid vs. 
	Kicking & Screaming</h3>Plus d'info : <a href="https://www.golnetwork.com/g
	ame/v/90495/">#361</a>\n\n</BODY>\n</HTML>
STATUS:CONFIRMED
CLASS:PUBLIC
URL:https://www.golnetwork.com/game/v/90495/
X-MICROSOFT-CDO-BUSYSTATUS:BUSY
X-MICROSOFT-CDO-IMPORTANCE:1
END:VEVENT
BEGIN:VEVENT
UID:g9805@games.golnetwork.com
LOCATION:Cherry Beach East 3
CREATED:20160711T210357Z
DTSTART:20160902T020000Z
DTEND:20160902T030000Z
DTSTAMP:20260421T042606Z
SUMMARY:Medcan FC vs. MMC 
DESCRIPTION:MMC  vs. Medcan FCPlus d'info : #366
X-ALT-DESC;FMTTYPE=text/html:<!DOCTYPE HTML PUBLIC "-//W3C//DTD HTML 3.2//E
	N">\n<HTML>\n<HEAD>\n<TITLE></TITLE>\n</HEAD>\n<BODY>\n<h3>MMC  vs. Medcan 
	FC</h3>Plus d'info : <a href="https://www.golnetwork.com/game/v/90493/">#36
	6</a>\n\n</BODY>\n</HTML>
STATUS:CONFIRMED
CLASS:PUBLIC
URL:https://www.golnetwork.com/game/v/90493/
X-MICROSOFT-CDO-BUSYSTATUS:BUSY
X-MICROSOFT-CDO-IMPORTANCE:1
END:VEVENT
BEGIN:VEVENT
UID:g9807@games.golnetwork.com
LOCATION:Cherry Beach East 3
CREATED:20160711T210358Z
DTSTART:20160902T030000Z
DTEND:20160902T040000Z
DTSTAMP:20260421T042606Z
SUMMARY:Slaters vs. Liverfull
DESCRIPTION:Liverfull vs. SlatersPlus d'info : #371
X-ALT-DESC;FMTTYPE=text/html:<!DOCTYPE HTML PUBLIC "-//W3C//DTD HTML 3.2//E
	N">\n<HTML>\n<HEAD>\n<TITLE></TITLE>\n</HEAD>\n<BODY>\n<h3>Liverfull vs. Sl
	aters</h3>Plus d'info : <a href="https://www.golnetwork.com/game/v/90494/">
	#371</a>\n\n</BODY>\n</HTML>
STATUS:CONFIRMED
CLASS:PUBLIC
URL:https://www.golnetwork.com/game/v/90494/
X-MICROSOFT-CDO-BUSYSTATUS:BUSY
X-MICROSOFT-CDO-IMPORTANCE:1
END:VEVENT
BEGIN:VEVENT
UID:g980h@games.golnetwork.com
LOCATION:Cherry Beach East 3
CREATED:20160711T210358Z
DTSTART:20160909T030000Z
DTEND:20160909T040000Z
DTSTAMP:20260421T042606Z
SUMMARY:MMC  vs. Slaters
DESCRIPTION:Slaters vs. MMC Plus d'info : #418
X-ALT-DESC;FMTTYPE=text/html:<!DOCTYPE HTML PUBLIC "-//W3C//DTD HTML 3.2//E
	N">\n<HTML>\n<HEAD>\n<TITLE></TITLE>\n</HEAD>\n<BODY>\n<h3>Slaters vs. MMC 
	</h3>Plus d'info : <a href="https://www.golnetwork.com/game/v/90499/">#418<
	/a>\n\n</BODY>\n</HTML>
STATUS:CONFIRMED
CLASS:PUBLIC
URL:https://www.golnetwork.com/game/v/90499/
X-MICROSOFT-CDO-BUSYSTATUS:BUSY
X-MICROSOFT-CDO-IMPORTANCE:1
END:VEVENT
BEGIN:VEVENT
UID:g980j@games.golnetwork.com
LOCATION:Cherry Beach East 3
CREATED:20160711T210358Z
DTSTART:20160916T020000Z
DTEND:20160916T030000Z
DTSTAMP:20260421T042606Z
SUMMARY:Kicking & Screaming vs. Slaters
DESCRIPTION:Slaters vs. Kicking & ScreamingPlus d'info : #485
X-ALT-DESC;FMTTYPE=text/html:<!DOCTYPE HTML PUBLIC "-//W3C//DTD HTML 3.2//E
	N">\n<HTML>\n<HEAD>\n<TITLE></TITLE>\n</HEAD>\n<BODY>\n<h3>Slaters vs. Kick
	ing & Screaming</h3>Plus d'info : <a href="https://www.golnetwork.com/game/
	v/90500/">#485</a>\n\n</BODY>\n</HTML>
STATUS:CONFIRMED
CLASS:PUBLIC
URL:https://www.golnetwork.com/game/v/90500/
X-MICROSOFT-CDO-BUSYSTATUS:BUSY
X-MICROSOFT-CDO-IMPORTANCE:1
END:VEVENT
BEGIN:VEVENT
UID:g980l@games.golnetwork.com
LOCATION:Cherry Beach East 3
CREATED:20160711T210358Z
DTSTART:20160916T030000Z
DTEND:20160916T040000Z
DTSTAMP:20260421T042606Z
SUMMARY:Liverfull vs. MMC 
DESCRIPTION:MMC  vs. LiverfullPlus d'info : #490
X-ALT-DESC;FMTTYPE=text/html:<!DOCTYPE HTML PUBLIC "-//W3C//DTD HTML 3.2//E
	N">\n<HTML>\n<HEAD>\n<TITLE></TITLE>\n</HEAD>\n<BODY>\n<h3>MMC  vs. Liverfu
	ll</h3>Plus d'info : <a href="https://www.golnetwork.com/game/v/90501/">#49
	0</a>\n\n</BODY>\n</HTML>
STATUS:CONFIRMED
CLASS:PUBLIC
URL:https://www.golnetwork.com/game/v/90501/
X-MICROSOFT-CDO-BUSYSTATUS:BUSY
X-MICROSOFT-CDO-IMPORTANCE:1
END:VEVENT
END:VCALENDAR
