BEGIN:VCALENDAR
PRODID:-//gdesolutions.com//MV Framework 1.0.0.1607 Calendar//EN
VERSION:2.0
METHOD:PUBLISH
CALSCALE:GREGORIAN
BEGIN:VEVENT
UID:g998a@games.golnetwork.com
LOCATION:Monarch Park Stadium - Field 2
GEO:43.6792789;-79.3234873
CREATED:20160802T152053Z
DTSTART:20160807T230000Z
DTEND:20160808T000000Z
DTSTAMP:20260422T210845Z
SUMMARY:XTSC Dream Killers vs. Greybeards
DESCRIPTION:Greybeards vs. XTSC Dream KillersPlus d'info : #120
X-ALT-DESC;FMTTYPE=text/html:<!DOCTYPE HTML PUBLIC "-//W3C//DTD HTML 3.2//E
	N">\n<HTML>\n<HEAD>\n<TITLE></TITLE>\n</HEAD>\n<BODY>\n<h3>Greybeards vs. X
	TSC Dream Killers</h3>Plus d'info : <a href="https://www.golnetwork.com/gam
	e/v/90968/">#120</a>\n\n</BODY>\n</HTML>
STATUS:CONFIRMED
CLASS:PUBLIC
URL:https://www.golnetwork.com/game/v/90968/
X-MICROSOFT-CDO-BUSYSTATUS:BUSY
X-MICROSOFT-CDO-IMPORTANCE:1
END:VEVENT
BEGIN:VEVENT
UID:g9988@games.golnetwork.com
LOCATION:Monarch Park - Field 1
CREATED:20160802T152053Z
DTSTART:20160807T230000Z
DTEND:20160808T000000Z
DTSTAMP:20260422T210845Z
SUMMARY:FC Hooligans vs.  Special Olympiakos
DESCRIPTION: Special Olympiakos vs. FC HooligansPlus d'info : #121
X-ALT-DESC;FMTTYPE=text/html:<!DOCTYPE HTML PUBLIC "-//W3C//DTD HTML 3.2//E
	N">\n<HTML>\n<HEAD>\n<TITLE></TITLE>\n</HEAD>\n<BODY>\n<h3> Special Olympia
	kos vs. FC Hooligans</h3>Plus d'info : <a href="https://www.golnetwork.com/
	game/v/90967/">#121</a>\n\n</BODY>\n</HTML>
STATUS:CONFIRMED
CLASS:PUBLIC
URL:https://www.golnetwork.com/game/v/90967/
X-MICROSOFT-CDO-BUSYSTATUS:BUSY
X-MICROSOFT-CDO-IMPORTANCE:1
END:VEVENT
BEGIN:VEVENT
UID:g998c@games.golnetwork.com
LOCATION:Monarch Park - Field 1
CREATED:20160802T152053Z
DTSTART:20160808T000000Z
DTEND:20160808T010000Z
DTSTAMP:20260422T210845Z
SUMMARY:FC Hooligans vs. XTSC Born to be Wild
DESCRIPTION:XTSC Born to be Wild vs. FC HooligansPlus d'info : #125
X-ALT-DESC;FMTTYPE=text/html:<!DOCTYPE HTML PUBLIC "-//W3C//DTD HTML 3.2//E
	N">\n<HTML>\n<HEAD>\n<TITLE></TITLE>\n</HEAD>\n<BODY>\n<h3>XTSC Born to be 
	Wild vs. FC Hooligans</h3>Plus d'info : <a href="https://www.golnetwork.com
	/game/v/90969/">#125</a>\n\n</BODY>\n</HTML>
STATUS:CONFIRMED
CLASS:PUBLIC
URL:https://www.golnetwork.com/game/v/90969/
X-MICROSOFT-CDO-BUSYSTATUS:BUSY
X-MICROSOFT-CDO-IMPORTANCE:1
END:VEVENT
BEGIN:VEVENT
UID:g998g@games.golnetwork.com
LOCATION:Monarch Park Stadium - Field 2
GEO:43.6792789;-79.3234873
CREATED:20160802T152053Z
DTSTART:20160814T230000Z
DTEND:20160815T000000Z
DTSTAMP:20260422T210845Z
SUMMARY:XTSC Born to be Wild vs.  Special Olympiakos
DESCRIPTION: Special Olympiakos vs. XTSC Born to be WildPlus d'info : #164
X-ALT-DESC;FMTTYPE=text/html:<!DOCTYPE HTML PUBLIC "-//W3C//DTD HTML 3.2//E
	N">\n<HTML>\n<HEAD>\n<TITLE></TITLE>\n</HEAD>\n<BODY>\n<h3> Special Olympia
	kos vs. XTSC Born to be Wild</h3>Plus d'info : <a href="https://www.golnetw
	ork.com/game/v/90971/">#164</a>\n\n</BODY>\n</HTML>
STATUS:CONFIRMED
CLASS:PUBLIC
URL:https://www.golnetwork.com/game/v/90971/
X-MICROSOFT-CDO-BUSYSTATUS:BUSY
X-MICROSOFT-CDO-IMPORTANCE:1
END:VEVENT
BEGIN:VEVENT
UID:g998e@games.golnetwork.com
LOCATION:Monarch Park - Field 1
CREATED:20160802T152053Z
DTSTART:20160814T230000Z
DTEND:20160815T000000Z
DTSTAMP:20260422T210845Z
SUMMARY:XTSC Dream Killers vs. FC Hooligans
DESCRIPTION:FC Hooligans vs. XTSC Dream KillersPlus d'info : #165
X-ALT-DESC;FMTTYPE=text/html:<!DOCTYPE HTML PUBLIC "-//W3C//DTD HTML 3.2//E
	N">\n<HTML>\n<HEAD>\n<TITLE></TITLE>\n</HEAD>\n<BODY>\n<h3>FC Hooligans vs.
	 XTSC Dream Killers</h3>Plus d'info : <a href="https://www.golnetwork.com/g
	ame/v/90970/">#165</a>\n\n</BODY>\n</HTML>
STATUS:CONFIRMED
CLASS:PUBLIC
URL:https://www.golnetwork.com/game/v/90970/
X-MICROSOFT-CDO-BUSYSTATUS:BUSY
X-MICROSOFT-CDO-IMPORTANCE:1
END:VEVENT
BEGIN:VEVENT
UID:g998i@games.golnetwork.com
LOCATION:Monarch Park - Field 1
CREATED:20160802T152053Z
DTSTART:20160815T000000Z
DTEND:20160815T010000Z
DTSTAMP:20260422T210845Z
SUMMARY:XTSC Born to be Wild vs. Greybeards
DESCRIPTION:Greybeards vs. XTSC Born to be WildPlus d'info : #167
X-ALT-DESC;FMTTYPE=text/html:<!DOCTYPE HTML PUBLIC "-//W3C//DTD HTML 3.2//E
	N">\n<HTML>\n<HEAD>\n<TITLE></TITLE>\n</HEAD>\n<BODY>\n<h3>Greybeards vs. X
	TSC Born to be Wild</h3>Plus d'info : <a href="https://www.golnetwork.com/g
	ame/v/90972/">#167</a>\n\n</BODY>\n</HTML>
STATUS:CONFIRMED
CLASS:PUBLIC
URL:https://www.golnetwork.com/game/v/90972/
X-MICROSOFT-CDO-BUSYSTATUS:BUSY
X-MICROSOFT-CDO-IMPORTANCE:1
END:VEVENT
BEGIN:VEVENT
UID:g998o@games.golnetwork.com
LOCATION:Monarch Park Stadium - Field 2
GEO:43.6792789;-79.3234873
CREATED:20160802T152053Z
DTSTART:20160821T230000Z
DTEND:20160822T000000Z
DTSTAMP:20260422T210845Z
SUMMARY:Greybeards vs.  Special Olympiakos
DESCRIPTION: Special Olympiakos vs. GreybeardsPlus d'info : #237
X-ALT-DESC;FMTTYPE=text/html:<!DOCTYPE HTML PUBLIC "-//W3C//DTD HTML 3.2//E
	N">\n<HTML>\n<HEAD>\n<TITLE></TITLE>\n</HEAD>\n<BODY>\n<h3> Special Olympia
	kos vs. Greybeards</h3>Plus d'info : <a href="https://www.golnetwork.com/ga
	me/v/90975/">#237</a>\n\n</BODY>\n</HTML>
STATUS:CONFIRMED
CLASS:PUBLIC
URL:https://www.golnetwork.com/game/v/90975/
X-MICROSOFT-CDO-BUSYSTATUS:BUSY
X-MICROSOFT-CDO-IMPORTANCE:1
END:VEVENT
BEGIN:VEVENT
UID:g998m@games.golnetwork.com
LOCATION:Monarch Park - Field 1
CREATED:20160802T152053Z
DTSTART:20160821T230000Z
DTEND:20160822T000000Z
DTSTAMP:20260422T210845Z
SUMMARY:XTSC Born to be Wild vs. XTSC Dream Killers
DESCRIPTION:XTSC Dream Killers vs. XTSC Born to be WildPlus d'info : #239
X-ALT-DESC;FMTTYPE=text/html:<!DOCTYPE HTML PUBLIC "-//W3C//DTD HTML 3.2//E
	N">\n<HTML>\n<HEAD>\n<TITLE></TITLE>\n</HEAD>\n<BODY>\n<h3>XTSC Dream Kille
	rs vs. XTSC Born to be Wild</h3>Plus d'info : <a href="https://www.golnetwo
	rk.com/game/v/90974/">#239</a>\n\n</BODY>\n</HTML>
STATUS:CONFIRMED
CLASS:PUBLIC
URL:https://www.golnetwork.com/game/v/90974/
X-MICROSOFT-CDO-BUSYSTATUS:BUSY
X-MICROSOFT-CDO-IMPORTANCE:1
END:VEVENT
BEGIN:VEVENT
UID:g998k@games.golnetwork.com
LOCATION:Monarch Park - Field 1
CREATED:20160802T152053Z
DTSTART:20160822T000000Z
DTEND:20160822T010000Z
DTSTAMP:20260422T210845Z
SUMMARY:Greybeards vs. FC Hooligans
DESCRIPTION:FC Hooligans vs. GreybeardsPlus d'info : #245
X-ALT-DESC;FMTTYPE=text/html:<!DOCTYPE HTML PUBLIC "-//W3C//DTD HTML 3.2//E
	N">\n<HTML>\n<HEAD>\n<TITLE></TITLE>\n</HEAD>\n<BODY>\n<h3>FC Hooligans vs.
	 Greybeards</h3>Plus d'info : <a href="https://www.golnetwork.com/game/v/90
	973/">#245</a>\n\n</BODY>\n</HTML>
STATUS:CONFIRMED
CLASS:PUBLIC
URL:https://www.golnetwork.com/game/v/90973/
X-MICROSOFT-CDO-BUSYSTATUS:BUSY
X-MICROSOFT-CDO-IMPORTANCE:1
END:VEVENT
BEGIN:VEVENT
UID:g998q@games.golnetwork.com
LOCATION:Monarch Park Stadium - Field 2
GEO:43.6792789;-79.3234873
CREATED:20160802T152053Z
DTSTART:20160828T230000Z
DTEND:20160829T000000Z
DTSTAMP:20260422T210845Z
SUMMARY:XTSC Born to be Wild vs. Greybeards
DESCRIPTION:Greybeards vs. XTSC Born to be WildPlus d'info : #322
X-ALT-DESC;FMTTYPE=text/html:<!DOCTYPE HTML PUBLIC "-//W3C//DTD HTML 3.2//E
	N">\n<HTML>\n<HEAD>\n<TITLE></TITLE>\n</HEAD>\n<BODY>\n<h3>Greybeards vs. X
	TSC Born to be Wild</h3>Plus d'info : <a href="https://www.golnetwork.com/g
	ame/v/90976/">#322</a>\n\n</BODY>\n</HTML>
STATUS:CONFIRMED
CLASS:PUBLIC
URL:https://www.golnetwork.com/game/v/90976/
X-MICROSOFT-CDO-BUSYSTATUS:BUSY
X-MICROSOFT-CDO-IMPORTANCE:1
END:VEVENT
BEGIN:VEVENT
UID:g9993@games.golnetwork.com
LOCATION:Monarch Park - Field 1
CREATED:20160802T152053Z
DTSTART:20160828T230000Z
DTEND:20160829T000000Z
DTSTAMP:20260422T210845Z
SUMMARY: Special Olympiakos vs. XTSC Dream Killers
DESCRIPTION:XTSC Dream Killers vs.  Special OlympiakosPlus d'info : #323
X-ALT-DESC;FMTTYPE=text/html:<!DOCTYPE HTML PUBLIC "-//W3C//DTD HTML 3.2//E
	N">\n<HTML>\n<HEAD>\n<TITLE></TITLE>\n</HEAD>\n<BODY>\n<h3>XTSC Dream Kille
	rs vs.  Special Olympiakos</h3>Plus d'info : <a href="https://www.golnetwor
	k.com/game/v/90978/">#323</a>\n\n</BODY>\n</HTML>
STATUS:CONFIRMED
CLASS:PUBLIC
URL:https://www.golnetwork.com/game/v/90978/
X-MICROSOFT-CDO-BUSYSTATUS:BUSY
X-MICROSOFT-CDO-IMPORTANCE:1
END:VEVENT
BEGIN:VEVENT
UID:g9991@games.golnetwork.com
LOCATION:Monarch Park - Field 1
CREATED:20160802T152053Z
DTSTART:20160829T000000Z
DTEND:20160829T010000Z
DTSTAMP:20260422T210845Z
SUMMARY: Special Olympiakos vs. FC Hooligans
DESCRIPTION:FC Hooligans vs.  Special OlympiakosPlus d'info : #325
X-ALT-DESC;FMTTYPE=text/html:<!DOCTYPE HTML PUBLIC "-//W3C//DTD HTML 3.2//E
	N">\n<HTML>\n<HEAD>\n<TITLE></TITLE>\n</HEAD>\n<BODY>\n<h3>FC Hooligans vs.
	  Special Olympiakos</h3>Plus d'info : <a href="https://www.golnetwork.com/
	game/v/90977/">#325</a>\n\n</BODY>\n</HTML>
STATUS:CONFIRMED
CLASS:PUBLIC
URL:https://www.golnetwork.com/game/v/90977/
X-MICROSOFT-CDO-BUSYSTATUS:BUSY
X-MICROSOFT-CDO-IMPORTANCE:1
END:VEVENT
BEGIN:VEVENT
UID:g9999@games.golnetwork.com
LOCATION:Monarch Park Stadium - Field 2
GEO:43.6792789;-79.3234873
CREATED:20160802T152053Z
DTSTART:20160911T230000Z
DTEND:20160912T000000Z
DTSTAMP:20260422T210845Z
SUMMARY:XTSC Born to be Wild vs.  Special Olympiakos
DESCRIPTION: Special Olympiakos vs. XTSC Born to be WildPlus d'info : #439
X-ALT-DESC;FMTTYPE=text/html:<!DOCTYPE HTML PUBLIC "-//W3C//DTD HTML 3.2//E
	N">\n<HTML>\n<HEAD>\n<TITLE></TITLE>\n</HEAD>\n<BODY>\n<h3> Special Olympia
	kos vs. XTSC Born to be Wild</h3>Plus d'info : <a href="https://www.golnetw
	ork.com/game/v/90981/">#439</a>\n\n</BODY>\n</HTML>
STATUS:CONFIRMED
CLASS:PUBLIC
URL:https://www.golnetwork.com/game/v/90981/
X-MICROSOFT-CDO-BUSYSTATUS:BUSY
X-MICROSOFT-CDO-IMPORTANCE:1
END:VEVENT
BEGIN:VEVENT
UID:g9995@games.golnetwork.com
LOCATION:Monarch Park - Field 1
CREATED:20160802T152053Z
DTSTART:20160911T230000Z
DTEND:20160912T000000Z
DTSTAMP:20260422T210845Z
SUMMARY:XTSC Dream Killers vs. Greybeards
DESCRIPTION:Greybeards vs. XTSC Dream KillersPlus d'info : #440
X-ALT-DESC;FMTTYPE=text/html:<!DOCTYPE HTML PUBLIC "-//W3C//DTD HTML 3.2//E
	N">\n<HTML>\n<HEAD>\n<TITLE></TITLE>\n</HEAD>\n<BODY>\n<h3>Greybeards vs. X
	TSC Dream Killers</h3>Plus d'info : <a href="https://www.golnetwork.com/gam
	e/v/90979/">#440</a>\n\n</BODY>\n</HTML>
STATUS:CONFIRMED
CLASS:PUBLIC
URL:https://www.golnetwork.com/game/v/90979/
X-MICROSOFT-CDO-BUSYSTATUS:BUSY
X-MICROSOFT-CDO-IMPORTANCE:1
END:VEVENT
BEGIN:VEVENT
UID:g9997@games.golnetwork.com
LOCATION:Monarch Park - Field 1
CREATED:20160802T152053Z
DTSTART:20160912T000000Z
DTEND:20160912T010000Z
DTSTAMP:20260422T210845Z
SUMMARY:XTSC Dream Killers vs. FC Hooligans
DESCRIPTION:FC Hooligans vs. XTSC Dream KillersPlus d'info : #444
X-ALT-DESC;FMTTYPE=text/html:<!DOCTYPE HTML PUBLIC "-//W3C//DTD HTML 3.2//E
	N">\n<HTML>\n<HEAD>\n<TITLE></TITLE>\n</HEAD>\n<BODY>\n<h3>FC Hooligans vs.
	 XTSC Dream Killers</h3>Plus d'info : <a href="https://www.golnetwork.com/g
	ame/v/90980/">#444</a>\n\n</BODY>\n</HTML>
STATUS:CONFIRMED
CLASS:PUBLIC
URL:https://www.golnetwork.com/game/v/90980/
X-MICROSOFT-CDO-BUSYSTATUS:BUSY
X-MICROSOFT-CDO-IMPORTANCE:1
END:VEVENT
BEGIN:VEVENT
UID:g999b@games.golnetwork.com
LOCATION:Monarch Park - Field 1
CREATED:20160802T152053Z
DTSTART:20160918T230000Z
DTEND:20160919T000000Z
DTSTAMP:20260422T210845Z
SUMMARY:Greybeards vs. FC Hooligans
DESCRIPTION:FC Hooligans vs. GreybeardsPlus d'info : #521
X-ALT-DESC;FMTTYPE=text/html:<!DOCTYPE HTML PUBLIC "-//W3C//DTD HTML 3.2//E
	N">\n<HTML>\n<HEAD>\n<TITLE></TITLE>\n</HEAD>\n<BODY>\n<h3>FC Hooligans vs.
	 Greybeards</h3>Plus d'info : <a href="https://www.golnetwork.com/game/v/90
	982/">#521</a>\n\n</BODY>\n</HTML>
STATUS:CONFIRMED
CLASS:PUBLIC
URL:https://www.golnetwork.com/game/v/90982/
X-MICROSOFT-CDO-BUSYSTATUS:BUSY
X-MICROSOFT-CDO-IMPORTANCE:1
END:VEVENT
BEGIN:VEVENT
UID:g999d@games.golnetwork.com
LOCATION:Monarch Park - Field 1
CREATED:20160802T152053Z
DTSTART:20160919T000000Z
DTEND:20160919T010000Z
DTSTAMP:20260422T210845Z
SUMMARY:XTSC Dream Killers vs. XTSC Born to be Wild
DESCRIPTION:XTSC Born to be Wild vs. XTSC Dream KillersPlus d'info : #526
X-ALT-DESC;FMTTYPE=text/html:<!DOCTYPE HTML PUBLIC "-//W3C//DTD HTML 3.2//E
	N">\n<HTML>\n<HEAD>\n<TITLE></TITLE>\n</HEAD>\n<BODY>\n<h3>XTSC Born to be 
	Wild vs. XTSC Dream Killers</h3>Plus d'info : <a href="https://www.golnetwo
	rk.com/game/v/90983/">#526</a>\n\n</BODY>\n</HTML>
STATUS:CONFIRMED
CLASS:PUBLIC
URL:https://www.golnetwork.com/game/v/90983/
X-MICROSOFT-CDO-BUSYSTATUS:BUSY
X-MICROSOFT-CDO-IMPORTANCE:1
END:VEVENT
BEGIN:VEVENT
UID:g999l@games.golnetwork.com
LOCATION:Monarch Park Stadium - Field 3
GEO:43.6792789;-79.3234873
CREATED:20160802T152053Z
DTSTART:20160926T000000Z
DTEND:20160926T010000Z
DTSTAMP:20260422T210845Z
SUMMARY: Special Olympiakos vs. XTSC Dream Killers
DESCRIPTION:XTSC Dream Killers vs.  Special OlympiakosPlus d'info : #579
X-ALT-DESC;FMTTYPE=text/html:<!DOCTYPE HTML PUBLIC "-//W3C//DTD HTML 3.2//E
	N">\n<HTML>\n<HEAD>\n<TITLE></TITLE>\n</HEAD>\n<BODY>\n<h3>XTSC Dream Kille
	rs vs.  Special Olympiakos</h3>Plus d'info : <a href="https://www.golnetwor
	k.com/game/v/90987/">#579</a>\n\n</BODY>\n</HTML>
STATUS:CONFIRMED
CLASS:PUBLIC
URL:https://www.golnetwork.com/game/v/90987/
X-MICROSOFT-CDO-BUSYSTATUS:BUSY
X-MICROSOFT-CDO-IMPORTANCE:1
END:VEVENT
BEGIN:VEVENT
UID:g999n@games.golnetwork.com
LOCATION:Monarch Park Stadium - Field 3
GEO:43.6792789;-79.3234873
CREATED:20160802T152053Z
DTSTART:20161002T230000Z
DTEND:20161003T000000Z
DTSTAMP:20260422T210845Z
SUMMARY:Greybeards vs. XTSC Dream Killers
DESCRIPTION:XTSC Dream Killers vs. GreybeardsPlus d'info : #629
X-ALT-DESC;FMTTYPE=text/html:<!DOCTYPE HTML PUBLIC "-//W3C//DTD HTML 3.2//E
	N">\n<HTML>\n<HEAD>\n<TITLE></TITLE>\n</HEAD>\n<BODY>\n<h3>XTSC Dream Kille
	rs vs. Greybeards</h3>Plus d'info : <a href="https://www.golnetwork.com/gam
	e/v/90988/">#629</a>\n\n</BODY>\n</HTML>
STATUS:CONFIRMED
CLASS:PUBLIC
URL:https://www.golnetwork.com/game/v/90988/
X-MICROSOFT-CDO-BUSYSTATUS:BUSY
X-MICROSOFT-CDO-IMPORTANCE:1
END:VEVENT
BEGIN:VEVENT
UID:g9a6d@games.golnetwork.com
LOCATION:Monarch Park Stadium - Field 2
GEO:43.6792789;-79.3234873
CREATED:20160808T200610Z
DTSTART:20161003T000000Z
DTEND:20161003T005500Z
DTSTAMP:20260422T210845Z
SUMMARY:Greybeards vs.  Special Olympiakos
DESCRIPTION: Special Olympiakos vs. GreybeardsPlus d'info : #633
X-ALT-DESC;FMTTYPE=text/html:<!DOCTYPE HTML PUBLIC "-//W3C//DTD HTML 3.2//E
	N">\n<HTML>\n<HEAD>\n<TITLE></TITLE>\n</HEAD>\n<BODY>\n<h3> Special Olympia
	kos vs. Greybeards</h3>Plus d'info : <a href="https://www.golnetwork.com/ga
	me/v/91307/">#633</a>\n\n</BODY>\n</HTML>
STATUS:CONFIRMED
CLASS:PUBLIC
URL:https://www.golnetwork.com/game/v/91307/
X-MICROSOFT-CDO-BUSYSTATUS:BUSY
X-MICROSOFT-CDO-IMPORTANCE:1
END:VEVENT
END:VCALENDAR
