BEGIN:VCALENDAR
PRODID:-//gdesolutions.com//MV Framework 1.0.0.1607 Calendar//EN
VERSION:2.0
METHOD:PUBLISH
CALSCALE:GREGORIAN
BEGIN:VEVENT
UID:g9a8h@games.golnetwork.com
LOCATION:Jesse Ketchum 1
GEO:45.10662;-94.578209
CREATED:20160809T162521Z
DTSTART:20160816T233000Z
DTEND:20160817T003000Z
DTSTAMP:20260421T065449Z
SUMMARY:UnbelievaBALL vs. IWP
DESCRIPTION:IWP vs. UnbelievaBALLPlus d'info : #3
X-ALT-DESC;FMTTYPE=text/html:<!DOCTYPE HTML PUBLIC "-//W3C//DTD HTML 3.2//E
	N">\n<HTML>\n<HEAD>\n<TITLE></TITLE>\n</HEAD>\n<BODY>\n<h3>IWP vs. Unbeliev
	aBALL</h3>Plus d'info : <a href="https://www.golnetwork.com/game/v/91336/">
	#3</a>\n\n</BODY>\n</HTML>
STATUS:CONFIRMED
CLASS:PUBLIC
URL:https://www.golnetwork.com/game/v/91336/
X-MICROSOFT-CDO-BUSYSTATUS:BUSY
X-MICROSOFT-CDO-IMPORTANCE:1
END:VEVENT
BEGIN:VEVENT
UID:g9a8j@games.golnetwork.com
LOCATION:Jesse Ketchum 2
GEO:45.10662;-94.578209
CREATED:20160809T162531Z
DTSTART:20160816T233000Z
DTEND:20160817T003000Z
DTSTAMP:20260421T065449Z
SUMMARY:Misfires vs. Bay Street United
DESCRIPTION:Bay Street United vs. MisfiresPlus d'info : #4
X-ALT-DESC;FMTTYPE=text/html:<!DOCTYPE HTML PUBLIC "-//W3C//DTD HTML 3.2//E
	N">\n<HTML>\n<HEAD>\n<TITLE></TITLE>\n</HEAD>\n<BODY>\n<h3>Bay Street Unite
	d vs. Misfires</h3>Plus d'info : <a href="https://www.golnetwork.com/game/v
	/91337/">#4</a>\n\n</BODY>\n</HTML>
STATUS:CONFIRMED
CLASS:PUBLIC
URL:https://www.golnetwork.com/game/v/91337/
X-MICROSOFT-CDO-BUSYSTATUS:BUSY
X-MICROSOFT-CDO-IMPORTANCE:1
END:VEVENT
BEGIN:VEVENT
UID:g9a8l@games.golnetwork.com
LOCATION:Jesse Ketchum 1
GEO:45.10662;-94.578209
CREATED:20160809T162545Z
DTSTART:20160823T221500Z
DTEND:20160823T231500Z
DTSTAMP:20260421T065449Z
SUMMARY:IWP vs. Return to the Ravens
DESCRIPTION:Return to the Ravens vs. IWPPlus d'info : #9
X-ALT-DESC;FMTTYPE=text/html:<!DOCTYPE HTML PUBLIC "-//W3C//DTD HTML 3.2//E
	N">\n<HTML>\n<HEAD>\n<TITLE></TITLE>\n</HEAD>\n<BODY>\n<h3>Return to the Ra
	vens vs. IWP</h3>Plus d'info : <a href="https://www.golnetwork.com/game/v/9
	1338/">#9</a>\n\n</BODY>\n</HTML>
STATUS:CONFIRMED
CLASS:PUBLIC
URL:https://www.golnetwork.com/game/v/91338/
X-MICROSOFT-CDO-BUSYSTATUS:BUSY
X-MICROSOFT-CDO-IMPORTANCE:1
END:VEVENT
BEGIN:VEVENT
UID:g9a8n@games.golnetwork.com
LOCATION:Jesse Ketchum 2
GEO:45.10662;-94.578209
CREATED:20160809T162556Z
DTSTART:20160823T221500Z
DTEND:20160823T231500Z
DTSTAMP:20260421T065449Z
SUMMARY:Features United vs. Bay Street United
DESCRIPTION:Bay Street United vs. Features UnitedPlus d'info : #10
X-ALT-DESC;FMTTYPE=text/html:<!DOCTYPE HTML PUBLIC "-//W3C//DTD HTML 3.2//E
	N">\n<HTML>\n<HEAD>\n<TITLE></TITLE>\n</HEAD>\n<BODY>\n<h3>Bay Street Unite
	d vs. Features United</h3>Plus d'info : <a href="https://www.golnetwork.com
	/game/v/91339/">#10</a>\n\n</BODY>\n</HTML>
STATUS:CONFIRMED
CLASS:PUBLIC
URL:https://www.golnetwork.com/game/v/91339/
X-MICROSOFT-CDO-BUSYSTATUS:BUSY
X-MICROSOFT-CDO-IMPORTANCE:1
END:VEVENT
BEGIN:VEVENT
UID:g9a8p@games.golnetwork.com
LOCATION:Jesse Ketchum 1
GEO:45.10662;-94.578209
CREATED:20160809T162610Z
DTSTART:20160823T231500Z
DTEND:20160824T001500Z
DTSTAMP:20260421T065449Z
SUMMARY:UnbelievaBALL vs. Misfires
DESCRIPTION:Misfires vs. UnbelievaBALLPlus d'info : #11
X-ALT-DESC;FMTTYPE=text/html:<!DOCTYPE HTML PUBLIC "-//W3C//DTD HTML 3.2//E
	N">\n<HTML>\n<HEAD>\n<TITLE></TITLE>\n</HEAD>\n<BODY>\n<h3>Misfires vs. Unb
	elievaBALL</h3>Plus d'info : <a href="https://www.golnetwork.com/game/v/913
	40/">#11</a>\n\n</BODY>\n</HTML>
STATUS:CONFIRMED
CLASS:PUBLIC
URL:https://www.golnetwork.com/game/v/91340/
X-MICROSOFT-CDO-BUSYSTATUS:BUSY
X-MICROSOFT-CDO-IMPORTANCE:1
END:VEVENT
BEGIN:VEVENT
UID:g9a98@games.golnetwork.com
LOCATION:Jesse Ketchum 2
GEO:45.10662;-94.578209
CREATED:20160809T162710Z
DTSTART:20160823T231500Z
DTEND:20160824T001500Z
DTSTAMP:20260421T065449Z
SUMMARY:IWP vs. Bay Street United
DESCRIPTION:Bay Street United vs. IWPPlus d'info : #12
X-ALT-DESC;FMTTYPE=text/html:<!DOCTYPE HTML PUBLIC "-//W3C//DTD HTML 3.2//E
	N">\n<HTML>\n<HEAD>\n<TITLE></TITLE>\n</HEAD>\n<BODY>\n<h3>Bay Street Unite
	d vs. IWP</h3>Plus d'info : <a href="https://www.golnetwork.com/game/v/9134
	5/">#12</a>\n\n</BODY>\n</HTML>
STATUS:CONFIRMED
CLASS:PUBLIC
URL:https://www.golnetwork.com/game/v/91345/
X-MICROSOFT-CDO-BUSYSTATUS:BUSY
X-MICROSOFT-CDO-IMPORTANCE:1
END:VEVENT
BEGIN:VEVENT
UID:g9a96@games.golnetwork.com
LOCATION:Jesse Ketchum 1
GEO:45.10662;-94.578209
CREATED:20160809T162701Z
DTSTART:20160830T220000Z
DTEND:20160830T230000Z
DTSTAMP:20260421T065449Z
SUMMARY:Features United vs. UnbelievaBALL
DESCRIPTION:UnbelievaBALL vs. Features UnitedPlus d'info : #17
X-ALT-DESC;FMTTYPE=text/html:<!DOCTYPE HTML PUBLIC "-//W3C//DTD HTML 3.2//E
	N">\n<HTML>\n<HEAD>\n<TITLE></TITLE>\n</HEAD>\n<BODY>\n<h3>UnbelievaBALL vs
	. Features United</h3>Plus d'info : <a href="https://www.golnetwork.com/gam
	e/v/91344/">#17</a>\n\n</BODY>\n</HTML>
STATUS:CONFIRMED
CLASS:PUBLIC
URL:https://www.golnetwork.com/game/v/91344/
X-MICROSOFT-CDO-BUSYSTATUS:BUSY
X-MICROSOFT-CDO-IMPORTANCE:1
END:VEVENT
BEGIN:VEVENT
UID:g9a94@games.golnetwork.com
LOCATION:Jesse Ketchum 2
GEO:45.10662;-94.578209
CREATED:20160809T162650Z
DTSTART:20160830T220000Z
DTEND:20160830T230000Z
DTSTAMP:20260421T065449Z
SUMMARY:Bay Street United vs. Return to the Ravens
DESCRIPTION:Return to the Ravens vs. Bay Street UnitedPlus d'info : #18
X-ALT-DESC;FMTTYPE=text/html:<!DOCTYPE HTML PUBLIC "-//W3C//DTD HTML 3.2//E
	N">\n<HTML>\n<HEAD>\n<TITLE></TITLE>\n</HEAD>\n<BODY>\n<h3>Return to the Ra
	vens vs. Bay Street United</h3>Plus d'info : <a href="https://www.golnetwor
	k.com/game/v/91343/">#18</a>\n\n</BODY>\n</HTML>
STATUS:CONFIRMED
CLASS:PUBLIC
URL:https://www.golnetwork.com/game/v/91343/
X-MICROSOFT-CDO-BUSYSTATUS:BUSY
X-MICROSOFT-CDO-IMPORTANCE:1
END:VEVENT
BEGIN:VEVENT
UID:g9a92@games.golnetwork.com
LOCATION:Jesse Ketchum 1
GEO:45.10662;-94.578209
CREATED:20160809T162640Z
DTSTART:20160830T230000Z
DTEND:20160831T000000Z
DTSTAMP:20260421T065449Z
SUMMARY:Misfires vs. IWP
DESCRIPTION:IWP vs. MisfiresPlus d'info : #19
X-ALT-DESC;FMTTYPE=text/html:<!DOCTYPE HTML PUBLIC "-//W3C//DTD HTML 3.2//E
	N">\n<HTML>\n<HEAD>\n<TITLE></TITLE>\n</HEAD>\n<BODY>\n<h3>IWP vs. Misfires
	</h3>Plus d'info : <a href="https://www.golnetwork.com/game/v/91342/">#19</
	a>\n\n</BODY>\n</HTML>
STATUS:CONFIRMED
CLASS:PUBLIC
URL:https://www.golnetwork.com/game/v/91342/
X-MICROSOFT-CDO-BUSYSTATUS:BUSY
X-MICROSOFT-CDO-IMPORTANCE:1
END:VEVENT
BEGIN:VEVENT
UID:g9a90@games.golnetwork.com
LOCATION:Jesse Ketchum 2
GEO:45.10662;-94.578209
CREATED:20160809T162620Z
DTSTART:20160830T230000Z
DTEND:20160831T000000Z
DTSTAMP:20260421T065449Z
SUMMARY:Features United vs. Return to the Ravens
DESCRIPTION:Return to the Ravens vs. Features UnitedPlus d'info : #20
X-ALT-DESC;FMTTYPE=text/html:<!DOCTYPE HTML PUBLIC "-//W3C//DTD HTML 3.2//E
	N">\n<HTML>\n<HEAD>\n<TITLE></TITLE>\n</HEAD>\n<BODY>\n<h3>Return to the Ra
	vens vs. Features United</h3>Plus d'info : <a href="https://www.golnetwork.
	com/game/v/91341/">#20</a>\n\n</BODY>\n</HTML>
STATUS:CONFIRMED
CLASS:PUBLIC
URL:https://www.golnetwork.com/game/v/91341/
X-MICROSOFT-CDO-BUSYSTATUS:BUSY
X-MICROSOFT-CDO-IMPORTANCE:1
END:VEVENT
BEGIN:VEVENT
UID:g9a9a@games.golnetwork.com
LOCATION:Jesse Ketchum 1
GEO:45.10662;-94.578209
CREATED:20160809T162729Z
DTSTART:20160906T223000Z
DTEND:20160906T233000Z
DTSTAMP:20260421T065449Z
SUMMARY:Features United vs. Misfires
DESCRIPTION:Misfires vs. Features UnitedPlus d'info : #23
X-ALT-DESC;FMTTYPE=text/html:<!DOCTYPE HTML PUBLIC "-//W3C//DTD HTML 3.2//E
	N">\n<HTML>\n<HEAD>\n<TITLE></TITLE>\n</HEAD>\n<BODY>\n<h3>Misfires vs. Fea
	tures United</h3>Plus d'info : <a href="https://www.golnetwork.com/game/v/9
	1346/">#23</a>\n\n</BODY>\n</HTML>
STATUS:CONFIRMED
CLASS:PUBLIC
URL:https://www.golnetwork.com/game/v/91346/
X-MICROSOFT-CDO-BUSYSTATUS:BUSY
X-MICROSOFT-CDO-IMPORTANCE:1
END:VEVENT
BEGIN:VEVENT
UID:g9a9c@games.golnetwork.com
LOCATION:Jesse Ketchum 2
GEO:45.10662;-94.578209
CREATED:20160809T162739Z
DTSTART:20160906T223000Z
DTEND:20160906T233000Z
DTSTAMP:20260421T065449Z
SUMMARY:UnbelievaBALL vs. Return to the Ravens
DESCRIPTION:Return to the Ravens vs. UnbelievaBALLPlus d'info : #24
X-ALT-DESC;FMTTYPE=text/html:<!DOCTYPE HTML PUBLIC "-//W3C//DTD HTML 3.2//E
	N">\n<HTML>\n<HEAD>\n<TITLE></TITLE>\n</HEAD>\n<BODY>\n<h3>Return to the Ra
	vens vs. UnbelievaBALL</h3>Plus d'info : <a href="https://www.golnetwork.co
	m/game/v/91347/">#24</a>\n\n</BODY>\n</HTML>
STATUS:CONFIRMED
CLASS:PUBLIC
URL:https://www.golnetwork.com/game/v/91347/
X-MICROSOFT-CDO-BUSYSTATUS:BUSY
X-MICROSOFT-CDO-IMPORTANCE:1
END:VEVENT
BEGIN:VEVENT
UID:g9a9e@games.golnetwork.com
LOCATION:Jesse Ketchum 1
GEO:45.10662;-94.578209
CREATED:20160809T162758Z
DTSTART:20160913T223000Z
DTEND:20160913T233000Z
DTSTAMP:20260421T065449Z
SUMMARY:Bay Street United vs. UnbelievaBALL
DESCRIPTION:UnbelievaBALL vs. Bay Street UnitedPlus d'info : #27
X-ALT-DESC;FMTTYPE=text/html:<!DOCTYPE HTML PUBLIC "-//W3C//DTD HTML 3.2//E
	N">\n<HTML>\n<HEAD>\n<TITLE></TITLE>\n</HEAD>\n<BODY>\n<h3>UnbelievaBALL vs
	. Bay Street United</h3>Plus d'info : <a href="https://www.golnetwork.com/g
	ame/v/91348/">#27</a>\n\n</BODY>\n</HTML>
STATUS:CONFIRMED
CLASS:PUBLIC
URL:https://www.golnetwork.com/game/v/91348/
X-MICROSOFT-CDO-BUSYSTATUS:BUSY
X-MICROSOFT-CDO-IMPORTANCE:1
END:VEVENT
BEGIN:VEVENT
UID:g9a9g@games.golnetwork.com
LOCATION:Jesse Ketchum 2
GEO:45.10662;-94.578209
CREATED:20160809T162809Z
DTSTART:20160913T223000Z
DTEND:20160913T233000Z
DTSTAMP:20260421T065449Z
SUMMARY:Return to the Ravens vs. Misfires
DESCRIPTION:Misfires vs. Return to the RavensPlus d'info : #28
X-ALT-DESC;FMTTYPE=text/html:<!DOCTYPE HTML PUBLIC "-//W3C//DTD HTML 3.2//E
	N">\n<HTML>\n<HEAD>\n<TITLE></TITLE>\n</HEAD>\n<BODY>\n<h3>Misfires vs. Ret
	urn to the Ravens</h3>Plus d'info : <a href="https://www.golnetwork.com/gam
	e/v/91349/">#28</a>\n\n</BODY>\n</HTML>
STATUS:CONFIRMED
CLASS:PUBLIC
URL:https://www.golnetwork.com/game/v/91349/
X-MICROSOFT-CDO-BUSYSTATUS:BUSY
X-MICROSOFT-CDO-IMPORTANCE:1
END:VEVENT
BEGIN:VEVENT
UID:g9a9k@games.golnetwork.com
LOCATION:Jesse Ketchum 1
GEO:45.10662;-94.578209
CREATED:20160809T163305Z
DTSTART:20160920T221500Z
DTEND:20160920T231500Z
DTSTAMP:20260421T065449Z
SUMMARY:Misfires vs. Bay Street United
DESCRIPTION:Bay Street United vs. MisfiresPlus d'info : #31
X-ALT-DESC;FMTTYPE=text/html:<!DOCTYPE HTML PUBLIC "-//W3C//DTD HTML 3.2//E
	N">\n<HTML>\n<HEAD>\n<TITLE></TITLE>\n</HEAD>\n<BODY>\n<h3>Bay Street Unite
	d vs. Misfires</h3>Plus d'info : <a href="https://www.golnetwork.com/game/v
	/91351/">#31</a>\n\n</BODY>\n</HTML>
STATUS:CONFIRMED
CLASS:PUBLIC
URL:https://www.golnetwork.com/game/v/91351/
X-MICROSOFT-CDO-BUSYSTATUS:BUSY
X-MICROSOFT-CDO-IMPORTANCE:1
END:VEVENT
BEGIN:VEVENT
UID:g9a9i@games.golnetwork.com
LOCATION:Jesse Ketchum 2
GEO:45.10662;-94.578209
CREATED:20160809T163249Z
DTSTART:20160920T221500Z
DTEND:20160920T231500Z
DTSTAMP:20260421T065449Z
SUMMARY:IWP vs. Features United
DESCRIPTION:Features United vs. IWPPlus d'info : #32
X-ALT-DESC;FMTTYPE=text/html:<!DOCTYPE HTML PUBLIC "-//W3C//DTD HTML 3.2//E
	N">\n<HTML>\n<HEAD>\n<TITLE></TITLE>\n</HEAD>\n<BODY>\n<h3>Features United 
	vs. IWP</h3>Plus d'info : <a href="https://www.golnetwork.com/game/v/91350/
	">#32</a>\n\n</BODY>\n</HTML>
STATUS:CONFIRMED
CLASS:PUBLIC
URL:https://www.golnetwork.com/game/v/91350/
X-MICROSOFT-CDO-BUSYSTATUS:BUSY
X-MICROSOFT-CDO-IMPORTANCE:1
END:VEVENT
BEGIN:VEVENT
UID:g9a9m@games.golnetwork.com
LOCATION:Jesse Ketchum 1
GEO:45.10662;-94.578209
CREATED:20160809T163319Z
DTSTART:20160927T220000Z
DTEND:20160927T230000Z
DTSTAMP:20260421T065449Z
SUMMARY:Features United vs. Return to the Ravens
DESCRIPTION:Return to the Ravens vs. Features UnitedPlus d'info : #43
X-ALT-DESC;FMTTYPE=text/html:<!DOCTYPE HTML PUBLIC "-//W3C//DTD HTML 3.2//E
	N">\n<HTML>\n<HEAD>\n<TITLE></TITLE>\n</HEAD>\n<BODY>\n<h3>Return to the Ra
	vens vs. Features United</h3>Plus d'info : <a href="https://www.golnetwork.
	com/game/v/91352/">#43</a>\n\n</BODY>\n</HTML>
STATUS:CONFIRMED
CLASS:PUBLIC
URL:https://www.golnetwork.com/game/v/91352/
X-MICROSOFT-CDO-BUSYSTATUS:BUSY
X-MICROSOFT-CDO-IMPORTANCE:1
END:VEVENT
BEGIN:VEVENT
UID:g9a9o@games.golnetwork.com
LOCATION:Jesse Ketchum 2
GEO:45.10662;-94.578209
CREATED:20160809T163329Z
DTSTART:20160927T220000Z
DTEND:20160927T230000Z
DTSTAMP:20260421T065449Z
SUMMARY:UnbelievaBALL vs. IWP
DESCRIPTION:IWP vs. UnbelievaBALLPlus d'info : #44
X-ALT-DESC;FMTTYPE=text/html:<!DOCTYPE HTML PUBLIC "-//W3C//DTD HTML 3.2//E
	N">\n<HTML>\n<HEAD>\n<TITLE></TITLE>\n</HEAD>\n<BODY>\n<h3>IWP vs. Unbeliev
	aBALL</h3>Plus d'info : <a href="https://www.golnetwork.com/game/v/91353/">
	#44</a>\n\n</BODY>\n</HTML>
STATUS:CONFIRMED
CLASS:PUBLIC
URL:https://www.golnetwork.com/game/v/91353/
X-MICROSOFT-CDO-BUSYSTATUS:BUSY
X-MICROSOFT-CDO-IMPORTANCE:1
END:VEVENT
BEGIN:VEVENT
UID:g9aa1@games.golnetwork.com
LOCATION:Jesse Ketchum 1
GEO:45.10662;-94.578209
CREATED:20160809T163341Z
DTSTART:20161011T220000Z
DTEND:20161011T230000Z
DTSTAMP:20260421T065449Z
SUMMARY:Misfires vs. IWP
DESCRIPTION:IWP vs. MisfiresPlus d'info : #66
X-ALT-DESC;FMTTYPE=text/html:<!DOCTYPE HTML PUBLIC "-//W3C//DTD HTML 3.2//E
	N">\n<HTML>\n<HEAD>\n<TITLE></TITLE>\n</HEAD>\n<BODY>\n<h3>IWP vs. Misfires
	</h3>Plus d'info : <a href="https://www.golnetwork.com/game/v/91355/">#66</
	a>\n\n</BODY>\n</HTML>
STATUS:CONFIRMED
CLASS:PUBLIC
URL:https://www.golnetwork.com/game/v/91355/
X-MICROSOFT-CDO-BUSYSTATUS:BUSY
X-MICROSOFT-CDO-IMPORTANCE:1
END:VEVENT
BEGIN:VEVENT
UID:g9a9q@games.golnetwork.com
LOCATION:Jesse Ketchum 2
GEO:45.10662;-94.578209
CREATED:20160809T163337Z
DTSTART:20161011T220000Z
DTEND:20161011T230000Z
DTSTAMP:20260421T065449Z
SUMMARY:Bay Street United vs. Features United
DESCRIPTION:Features United vs. Bay Street UnitedPlus d'info : #67
X-ALT-DESC;FMTTYPE=text/html:<!DOCTYPE HTML PUBLIC "-//W3C//DTD HTML 3.2//E
	N">\n<HTML>\n<HEAD>\n<TITLE></TITLE>\n</HEAD>\n<BODY>\n<h3>Features United 
	vs. Bay Street United</h3>Plus d'info : <a href="https://www.golnetwork.com
	/game/v/91354/">#67</a>\n\n</BODY>\n</HTML>
STATUS:CONFIRMED
CLASS:PUBLIC
URL:https://www.golnetwork.com/game/v/91354/
X-MICROSOFT-CDO-BUSYSTATUS:BUSY
X-MICROSOFT-CDO-IMPORTANCE:1
END:VEVENT
BEGIN:VEVENT
UID:g9aa3@games.golnetwork.com
LOCATION:Jesse Ketchum 2
GEO:45.10662;-94.578209
CREATED:20160809T163350Z
DTSTART:20161018T220000Z
DTEND:20161018T230000Z
DTSTAMP:20260421T065449Z
SUMMARY:Features United vs. IWP
DESCRIPTION:IWP vs. Features UnitedPlus d'info : #85
X-ALT-DESC;FMTTYPE=text/html:<!DOCTYPE HTML PUBLIC "-//W3C//DTD HTML 3.2//E
	N">\n<HTML>\n<HEAD>\n<TITLE></TITLE>\n</HEAD>\n<BODY>\n<h3>IWP vs. Features
	 United</h3>Plus d'info : <a href="https://www.golnetwork.com/game/v/91356/
	">#85</a>\n\n</BODY>\n</HTML>
STATUS:CONFIRMED
CLASS:PUBLIC
URL:https://www.golnetwork.com/game/v/91356/
X-MICROSOFT-CDO-BUSYSTATUS:BUSY
X-MICROSOFT-CDO-IMPORTANCE:1
END:VEVENT
END:VCALENDAR
