BEGIN:VCALENDAR
PRODID:-//gdesolutions.com//MV Framework 1.0.0.1607 Calendar//EN
VERSION:2.0
METHOD:PUBLISH
CALSCALE:GREGORIAN
BEGIN:VEVENT
UID:ga2d9@games.golnetwork.com
LOCATION:Louis Riel #1
GEO:45.4410208;-75.5715394
CREATED:20161109T171327Z
DTSTART:20161113T230000Z
DTEND:20161114T000000Z
DTSTAMP:20260422T135736Z
SUMMARY:Int Individuals vs. Liquorpool FC
DESCRIPTION:Liquorpool FC vs. Int IndividualsPlus d'info : #71
X-ALT-DESC;FMTTYPE=text/html:<!DOCTYPE HTML PUBLIC "-//W3C//DTD HTML 3.2//E
	N">\n<HTML>\n<HEAD>\n<TITLE></TITLE>\n</HEAD>\n<BODY>\n<h3>Liquorpool FC vs
	. Int Individuals</h3>Plus d'info : <a href="https://www.golnetwork.com/gam
	e/v/98325/">#71</a>\n\n</BODY>\n</HTML>
STATUS:CONFIRMED
CLASS:PUBLIC
URL:https://www.golnetwork.com/game/v/98325/
X-MICROSOFT-CDO-BUSYSTATUS:BUSY
X-MICROSOFT-CDO-IMPORTANCE:1
END:VEVENT
BEGIN:VEVENT
UID:ga2d7@games.golnetwork.com
LOCATION:Ben Franklin Dome Field 2
GEO:45.3235661;-75.7751222
CREATED:20161109T171259Z
DTSTART:20161114T020000Z
DTEND:20161114T030000Z
DTSTAMP:20260422T135736Z
SUMMARY:Goalfinger vs. Redbulls FC
DESCRIPTION:Redbulls FC vs. GoalfingerPlus d'info : #72
X-ALT-DESC;FMTTYPE=text/html:<!DOCTYPE HTML PUBLIC "-//W3C//DTD HTML 3.2//E
	N">\n<HTML>\n<HEAD>\n<TITLE></TITLE>\n</HEAD>\n<BODY>\n<h3>Redbulls FC vs. 
	Goalfinger</h3>Plus d'info : <a href="https://www.golnetwork.com/game/v/983
	24/">#72</a>\n\n</BODY>\n</HTML>
STATUS:CONFIRMED
CLASS:PUBLIC
URL:https://www.golnetwork.com/game/v/98324/
X-MICROSOFT-CDO-BUSYSTATUS:BUSY
X-MICROSOFT-CDO-IMPORTANCE:1
END:VEVENT
BEGIN:VEVENT
UID:ga3dm@games.golnetwork.com
LOCATION:Louis Riel #1
GEO:45.4410208;-75.5715394
CREATED:20161118T095502Z
DTSTART:20161120T190000Z
DTEND:20161120T200000Z
DTSTAMP:20260422T135736Z
SUMMARY:Spartans FC vs. Int Individuals
DESCRIPTION:Int Individuals vs. Spartans FCPlus d'info : #75
X-ALT-DESC;FMTTYPE=text/html:<!DOCTYPE HTML PUBLIC "-//W3C//DTD HTML 3.2//E
	N">\n<HTML>\n<HEAD>\n<TITLE></TITLE>\n</HEAD>\n<BODY>\n<h3>Int Individuals 
	vs. Spartans FC</h3>Plus d'info : <a href="https://www.golnetwork.com/game/
	v/98696/">#75</a>\n\n</BODY>\n</HTML>
STATUS:CONFIRMED
CLASS:PUBLIC
URL:https://www.golnetwork.com/game/v/98696/
X-MICROSOFT-CDO-BUSYSTATUS:BUSY
X-MICROSOFT-CDO-IMPORTANCE:1
END:VEVENT
BEGIN:VEVENT
UID:ga3di@games.golnetwork.com
LOCATION:Ben Franklin Dome Field 2
GEO:45.3235661;-75.7751222
CREATED:20161118T095302Z
DTSTART:20161121T020000Z
DTEND:20161121T030000Z
DTSTAMP:20260422T135736Z
SUMMARY:Goalfinger vs. Real Ale Madrid
DESCRIPTION:Real Ale Madrid vs. GoalfingerPlus d'info : #80
X-ALT-DESC;FMTTYPE=text/html:<!DOCTYPE HTML PUBLIC "-//W3C//DTD HTML 3.2//E
	N">\n<HTML>\n<HEAD>\n<TITLE></TITLE>\n</HEAD>\n<BODY>\n<h3>Real Ale Madrid 
	vs. Goalfinger</h3>Plus d'info : <a href="https://www.golnetwork.com/game/v
	/98694/">#80</a>\n\n</BODY>\n</HTML>
STATUS:CONFIRMED
CLASS:PUBLIC
URL:https://www.golnetwork.com/game/v/98694/
X-MICROSOFT-CDO-BUSYSTATUS:BUSY
X-MICROSOFT-CDO-IMPORTANCE:1
END:VEVENT
BEGIN:VEVENT
UID:ga3dk@games.golnetwork.com
LOCATION:Ben Franklin Dome Field 3
GEO:45.10662;-94.578209
CREATED:20161118T095441Z
DTSTART:20161121T023000Z
DTEND:20161121T033000Z
DTSTAMP:20260422T135736Z
SUMMARY:Liquorpool FC vs. Redbulls FC
DESCRIPTION:Redbulls FC vs. Liquorpool FCPlus d'info : #82
X-ALT-DESC;FMTTYPE=text/html:<!DOCTYPE HTML PUBLIC "-//W3C//DTD HTML 3.2//E
	N">\n<HTML>\n<HEAD>\n<TITLE></TITLE>\n</HEAD>\n<BODY>\n<h3>Redbulls FC vs. 
	Liquorpool FC</h3>Plus d'info : <a href="https://www.golnetwork.com/game/v/
	98695/">#82</a>\n\n</BODY>\n</HTML>
STATUS:CONFIRMED
CLASS:PUBLIC
URL:https://www.golnetwork.com/game/v/98695/
X-MICROSOFT-CDO-BUSYSTATUS:BUSY
X-MICROSOFT-CDO-IMPORTANCE:1
END:VEVENT
BEGIN:VEVENT
UID:ga3jq@games.golnetwork.com
LOCATION:Louis Riel #3
GEO:45.4410208;-75.5715394
CREATED:20161124T210406Z
DTSTART:20161127T200000Z
DTEND:20161127T210000Z
DTSTAMP:20260422T135736Z
SUMMARY:Real Ale Madrid vs. Int Individuals
DESCRIPTION:Int Individuals vs. Real Ale MadridPlus d'info : #87
X-ALT-DESC;FMTTYPE=text/html:<!DOCTYPE HTML PUBLIC "-//W3C//DTD HTML 3.2//E
	N">\n<HTML>\n<HEAD>\n<TITLE></TITLE>\n</HEAD>\n<BODY>\n<h3>Int Individuals 
	vs. Real Ale Madrid</h3>Plus d'info : <a href="https://www.golnetwork.com/g
	ame/v/98779/">#87</a>\n\n</BODY>\n</HTML>
STATUS:CONFIRMED
CLASS:PUBLIC
URL:https://www.golnetwork.com/game/v/98779/
X-MICROSOFT-CDO-BUSYSTATUS:BUSY
X-MICROSOFT-CDO-IMPORTANCE:1
END:VEVENT
END:VCALENDAR
