BEGIN:VCALENDAR
PRODID:-//gdesolutions.com//MV Framework 1.0.0.1607 Calendar//EN
VERSION:2.0
METHOD:PUBLISH
CALSCALE:GREGORIAN
BEGIN:VEVENT
UID:ga1p6@games.golnetwork.com
LOCATION:Mac Gym
CREATED:20161107T220612Z
DTSTART:20161129T001500Z
DTEND:20161129T011500Z
DTSTAMP:20260423T022308Z
SUMMARY:Kung-Fu Pandas vs. How I set your mother
DESCRIPTION:How I set your mother vs. Kung-Fu PandasPlus d'info : #29
X-ALT-DESC;FMTTYPE=text/html:<!DOCTYPE HTML PUBLIC "-//W3C//DTD HTML 3.2//E
	N">\n<HTML>\n<HEAD>\n<TITLE></TITLE>\n</HEAD>\n<BODY>\n<h3>How I set your m
	other vs. Kung-Fu Pandas</h3>Plus d'info : <a href="https://www.golnetwork.
	com/game/v/98121/">#29</a>\n\n</BODY>\n</HTML>
STATUS:CONFIRMED
CLASS:PUBLIC
URL:https://www.golnetwork.com/game/v/98121/
X-MICROSOFT-CDO-BUSYSTATUS:BUSY
X-MICROSOFT-CDO-IMPORTANCE:1
END:VEVENT
BEGIN:VEVENT
UID:ga1p4@games.golnetwork.com
LOCATION:Mac Gym
CREATED:20161107T220612Z
DTSTART:20161201T010000Z
DTEND:20161201T020000Z
DTSTAMP:20260423T022308Z
SUMMARY:Team Miller vs. Les Rosseux
DESCRIPTION:Les Rosseux vs. Team MillerPlus d'info : #30
X-ALT-DESC;FMTTYPE=text/html:<!DOCTYPE HTML PUBLIC "-//W3C//DTD HTML 3.2//E
	N">\n<HTML>\n<HEAD>\n<TITLE></TITLE>\n</HEAD>\n<BODY>\n<h3>Les Rosseux vs. 
	Team Miller</h3>Plus d'info : <a href="https://www.golnetwork.com/game/v/98
	120/">#30</a>\n\n</BODY>\n</HTML>
STATUS:CONFIRMED
CLASS:PUBLIC
URL:https://www.golnetwork.com/game/v/98120/
X-MICROSOFT-CDO-BUSYSTATUS:BUSY
X-MICROSOFT-CDO-IMPORTANCE:1
END:VEVENT
BEGIN:VEVENT
UID:ga1p8@games.golnetwork.com
LOCATION:Mac Gym
CREATED:20161107T220612Z
DTSTART:20161201T023000Z
DTEND:20161201T033000Z
DTSTAMP:20260423T022308Z
SUMMARY:Kung-Fu Pandas vs. Team Miller
DESCRIPTION:Team Miller vs. Kung-Fu PandasPlus d'info : #31
X-ALT-DESC;FMTTYPE=text/html:<!DOCTYPE HTML PUBLIC "-//W3C//DTD HTML 3.2//E
	N">\n<HTML>\n<HEAD>\n<TITLE></TITLE>\n</HEAD>\n<BODY>\n<h3>Team Miller vs. 
	Kung-Fu Pandas</h3>Plus d'info : <a href="https://www.golnetwork.com/game/v
	/98122/">#31</a>\n\n</BODY>\n</HTML>
STATUS:CONFIRMED
CLASS:PUBLIC
URL:https://www.golnetwork.com/game/v/98122/
X-MICROSOFT-CDO-BUSYSTATUS:BUSY
X-MICROSOFT-CDO-IMPORTANCE:1
END:VEVENT
END:VCALENDAR
