BEGIN:VCALENDAR
PRODID:-//gdesolutions.com//MV Framework 1.0.0.1607 Calendar//EN
VERSION:2.0
METHOD:PUBLISH
CALSCALE:GREGORIAN
BEGIN:VEVENT
UID:g9hm0@games.golnetwork.com
LOCATION:Scarborough Metro Dome Field 4
CREATED:20160927T160758Z
DTSTART:20161005T230000Z
DTEND:20161006T000000Z
DTSTAMP:20260421T070501Z
SUMMARY:Spartans FC vs. Wexford SB FC
DESCRIPTION:Wexford SB FC vs. Spartans FCPlus d'info : #3
X-ALT-DESC;FMTTYPE=text/html:<!DOCTYPE HTML PUBLIC "-//W3C//DTD HTML 3.2//E
	N">\n<HTML>\n<HEAD>\n<TITLE></TITLE>\n</HEAD>\n<BODY>\n<h3>Wexford SB FC vs
	. Spartans FC</h3>Plus d'info : <a href="https://www.golnetwork.com/game/v/
	94068/">#3</a>\n\n</BODY>\n</HTML>
STATUS:CONFIRMED
CLASS:PUBLIC
URL:https://www.golnetwork.com/game/v/94068/
X-MICROSOFT-CDO-BUSYSTATUS:BUSY
X-MICROSOFT-CDO-IMPORTANCE:1
END:VEVENT
BEGIN:VEVENT
UID:g9hln@games.golnetwork.com
LOCATION:Scarborough Metro Dome Field 4
CREATED:20160927T160758Z
DTSTART:20161006T000000Z
DTEND:20161006T010000Z
DTSTAMP:20260421T070501Z
SUMMARY:Stroke City vs. XTSC United
DESCRIPTION:XTSC United vs. Stroke CityPlus d'info : #2
X-ALT-DESC;FMTTYPE=text/html:<!DOCTYPE HTML PUBLIC "-//W3C//DTD HTML 3.2//E
	N">\n<HTML>\n<HEAD>\n<TITLE></TITLE>\n</HEAD>\n<BODY>\n<h3>XTSC United vs. 
	Stroke City</h3>Plus d'info : <a href="https://www.golnetwork.com/game/v/94
	066/">#2</a>\n\n</BODY>\n</HTML>
STATUS:CONFIRMED
CLASS:PUBLIC
URL:https://www.golnetwork.com/game/v/94066/
X-MICROSOFT-CDO-BUSYSTATUS:BUSY
X-MICROSOFT-CDO-IMPORTANCE:1
END:VEVENT
BEGIN:VEVENT
UID:g9hlp@games.golnetwork.com
LOCATION:Scarborough Metro Dome Field 4
CREATED:20160927T160758Z
DTSTART:20161006T010000Z
DTEND:20161006T020000Z
DTSTAMP:20260421T070501Z
SUMMARY:Bayer Neverlusen vs. Suicide Squad
DESCRIPTION:Suicide Squad vs. Bayer NeverlusenPlus d'info : #1
X-ALT-DESC;FMTTYPE=text/html:<!DOCTYPE HTML PUBLIC "-//W3C//DTD HTML 3.2//E
	N">\n<HTML>\n<HEAD>\n<TITLE></TITLE>\n</HEAD>\n<BODY>\n<h3>Suicide Squad vs
	. Bayer Neverlusen</h3>Plus d'info : <a href="https://www.golnetwork.com/ga
	me/v/94067/">#1</a>\n\n</BODY>\n</HTML>
STATUS:CONFIRMED
CLASS:PUBLIC
URL:https://www.golnetwork.com/game/v/94067/
X-MICROSOFT-CDO-BUSYSTATUS:BUSY
X-MICROSOFT-CDO-IMPORTANCE:1
END:VEVENT
BEGIN:VEVENT
UID:g9hm2@games.golnetwork.com
LOCATION:Scarborough Metro Dome Field 4
CREATED:20160927T160758Z
DTSTART:20161012T230000Z
DTEND:20161013T000000Z
DTSTAMP:20260421T070501Z
SUMMARY:Stroke City vs. Bayer Neverlusen
DESCRIPTION:Bayer Neverlusen vs. Stroke CityPlus d'info : #6
X-ALT-DESC;FMTTYPE=text/html:<!DOCTYPE HTML PUBLIC "-//W3C//DTD HTML 3.2//E
	N">\n<HTML>\n<HEAD>\n<TITLE></TITLE>\n</HEAD>\n<BODY>\n<h3>Bayer Neverlusen
	 vs. Stroke City</h3>Plus d'info : <a href="https://www.golnetwork.com/game
	/v/94069/">#6</a>\n\n</BODY>\n</HTML>
STATUS:CONFIRMED
CLASS:PUBLIC
URL:https://www.golnetwork.com/game/v/94069/
X-MICROSOFT-CDO-BUSYSTATUS:BUSY
X-MICROSOFT-CDO-IMPORTANCE:1
END:VEVENT
BEGIN:VEVENT
UID:g9hm4@games.golnetwork.com
LOCATION:Scarborough Metro Dome Field 4
CREATED:20160927T160758Z
DTSTART:20161013T000000Z
DTEND:20161013T010000Z
DTSTAMP:20260421T070501Z
SUMMARY:Spartans FC vs. Suicide Squad
DESCRIPTION:Suicide Squad vs. Spartans FCPlus d'info : #5
X-ALT-DESC;FMTTYPE=text/html:<!DOCTYPE HTML PUBLIC "-//W3C//DTD HTML 3.2//E
	N">\n<HTML>\n<HEAD>\n<TITLE></TITLE>\n</HEAD>\n<BODY>\n<h3>Suicide Squad vs
	. Spartans FC</h3>Plus d'info : <a href="https://www.golnetwork.com/game/v/
	94070/">#5</a>\n\n</BODY>\n</HTML>
STATUS:CONFIRMED
CLASS:PUBLIC
URL:https://www.golnetwork.com/game/v/94070/
X-MICROSOFT-CDO-BUSYSTATUS:BUSY
X-MICROSOFT-CDO-IMPORTANCE:1
END:VEVENT
BEGIN:VEVENT
UID:g9hm6@games.golnetwork.com
LOCATION:Scarborough Metro Dome Field 4
CREATED:20160927T160758Z
DTSTART:20161013T010000Z
DTEND:20161013T020000Z
DTSTAMP:20260421T070501Z
SUMMARY:Wexford SB FC vs. XTSC United
DESCRIPTION:XTSC United vs. Wexford SB FCPlus d'info : #4
X-ALT-DESC;FMTTYPE=text/html:<!DOCTYPE HTML PUBLIC "-//W3C//DTD HTML 3.2//E
	N">\n<HTML>\n<HEAD>\n<TITLE></TITLE>\n</HEAD>\n<BODY>\n<h3>XTSC United vs. 
	Wexford SB FC</h3>Plus d'info : <a href="https://www.golnetwork.com/game/v/
	94071/">#4</a>\n\n</BODY>\n</HTML>
STATUS:CONFIRMED
CLASS:PUBLIC
URL:https://www.golnetwork.com/game/v/94071/
X-MICROSOFT-CDO-BUSYSTATUS:BUSY
X-MICROSOFT-CDO-IMPORTANCE:1
END:VEVENT
BEGIN:VEVENT
UID:g9hmc@games.golnetwork.com
LOCATION:Scarborough Metro Dome Field 4
CREATED:20160927T160758Z
DTSTART:20161020T010000Z
DTEND:20161020T020000Z
DTSTAMP:20260421T070501Z
SUMMARY:Bayer Neverlusen vs. XTSC United
DESCRIPTION:XTSC United vs. Bayer NeverlusenPlus d'info : #7
X-ALT-DESC;FMTTYPE=text/html:<!DOCTYPE HTML PUBLIC "-//W3C//DTD HTML 3.2//E
	N">\n<HTML>\n<HEAD>\n<TITLE></TITLE>\n</HEAD>\n<BODY>\n<h3>XTSC United vs. 
	Bayer Neverlusen</h3>Plus d'info : <a href="https://www.golnetwork.com/game
	/v/94074/">#7</a>\n\n</BODY>\n</HTML>
STATUS:CONFIRMED
CLASS:PUBLIC
URL:https://www.golnetwork.com/game/v/94074/
X-MICROSOFT-CDO-BUSYSTATUS:BUSY
X-MICROSOFT-CDO-IMPORTANCE:1
END:VEVENT
BEGIN:VEVENT
UID:g9hma@games.golnetwork.com
LOCATION:Scarborough Metro Dome Field 4
CREATED:20160927T160758Z
DTSTART:20161020T020000Z
DTEND:20161020T030000Z
DTSTAMP:20260421T070501Z
SUMMARY:Wexford SB FC vs. Suicide Squad
DESCRIPTION:Suicide Squad vs. Wexford SB FCPlus d'info : #8
X-ALT-DESC;FMTTYPE=text/html:<!DOCTYPE HTML PUBLIC "-//W3C//DTD HTML 3.2//E
	N">\n<HTML>\n<HEAD>\n<TITLE></TITLE>\n</HEAD>\n<BODY>\n<h3>Suicide Squad vs
	. Wexford SB FC</h3>Plus d'info : <a href="https://www.golnetwork.com/game/
	v/94073/">#8</a>\n\n</BODY>\n</HTML>
STATUS:CONFIRMED
CLASS:PUBLIC
URL:https://www.golnetwork.com/game/v/94073/
X-MICROSOFT-CDO-BUSYSTATUS:BUSY
X-MICROSOFT-CDO-IMPORTANCE:1
END:VEVENT
BEGIN:VEVENT
UID:g9hm8@games.golnetwork.com
LOCATION:Scarborough Metro Dome Field 4
CREATED:20160927T160758Z
DTSTART:20161020T030000Z
DTEND:20161020T040000Z
DTSTAMP:20260421T070501Z
SUMMARY:Stroke City vs. Spartans FC
DESCRIPTION:Spartans FC vs. Stroke CityPlus d'info : #9
X-ALT-DESC;FMTTYPE=text/html:<!DOCTYPE HTML PUBLIC "-//W3C//DTD HTML 3.2//E
	N">\n<HTML>\n<HEAD>\n<TITLE></TITLE>\n</HEAD>\n<BODY>\n<h3>Spartans FC vs. 
	Stroke City</h3>Plus d'info : <a href="https://www.golnetwork.com/game/v/94
	072/">#9</a>\n\n</BODY>\n</HTML>
STATUS:CONFIRMED
CLASS:PUBLIC
URL:https://www.golnetwork.com/game/v/94072/
X-MICROSOFT-CDO-BUSYSTATUS:BUSY
X-MICROSOFT-CDO-IMPORTANCE:1
END:VEVENT
BEGIN:VEVENT
UID:g9hme@games.golnetwork.com
LOCATION:Scarborough Metro Dome Field 4
CREATED:20160927T160758Z
DTSTART:20161027T010000Z
DTEND:20161027T020000Z
DTSTAMP:20260421T070501Z
SUMMARY:Suicide Squad vs. Stroke City
DESCRIPTION:Stroke City vs. Suicide SquadPlus d'info : #10
X-ALT-DESC;FMTTYPE=text/html:<!DOCTYPE HTML PUBLIC "-//W3C//DTD HTML 3.2//E
	N">\n<HTML>\n<HEAD>\n<TITLE></TITLE>\n</HEAD>\n<BODY>\n<h3>Stroke City vs. 
	Suicide Squad</h3>Plus d'info : <a href="https://www.golnetwork.com/game/v/
	94075/">#10</a>\n\n</BODY>\n</HTML>
STATUS:CONFIRMED
CLASS:PUBLIC
URL:https://www.golnetwork.com/game/v/94075/
X-MICROSOFT-CDO-BUSYSTATUS:BUSY
X-MICROSOFT-CDO-IMPORTANCE:1
END:VEVENT
BEGIN:VEVENT
UID:g9hmg@games.golnetwork.com
LOCATION:Scarborough Metro Dome Field 4
CREATED:20160927T160758Z
DTSTART:20161027T020000Z
DTEND:20161027T030000Z
DTSTAMP:20260421T070501Z
SUMMARY:Wexford SB FC vs. Bayer Neverlusen
DESCRIPTION:Bayer Neverlusen vs. Wexford SB FCPlus d'info : #11
X-ALT-DESC;FMTTYPE=text/html:<!DOCTYPE HTML PUBLIC "-//W3C//DTD HTML 3.2//E
	N">\n<HTML>\n<HEAD>\n<TITLE></TITLE>\n</HEAD>\n<BODY>\n<h3>Bayer Neverlusen
	 vs. Wexford SB FC</h3>Plus d'info : <a href="https://www.golnetwork.com/ga
	me/v/94076/">#11</a>\n\n</BODY>\n</HTML>
STATUS:CONFIRMED
CLASS:PUBLIC
URL:https://www.golnetwork.com/game/v/94076/
X-MICROSOFT-CDO-BUSYSTATUS:BUSY
X-MICROSOFT-CDO-IMPORTANCE:1
END:VEVENT
BEGIN:VEVENT
UID:g9hmi@games.golnetwork.com
LOCATION:Scarborough Metro Dome Field 4
CREATED:20160927T160758Z
DTSTART:20161027T030000Z
DTEND:20161027T040000Z
DTSTAMP:20260421T070501Z
SUMMARY:XTSC United vs. Spartans FC
DESCRIPTION:Spartans FC vs. XTSC UnitedPlus d'info : #12
X-ALT-DESC;FMTTYPE=text/html:<!DOCTYPE HTML PUBLIC "-//W3C//DTD HTML 3.2//E
	N">\n<HTML>\n<HEAD>\n<TITLE></TITLE>\n</HEAD>\n<BODY>\n<h3>Spartans FC vs. 
	XTSC United</h3>Plus d'info : <a href="https://www.golnetwork.com/game/v/94
	077/">#12</a>\n\n</BODY>\n</HTML>
STATUS:CONFIRMED
CLASS:PUBLIC
URL:https://www.golnetwork.com/game/v/94077/
X-MICROSOFT-CDO-BUSYSTATUS:BUSY
X-MICROSOFT-CDO-IMPORTANCE:1
END:VEVENT
BEGIN:VEVENT
UID:g9hmo@games.golnetwork.com
LOCATION:Scarborough Metro Dome Field 4
CREATED:20160927T160758Z
DTSTART:20161103T010000Z
DTEND:20161103T020000Z
DTSTAMP:20260421T070501Z
SUMMARY:Suicide Squad vs. XTSC United
DESCRIPTION:XTSC United vs. Suicide SquadPlus d'info : #13
X-ALT-DESC;FMTTYPE=text/html:<!DOCTYPE HTML PUBLIC "-//W3C//DTD HTML 3.2//E
	N">\n<HTML>\n<HEAD>\n<TITLE></TITLE>\n</HEAD>\n<BODY>\n<h3>XTSC United vs. 
	Suicide Squad</h3>Plus d'info : <a href="https://www.golnetwork.com/game/v/
	94080/">#13</a>\n\n</BODY>\n</HTML>
STATUS:CONFIRMED
CLASS:PUBLIC
URL:https://www.golnetwork.com/game/v/94080/
X-MICROSOFT-CDO-BUSYSTATUS:BUSY
X-MICROSOFT-CDO-IMPORTANCE:1
END:VEVENT
BEGIN:VEVENT
UID:g9hmk@games.golnetwork.com
LOCATION:Scarborough Metro Dome Field 4
CREATED:20160927T160758Z
DTSTART:20161103T020000Z
DTEND:20161103T030000Z
DTSTAMP:20260421T070501Z
SUMMARY:Bayer Neverlusen vs. Spartans FC
DESCRIPTION:Spartans FC vs. Bayer NeverlusenPlus d'info : #14
X-ALT-DESC;FMTTYPE=text/html:<!DOCTYPE HTML PUBLIC "-//W3C//DTD HTML 3.2//E
	N">\n<HTML>\n<HEAD>\n<TITLE></TITLE>\n</HEAD>\n<BODY>\n<h3>Spartans FC vs. 
	Bayer Neverlusen</h3>Plus d'info : <a href="https://www.golnetwork.com/game
	/v/94078/">#14</a>\n\n</BODY>\n</HTML>
STATUS:CONFIRMED
CLASS:PUBLIC
URL:https://www.golnetwork.com/game/v/94078/
X-MICROSOFT-CDO-BUSYSTATUS:BUSY
X-MICROSOFT-CDO-IMPORTANCE:1
END:VEVENT
BEGIN:VEVENT
UID:g9hmm@games.golnetwork.com
LOCATION:Scarborough Metro Dome Field 4
CREATED:20160927T160758Z
DTSTART:20161103T030000Z
DTEND:20161103T040000Z
DTSTAMP:20260421T070501Z
SUMMARY:Stroke City vs. Wexford SB FC
DESCRIPTION:Wexford SB FC vs. Stroke CityPlus d'info : #15
X-ALT-DESC;FMTTYPE=text/html:<!DOCTYPE HTML PUBLIC "-//W3C//DTD HTML 3.2//E
	N">\n<HTML>\n<HEAD>\n<TITLE></TITLE>\n</HEAD>\n<BODY>\n<h3>Wexford SB FC vs
	. Stroke City</h3>Plus d'info : <a href="https://www.golnetwork.com/game/v/
	94079/">#15</a>\n\n</BODY>\n</HTML>
STATUS:CONFIRMED
CLASS:PUBLIC
URL:https://www.golnetwork.com/game/v/94079/
X-MICROSOFT-CDO-BUSYSTATUS:BUSY
X-MICROSOFT-CDO-IMPORTANCE:1
END:VEVENT
BEGIN:VEVENT
UID:g9hmq@games.golnetwork.com
LOCATION:Scarborough Metro Dome Field 4
CREATED:20160927T160758Z
DTSTART:20161110T020000Z
DTEND:20161110T030000Z
DTSTAMP:20260421T070501Z
SUMMARY:Spartans FC vs. Wexford SB FC
DESCRIPTION:Wexford SB FC vs. Spartans FCPlus d'info : #16
X-ALT-DESC;FMTTYPE=text/html:<!DOCTYPE HTML PUBLIC "-//W3C//DTD HTML 3.2//E
	N">\n<HTML>\n<HEAD>\n<TITLE></TITLE>\n</HEAD>\n<BODY>\n<h3>Wexford SB FC vs
	. Spartans FC</h3>Plus d'info : <a href="https://www.golnetwork.com/game/v/
	94081/">#16</a>\n\n</BODY>\n</HTML>
STATUS:CONFIRMED
CLASS:PUBLIC
URL:https://www.golnetwork.com/game/v/94081/
X-MICROSOFT-CDO-BUSYSTATUS:BUSY
X-MICROSOFT-CDO-IMPORTANCE:1
END:VEVENT
BEGIN:VEVENT
UID:g9hn1@games.golnetwork.com
LOCATION:Scarborough Metro Dome Field 4
CREATED:20160927T160758Z
DTSTART:20161110T030000Z
DTEND:20161110T040000Z
DTSTAMP:20260421T070501Z
SUMMARY:XTSC United vs. Stroke City
DESCRIPTION:Stroke City vs. XTSC UnitedPlus d'info : #17
X-ALT-DESC;FMTTYPE=text/html:<!DOCTYPE HTML PUBLIC "-//W3C//DTD HTML 3.2//E
	N">\n<HTML>\n<HEAD>\n<TITLE></TITLE>\n</HEAD>\n<BODY>\n<h3>Stroke City vs. 
	XTSC United</h3>Plus d'info : <a href="https://www.golnetwork.com/game/v/94
	082/">#17</a>\n\n</BODY>\n</HTML>
STATUS:CONFIRMED
CLASS:PUBLIC
URL:https://www.golnetwork.com/game/v/94082/
X-MICROSOFT-CDO-BUSYSTATUS:BUSY
X-MICROSOFT-CDO-IMPORTANCE:1
END:VEVENT
BEGIN:VEVENT
UID:g9hn3@games.golnetwork.com
LOCATION:Scarborough Metro Dome Field 4
CREATED:20160927T160758Z
DTSTART:20161110T040000Z
DTEND:20161110T050000Z
DTSTAMP:20260421T070501Z
SUMMARY:Suicide Squad vs. Bayer Neverlusen
DESCRIPTION:Bayer Neverlusen vs. Suicide SquadPlus d'info : #18
X-ALT-DESC;FMTTYPE=text/html:<!DOCTYPE HTML PUBLIC "-//W3C//DTD HTML 3.2//E
	N">\n<HTML>\n<HEAD>\n<TITLE></TITLE>\n</HEAD>\n<BODY>\n<h3>Bayer Neverlusen
	 vs. Suicide Squad</h3>Plus d'info : <a href="https://www.golnetwork.com/ga
	me/v/94083/">#18</a>\n\n</BODY>\n</HTML>
STATUS:CONFIRMED
CLASS:PUBLIC
URL:https://www.golnetwork.com/game/v/94083/
X-MICROSOFT-CDO-BUSYSTATUS:BUSY
X-MICROSOFT-CDO-IMPORTANCE:1
END:VEVENT
BEGIN:VEVENT
UID:g9hn9@games.golnetwork.com
LOCATION:Scarborough Metro Dome Field 4
CREATED:20160927T160758Z
DTSTART:20161117T020000Z
DTEND:20161117T030000Z
DTSTAMP:20260421T070501Z
SUMMARY:Bayer Neverlusen vs. Stroke City
DESCRIPTION:Stroke City vs. Bayer NeverlusenPlus d'info : #19
X-ALT-DESC;FMTTYPE=text/html:<!DOCTYPE HTML PUBLIC "-//W3C//DTD HTML 3.2//E
	N">\n<HTML>\n<HEAD>\n<TITLE></TITLE>\n</HEAD>\n<BODY>\n<h3>Stroke City vs. 
	Bayer Neverlusen</h3>Plus d'info : <a href="https://www.golnetwork.com/game
	/v/94086/">#19</a>\n\n</BODY>\n</HTML>
STATUS:CONFIRMED
CLASS:PUBLIC
URL:https://www.golnetwork.com/game/v/94086/
X-MICROSOFT-CDO-BUSYSTATUS:BUSY
X-MICROSOFT-CDO-IMPORTANCE:1
END:VEVENT
BEGIN:VEVENT
UID:g9hn7@games.golnetwork.com
LOCATION:Scarborough Metro Dome Field 4
CREATED:20160927T160758Z
DTSTART:20161117T030000Z
DTEND:20161117T040000Z
DTSTAMP:20260421T070501Z
SUMMARY:Suicide Squad vs. Spartans FC
DESCRIPTION:Spartans FC vs. Suicide SquadPlus d'info : #20
X-ALT-DESC;FMTTYPE=text/html:<!DOCTYPE HTML PUBLIC "-//W3C//DTD HTML 3.2//E
	N">\n<HTML>\n<HEAD>\n<TITLE></TITLE>\n</HEAD>\n<BODY>\n<h3>Spartans FC vs. 
	Suicide Squad</h3>Plus d'info : <a href="https://www.golnetwork.com/game/v/
	94085/">#20</a>\n\n</BODY>\n</HTML>
STATUS:CONFIRMED
CLASS:PUBLIC
URL:https://www.golnetwork.com/game/v/94085/
X-MICROSOFT-CDO-BUSYSTATUS:BUSY
X-MICROSOFT-CDO-IMPORTANCE:1
END:VEVENT
BEGIN:VEVENT
UID:g9hn5@games.golnetwork.com
LOCATION:Scarborough Metro Dome Field 4
CREATED:20160927T160758Z
DTSTART:20161117T040000Z
DTEND:20161117T050000Z
DTSTAMP:20260421T070501Z
SUMMARY:Wexford SB FC vs. XTSC United
DESCRIPTION:XTSC United vs. Wexford SB FCPlus d'info : #21
X-ALT-DESC;FMTTYPE=text/html:<!DOCTYPE HTML PUBLIC "-//W3C//DTD HTML 3.2//E
	N">\n<HTML>\n<HEAD>\n<TITLE></TITLE>\n</HEAD>\n<BODY>\n<h3>XTSC United vs. 
	Wexford SB FC</h3>Plus d'info : <a href="https://www.golnetwork.com/game/v/
	94084/">#21</a>\n\n</BODY>\n</HTML>
STATUS:CONFIRMED
CLASS:PUBLIC
URL:https://www.golnetwork.com/game/v/94084/
X-MICROSOFT-CDO-BUSYSTATUS:BUSY
X-MICROSOFT-CDO-IMPORTANCE:1
END:VEVENT
BEGIN:VEVENT
UID:g9hnb@games.golnetwork.com
LOCATION:Scarborough Metro Dome Field 4
CREATED:20160927T160758Z
DTSTART:20161124T020000Z
DTEND:20161124T030000Z
DTSTAMP:20260421T070501Z
SUMMARY:Wexford SB FC vs. Suicide Squad
DESCRIPTION:Suicide Squad vs. Wexford SB FCPlus d'info : #22
X-ALT-DESC;FMTTYPE=text/html:<!DOCTYPE HTML PUBLIC "-//W3C//DTD HTML 3.2//E
	N">\n<HTML>\n<HEAD>\n<TITLE></TITLE>\n</HEAD>\n<BODY>\n<h3>Suicide Squad vs
	. Wexford SB FC</h3>Plus d'info : <a href="https://www.golnetwork.com/game/
	v/94087/">#22</a>\n\n</BODY>\n</HTML>
STATUS:CONFIRMED
CLASS:PUBLIC
URL:https://www.golnetwork.com/game/v/94087/
X-MICROSOFT-CDO-BUSYSTATUS:BUSY
X-MICROSOFT-CDO-IMPORTANCE:1
END:VEVENT
BEGIN:VEVENT
UID:g9hnd@games.golnetwork.com
LOCATION:Scarborough Metro Dome Field 4
CREATED:20160927T160758Z
DTSTART:20161124T030000Z
DTEND:20161124T040000Z
DTSTAMP:20260421T070501Z
SUMMARY:XTSC United vs. Bayer Neverlusen
DESCRIPTION:Bayer Neverlusen vs. XTSC UnitedPlus d'info : #23
X-ALT-DESC;FMTTYPE=text/html:<!DOCTYPE HTML PUBLIC "-//W3C//DTD HTML 3.2//E
	N">\n<HTML>\n<HEAD>\n<TITLE></TITLE>\n</HEAD>\n<BODY>\n<h3>Bayer Neverlusen
	 vs. XTSC United</h3>Plus d'info : <a href="https://www.golnetwork.com/game
	/v/94088/">#23</a>\n\n</BODY>\n</HTML>
STATUS:CONFIRMED
CLASS:PUBLIC
URL:https://www.golnetwork.com/game/v/94088/
X-MICROSOFT-CDO-BUSYSTATUS:BUSY
X-MICROSOFT-CDO-IMPORTANCE:1
END:VEVENT
BEGIN:VEVENT
UID:g9hnf@games.golnetwork.com
LOCATION:Scarborough Metro Dome Field 4
CREATED:20160927T160758Z
DTSTART:20161124T040000Z
DTEND:20161124T050000Z
DTSTAMP:20260421T070501Z
SUMMARY:Stroke City vs. Spartans FC
DESCRIPTION:Spartans FC vs. Stroke CityPlus d'info : #24
X-ALT-DESC;FMTTYPE=text/html:<!DOCTYPE HTML PUBLIC "-//W3C//DTD HTML 3.2//E
	N">\n<HTML>\n<HEAD>\n<TITLE></TITLE>\n</HEAD>\n<BODY>\n<h3>Spartans FC vs. 
	Stroke City</h3>Plus d'info : <a href="https://www.golnetwork.com/game/v/94
	089/">#24</a>\n\n</BODY>\n</HTML>
STATUS:CONFIRMED
CLASS:PUBLIC
URL:https://www.golnetwork.com/game/v/94089/
X-MICROSOFT-CDO-BUSYSTATUS:BUSY
X-MICROSOFT-CDO-IMPORTANCE:1
END:VEVENT
BEGIN:VEVENT
UID:g9hnl@games.golnetwork.com
LOCATION:Scarborough Metro Dome Field 4
CREATED:20160927T160758Z
DTSTART:20161201T020000Z
DTEND:20161201T030000Z
DTSTAMP:20260421T070501Z
SUMMARY:XTSC United vs. Spartans FC
DESCRIPTION:Spartans FC vs. XTSC UnitedPlus d'info : #25
X-ALT-DESC;FMTTYPE=text/html:<!DOCTYPE HTML PUBLIC "-//W3C//DTD HTML 3.2//E
	N">\n<HTML>\n<HEAD>\n<TITLE></TITLE>\n</HEAD>\n<BODY>\n<h3>Spartans FC vs. 
	XTSC United</h3>Plus d'info : <a href="https://www.golnetwork.com/game/v/94
	092/">#25</a>\n\n</BODY>\n</HTML>
STATUS:CONFIRMED
CLASS:PUBLIC
URL:https://www.golnetwork.com/game/v/94092/
X-MICROSOFT-CDO-BUSYSTATUS:BUSY
X-MICROSOFT-CDO-IMPORTANCE:1
END:VEVENT
BEGIN:VEVENT
UID:g9hnj@games.golnetwork.com
LOCATION:Scarborough Metro Dome Field 4
CREATED:20160927T160758Z
DTSTART:20161201T030000Z
DTEND:20161201T040000Z
DTSTAMP:20260421T070501Z
SUMMARY:Stroke City vs. Suicide Squad
DESCRIPTION:Suicide Squad vs. Stroke CityPlus d'info : #26
X-ALT-DESC;FMTTYPE=text/html:<!DOCTYPE HTML PUBLIC "-//W3C//DTD HTML 3.2//E
	N">\n<HTML>\n<HEAD>\n<TITLE></TITLE>\n</HEAD>\n<BODY>\n<h3>Suicide Squad vs
	. Stroke City</h3>Plus d'info : <a href="https://www.golnetwork.com/game/v/
	94091/">#26</a>\n\n</BODY>\n</HTML>
STATUS:CONFIRMED
CLASS:PUBLIC
URL:https://www.golnetwork.com/game/v/94091/
X-MICROSOFT-CDO-BUSYSTATUS:BUSY
X-MICROSOFT-CDO-IMPORTANCE:1
END:VEVENT
BEGIN:VEVENT
UID:g9hnh@games.golnetwork.com
LOCATION:Scarborough Metro Dome Field 4
CREATED:20160927T160758Z
DTSTART:20161201T040000Z
DTEND:20161201T050000Z
DTSTAMP:20260421T070501Z
SUMMARY:Wexford SB FC vs. Bayer Neverlusen
DESCRIPTION:Bayer Neverlusen vs. Wexford SB FCPlus d'info : #27
X-ALT-DESC;FMTTYPE=text/html:<!DOCTYPE HTML PUBLIC "-//W3C//DTD HTML 3.2//E
	N">\n<HTML>\n<HEAD>\n<TITLE></TITLE>\n</HEAD>\n<BODY>\n<h3>Bayer Neverlusen
	 vs. Wexford SB FC</h3>Plus d'info : <a href="https://www.golnetwork.com/ga
	me/v/94090/">#27</a>\n\n</BODY>\n</HTML>
STATUS:CONFIRMED
CLASS:PUBLIC
URL:https://www.golnetwork.com/game/v/94090/
X-MICROSOFT-CDO-BUSYSTATUS:BUSY
X-MICROSOFT-CDO-IMPORTANCE:1
END:VEVENT
BEGIN:VEVENT
UID:g9ho0@games.golnetwork.com
LOCATION:Scarborough Metro Dome Field 4
CREATED:20160927T160758Z
DTSTART:20161208T020000Z
DTEND:20161208T030000Z
DTSTAMP:20260421T070501Z
SUMMARY:Bayer Neverlusen vs. Spartans FC
DESCRIPTION:Spartans FC vs. Bayer NeverlusenPlus d'info : #28
X-ALT-DESC;FMTTYPE=text/html:<!DOCTYPE HTML PUBLIC "-//W3C//DTD HTML 3.2//E
	N">\n<HTML>\n<HEAD>\n<TITLE></TITLE>\n</HEAD>\n<BODY>\n<h3>Spartans FC vs. 
	Bayer Neverlusen</h3>Plus d'info : <a href="https://www.golnetwork.com/game
	/v/94095/">#28</a>\n\n</BODY>\n</HTML>
STATUS:CONFIRMED
CLASS:PUBLIC
URL:https://www.golnetwork.com/game/v/94095/
X-MICROSOFT-CDO-BUSYSTATUS:BUSY
X-MICROSOFT-CDO-IMPORTANCE:1
END:VEVENT
BEGIN:VEVENT
UID:g9hnn@games.golnetwork.com
LOCATION:Scarborough Metro Dome Field 4
CREATED:20160927T160758Z
DTSTART:20161208T030000Z
DTEND:20161208T040000Z
DTSTAMP:20260421T070501Z
SUMMARY:Wexford SB FC vs. Stroke City
DESCRIPTION:Stroke City vs. Wexford SB FCPlus d'info : #29
X-ALT-DESC;FMTTYPE=text/html:<!DOCTYPE HTML PUBLIC "-//W3C//DTD HTML 3.2//E
	N">\n<HTML>\n<HEAD>\n<TITLE></TITLE>\n</HEAD>\n<BODY>\n<h3>Stroke City vs. 
	Wexford SB FC</h3>Plus d'info : <a href="https://www.golnetwork.com/game/v/
	94093/">#29</a>\n\n</BODY>\n</HTML>
STATUS:CONFIRMED
CLASS:PUBLIC
URL:https://www.golnetwork.com/game/v/94093/
X-MICROSOFT-CDO-BUSYSTATUS:BUSY
X-MICROSOFT-CDO-IMPORTANCE:1
END:VEVENT
BEGIN:VEVENT
UID:g9hnp@games.golnetwork.com
LOCATION:Scarborough Metro Dome Field 4
CREATED:20160927T160758Z
DTSTART:20161208T040000Z
DTEND:20161208T050000Z
DTSTAMP:20260421T070501Z
SUMMARY:Suicide Squad vs. XTSC United
DESCRIPTION:XTSC United vs. Suicide SquadPlus d'info : #30
X-ALT-DESC;FMTTYPE=text/html:<!DOCTYPE HTML PUBLIC "-//W3C//DTD HTML 3.2//E
	N">\n<HTML>\n<HEAD>\n<TITLE></TITLE>\n</HEAD>\n<BODY>\n<h3>XTSC United vs. 
	Suicide Squad</h3>Plus d'info : <a href="https://www.golnetwork.com/game/v/
	94094/">#30</a>\n\n</BODY>\n</HTML>
STATUS:CONFIRMED
CLASS:PUBLIC
URL:https://www.golnetwork.com/game/v/94094/
X-MICROSOFT-CDO-BUSYSTATUS:BUSY
X-MICROSOFT-CDO-IMPORTANCE:1
END:VEVENT
BEGIN:VEVENT
UID:g9ho2@games.golnetwork.com
LOCATION:Scarborough Metro Dome Field 4
CREATED:20160927T160758Z
DTSTART:20161215T040000Z
DTEND:20161215T050000Z
DTSTAMP:20260421T070501Z
SUMMARY:XTSC United vs. Spartans FC
DESCRIPTION:Spartans FC vs. XTSC UnitedPlus d'info : #33
X-ALT-DESC;FMTTYPE=text/html:<!DOCTYPE HTML PUBLIC "-//W3C//DTD HTML 3.2//E
	N">\n<HTML>\n<HEAD>\n<TITLE></TITLE>\n</HEAD>\n<BODY>\n<h3>Spartans FC vs. 
	XTSC United</h3>Plus d'info : <a href="https://www.golnetwork.com/game/v/94
	096/">#33</a>\n\n</BODY>\n</HTML>
STATUS:CONFIRMED
CLASS:PUBLIC
URL:https://www.golnetwork.com/game/v/94096/
X-MICROSOFT-CDO-BUSYSTATUS:BUSY
X-MICROSOFT-CDO-IMPORTANCE:1
END:VEVENT
BEGIN:VEVENT
UID:g9ho4@games.golnetwork.com
LOCATION:Scarborough Metro Dome Field 4
CREATED:20160927T160758Z
DTSTART:20161222T030000Z
DTEND:20161222T040000Z
DTSTAMP:20260421T070501Z
SUMMARY:Wexford SB FC vs. XTSC United
DESCRIPTION:XTSC United vs. Wexford SB FCPlus d'info : #35
X-ALT-DESC;FMTTYPE=text/html:<!DOCTYPE HTML PUBLIC "-//W3C//DTD HTML 3.2//E
	N">\n<HTML>\n<HEAD>\n<TITLE></TITLE>\n</HEAD>\n<BODY>\n<h3>XTSC United vs. 
	Wexford SB FC</h3>Plus d'info : <a href="https://www.golnetwork.com/game/v/
	94097/">#35</a>\n\n</BODY>\n</HTML>
STATUS:CONFIRMED
CLASS:PUBLIC
URL:https://www.golnetwork.com/game/v/94097/
X-MICROSOFT-CDO-BUSYSTATUS:BUSY
X-MICROSOFT-CDO-IMPORTANCE:1
END:VEVENT
BEGIN:VEVENT
UID:g9ho6@games.golnetwork.com
LOCATION:Scarborough Metro Dome Field 4
CREATED:20160927T160758Z
DTSTART:20161222T040000Z
DTEND:20161222T050000Z
DTSTAMP:20260421T070501Z
SUMMARY:Suicide Squad vs. Spartans FC
DESCRIPTION:Spartans FC vs. Suicide SquadPlus d'info : #36
X-ALT-DESC;FMTTYPE=text/html:<!DOCTYPE HTML PUBLIC "-//W3C//DTD HTML 3.2//E
	N">\n<HTML>\n<HEAD>\n<TITLE></TITLE>\n</HEAD>\n<BODY>\n<h3>Spartans FC vs. 
	Suicide Squad</h3>Plus d'info : <a href="https://www.golnetwork.com/game/v/
	94098/">#36</a>\n\n</BODY>\n</HTML>
STATUS:CONFIRMED
CLASS:PUBLIC
URL:https://www.golnetwork.com/game/v/94098/
X-MICROSOFT-CDO-BUSYSTATUS:BUSY
X-MICROSOFT-CDO-IMPORTANCE:1
END:VEVENT
END:VCALENDAR
