BEGIN:VCALENDAR
PRODID:-//gdesolutions.com//MV Framework 1.0.0.1607 Calendar//EN
VERSION:2.0
METHOD:PUBLISH
CALSCALE:GREGORIAN
BEGIN:VEVENT
UID:g9qid@games.golnetwork.com
LOCATION:Monarch Park - Field 1
CREATED:20161021T202243Z
DTSTART:20161205T020000Z
DTEND:20161205T030000Z
DTSTAMP:20260420T112309Z
SUMMARY:Stallion Express vs. FC Anarchy
DESCRIPTION:FC Anarchy vs. Stallion ExpressPlus d'info : #151
X-ALT-DESC;FMTTYPE=text/html:<!DOCTYPE HTML PUBLIC "-//W3C//DTD HTML 3.2//E
	N">\n<HTML>\n<HEAD>\n<TITLE></TITLE>\n</HEAD>\n<BODY>\n<h3>FC Anarchy vs. S
	tallion Express</h3>Plus d'info : <a href="https://www.golnetwork.com/game/
	v/97301/">#151</a>\n\n</BODY>\n</HTML>
STATUS:CONFIRMED
CLASS:PUBLIC
URL:https://www.golnetwork.com/game/v/97301/
X-MICROSOFT-CDO-BUSYSTATUS:BUSY
X-MICROSOFT-CDO-IMPORTANCE:1
END:VEVENT
BEGIN:VEVENT
UID:g9qif@games.golnetwork.com
LOCATION:Monarch Park - Field 1
CREATED:20161021T202243Z
DTSTART:20161205T030000Z
DTEND:20161205T040000Z
DTSTAMP:20260420T112309Z
SUMMARY:West London White vs. Hardly Athletic
DESCRIPTION:Hardly Athletic vs. West London WhitePlus d'info : #153
X-ALT-DESC;FMTTYPE=text/html:<!DOCTYPE HTML PUBLIC "-//W3C//DTD HTML 3.2//E
	N">\n<HTML>\n<HEAD>\n<TITLE></TITLE>\n</HEAD>\n<BODY>\n<h3>Hardly Athletic 
	vs. West London White</h3>Plus d'info : <a href="https://www.golnetwork.com
	/game/v/97302/">#153</a>\n\n</BODY>\n</HTML>
STATUS:CONFIRMED
CLASS:PUBLIC
URL:https://www.golnetwork.com/game/v/97302/
X-MICROSOFT-CDO-BUSYSTATUS:BUSY
X-MICROSOFT-CDO-IMPORTANCE:1
END:VEVENT
BEGIN:VEVENT
UID:g9qih@games.golnetwork.com
LOCATION:Monarch Park - Field 1
CREATED:20161021T202243Z
DTSTART:20161212T000000Z
DTEND:20161212T010000Z
DTSTAMP:20260420T112309Z
SUMMARY:West London White vs. FC Anarchy
DESCRIPTION:FC Anarchy vs. West London WhitePlus d'info : #177
X-ALT-DESC;FMTTYPE=text/html:<!DOCTYPE HTML PUBLIC "-//W3C//DTD HTML 3.2//E
	N">\n<HTML>\n<HEAD>\n<TITLE></TITLE>\n</HEAD>\n<BODY>\n<h3>FC Anarchy vs. W
	est London White</h3>Plus d'info : <a href="https://www.golnetwork.com/game
	/v/97303/">#177</a>\n\n</BODY>\n</HTML>
STATUS:CONFIRMED
CLASS:PUBLIC
URL:https://www.golnetwork.com/game/v/97303/
X-MICROSOFT-CDO-BUSYSTATUS:BUSY
X-MICROSOFT-CDO-IMPORTANCE:1
END:VEVENT
END:VCALENDAR
