BEGIN:VCALENDAR
PRODID:-//gdesolutions.com//MV Framework 1.0.0.1607 Calendar//EN
VERSION:2.0
METHOD:PUBLISH
CALSCALE:GREGORIAN
BEGIN:VEVENT
UID:gadna@games.golnetwork.com
LOCATION:Hornet's Nest #2
GEO:45.4428309;-75.575268
CREATED:20170207T065433Z
DTSTART:20170209T233000Z
DTEND:20170210T002000Z
DTSTAMP:20260420T144808Z
SUMMARY:Nat & The Wookies vs. Feedbag
DESCRIPTION:Feedbag vs. Nat & The WookiesPlus d'info : #105
X-ALT-DESC;FMTTYPE=text/html:<!DOCTYPE HTML PUBLIC "-//W3C//DTD HTML 3.2//E
	N">\n<HTML>\n<HEAD>\n<TITLE></TITLE>\n</HEAD>\n<BODY>\n<h3>Feedbag vs. Nat 
	& The Wookies</h3>Plus d'info : <a href="https://www.golnetwork.com/game/v/
	102470/">#105</a>\n\n</BODY>\n</HTML>
STATUS:CONFIRMED
CLASS:PUBLIC
URL:https://www.golnetwork.com/game/v/102470/
X-MICROSOFT-CDO-BUSYSTATUS:BUSY
X-MICROSOFT-CDO-IMPORTANCE:1
END:VEVENT
BEGIN:VEVENT
UID:gadn4@games.golnetwork.com
LOCATION:Louis Riel #1
GEO:45.4410208;-75.5715394
CREATED:20170207T065347Z
DTSTART:20170210T010000Z
DTEND:20170210T015000Z
DTSTAMP:20260420T144808Z
SUMMARY:Sock-it Rockets vs. JFC
DESCRIPTION:JFC vs. Sock-it RocketsPlus d'info : #107
X-ALT-DESC;FMTTYPE=text/html:<!DOCTYPE HTML PUBLIC "-//W3C//DTD HTML 3.2//E
	N">\n<HTML>\n<HEAD>\n<TITLE></TITLE>\n</HEAD>\n<BODY>\n<h3>JFC vs. Sock-it 
	Rockets</h3>Plus d'info : <a href="https://www.golnetwork.com/game/v/102467
	/">#107</a>\n\n</BODY>\n</HTML>
STATUS:CONFIRMED
CLASS:PUBLIC
URL:https://www.golnetwork.com/game/v/102467/
X-MICROSOFT-CDO-BUSYSTATUS:BUSY
X-MICROSOFT-CDO-IMPORTANCE:1
END:VEVENT
BEGIN:VEVENT
UID:gadn6@games.golnetwork.com
LOCATION:Louis Riel #2
GEO:45.4410208;-75.5715394
CREATED:20170207T065400Z
DTSTART:20170210T013000Z
DTEND:20170210T022000Z
DTSTAMP:20260420T144808Z
SUMMARY:Fury vs. Winded FC
DESCRIPTION:Winded FC vs. FuryPlus d'info : #108
X-ALT-DESC;FMTTYPE=text/html:<!DOCTYPE HTML PUBLIC "-//W3C//DTD HTML 3.2//E
	N">\n<HTML>\n<HEAD>\n<TITLE></TITLE>\n</HEAD>\n<BODY>\n<h3>Winded FC vs. Fu
	ry</h3>Plus d'info : <a href="https://www.golnetwork.com/game/v/102468/">#1
	08</a>\n\n</BODY>\n</HTML>
STATUS:CONFIRMED
CLASS:PUBLIC
URL:https://www.golnetwork.com/game/v/102468/
X-MICROSOFT-CDO-BUSYSTATUS:BUSY
X-MICROSOFT-CDO-IMPORTANCE:1
END:VEVENT
BEGIN:VEVENT
UID:gadn8@games.golnetwork.com
LOCATION:Hornet's Nest #2
GEO:45.4428309;-75.575268
CREATED:20170207T065417Z
DTSTART:20170210T023000Z
DTEND:20170210T032000Z
DTSTAMP:20260420T144808Z
SUMMARY:Fusion vs. Van Den Enden
DESCRIPTION:Van Den Enden vs. FusionPlus d'info : #113
X-ALT-DESC;FMTTYPE=text/html:<!DOCTYPE HTML PUBLIC "-//W3C//DTD HTML 3.2//E
	N">\n<HTML>\n<HEAD>\n<TITLE></TITLE>\n</HEAD>\n<BODY>\n<h3>Van Den Enden vs
	. Fusion</h3>Plus d'info : <a href="https://www.golnetwork.com/game/v/10246
	9/">#113</a>\n\n</BODY>\n</HTML>
STATUS:CONFIRMED
CLASS:PUBLIC
URL:https://www.golnetwork.com/game/v/102469/
X-MICROSOFT-CDO-BUSYSTATUS:BUSY
X-MICROSOFT-CDO-IMPORTANCE:1
END:VEVENT
BEGIN:VEVENT
UID:gae4c@games.golnetwork.com
LOCATION:Louis Riel #2
GEO:45.4410208;-75.5715394
CREATED:20170213T005125Z
DTSTART:20170217T013000Z
DTEND:20170217T022000Z
DTSTAMP:20260420T144808Z
SUMMARY:Nat & The Wookies vs. JFC
DESCRIPTION:JFC vs. Nat & The WookiesPlus d'info : #120
X-ALT-DESC;FMTTYPE=text/html:<!DOCTYPE HTML PUBLIC "-//W3C//DTD HTML 3.2//E
	N">\n<HTML>\n<HEAD>\n<TITLE></TITLE>\n</HEAD>\n<BODY>\n<h3>JFC vs. Nat & Th
	e Wookies</h3>Plus d'info : <a href="https://www.golnetwork.com/game/v/1025
	79/">#120</a>\n\n</BODY>\n</HTML>
STATUS:CONFIRMED
CLASS:PUBLIC
URL:https://www.golnetwork.com/game/v/102579/
X-MICROSOFT-CDO-BUSYSTATUS:BUSY
X-MICROSOFT-CDO-IMPORTANCE:1
END:VEVENT
BEGIN:VEVENT
UID:gae4g@games.golnetwork.com
LOCATION:Louis Riel #3
GEO:45.4410208;-75.5715394
CREATED:20170213T005212Z
DTSTART:20170217T023000Z
DTEND:20170217T032000Z
DTSTAMP:20260420T144808Z
SUMMARY:Van Den Enden vs. Fury
DESCRIPTION:Fury vs. Van Den EndenPlus d'info : #124
X-ALT-DESC;FMTTYPE=text/html:<!DOCTYPE HTML PUBLIC "-//W3C//DTD HTML 3.2//E
	N">\n<HTML>\n<HEAD>\n<TITLE></TITLE>\n</HEAD>\n<BODY>\n<h3>Fury vs. Van Den
	 Enden</h3>Plus d'info : <a href="https://www.golnetwork.com/game/v/102581/
	">#124</a>\n\n</BODY>\n</HTML>
STATUS:CONFIRMED
CLASS:PUBLIC
URL:https://www.golnetwork.com/game/v/102581/
X-MICROSOFT-CDO-BUSYSTATUS:BUSY
X-MICROSOFT-CDO-IMPORTANCE:1
END:VEVENT
BEGIN:VEVENT
UID:gae4e@games.golnetwork.com
LOCATION:Louis Riel #1
GEO:45.4410208;-75.5715394
CREATED:20170213T005143Z
DTSTART:20170217T030000Z
DTEND:20170217T035000Z
DTSTAMP:20260420T144808Z
SUMMARY:Fusion vs. Winded FC
DESCRIPTION:Winded FC vs. FusionPlus d'info : #127
X-ALT-DESC;FMTTYPE=text/html:<!DOCTYPE HTML PUBLIC "-//W3C//DTD HTML 3.2//E
	N">\n<HTML>\n<HEAD>\n<TITLE></TITLE>\n</HEAD>\n<BODY>\n<h3>Winded FC vs. Fu
	sion</h3>Plus d'info : <a href="https://www.golnetwork.com/game/v/102580/">
	#127</a>\n\n</BODY>\n</HTML>
STATUS:CONFIRMED
CLASS:PUBLIC
URL:https://www.golnetwork.com/game/v/102580/
X-MICROSOFT-CDO-BUSYSTATUS:BUSY
X-MICROSOFT-CDO-IMPORTANCE:1
END:VEVENT
BEGIN:VEVENT
UID:gae4i@games.golnetwork.com
LOCATION:Louis Riel #2
GEO:45.4410208;-75.5715394
CREATED:20170213T005250Z
DTSTART:20170217T033000Z
DTEND:20170217T042000Z
DTSTAMP:20260420T144808Z
SUMMARY:Missile-toe vs. Feedbag
DESCRIPTION:Feedbag vs. Missile-toePlus d'info : #128
X-ALT-DESC;FMTTYPE=text/html:<!DOCTYPE HTML PUBLIC "-//W3C//DTD HTML 3.2//E
	N">\n<HTML>\n<HEAD>\n<TITLE></TITLE>\n</HEAD>\n<BODY>\n<h3>Feedbag vs. Miss
	ile-toe</h3>Plus d'info : <a href="https://www.golnetwork.com/game/v/102582
	/">#128</a>\n\n</BODY>\n</HTML>
STATUS:CONFIRMED
CLASS:PUBLIC
URL:https://www.golnetwork.com/game/v/102582/
X-MICROSOFT-CDO-BUSYSTATUS:BUSY
X-MICROSOFT-CDO-IMPORTANCE:1
END:VEVENT
BEGIN:VEVENT
UID:gaedh@games.golnetwork.com
LOCATION:Lees Dome Field #1
GEO:45.415776;-75.6684899
CREATED:20170219T165855Z
DTSTART:20170224T010000Z
DTEND:20170224T015000Z
DTSTAMP:20260420T144808Z
SUMMARY:Fusion vs. Nat & The Wookies
DESCRIPTION:Nat & The Wookies vs. FusionPlus d'info : #133
X-ALT-DESC;FMTTYPE=text/html:<!DOCTYPE HTML PUBLIC "-//W3C//DTD HTML 3.2//E
	N">\n<HTML>\n<HEAD>\n<TITLE></TITLE>\n</HEAD>\n<BODY>\n<h3>Nat & The Wookie
	s vs. Fusion</h3>Plus d'info : <a href="https://www.golnetwork.com/game/v/1
	02703/">#133</a>\n\n</BODY>\n</HTML>
STATUS:CONFIRMED
CLASS:PUBLIC
URL:https://www.golnetwork.com/game/v/102703/
X-MICROSOFT-CDO-BUSYSTATUS:BUSY
X-MICROSOFT-CDO-IMPORTANCE:1
END:VEVENT
BEGIN:VEVENT
UID:gaee6@games.golnetwork.com
LOCATION:Lees Dome Field #3
GEO:45.415776;-75.6684899
CREATED:20170219T170334Z
DTSTART:20170224T010000Z
DTEND:20170224T015000Z
DTSTAMP:20260420T144808Z
SUMMARY:Winded FC vs. JFC
DESCRIPTION:JFC vs. Winded FCPlus d'info : #135
X-ALT-DESC;FMTTYPE=text/html:<!DOCTYPE HTML PUBLIC "-//W3C//DTD HTML 3.2//E
	N">\n<HTML>\n<HEAD>\n<TITLE></TITLE>\n</HEAD>\n<BODY>\n<h3>JFC vs. Winded F
	C</h3>Plus d'info : <a href="https://www.golnetwork.com/game/v/102711/">#13
	5</a>\n\n</BODY>\n</HTML>
STATUS:CONFIRMED
CLASS:PUBLIC
URL:https://www.golnetwork.com/game/v/102711/
X-MICROSOFT-CDO-BUSYSTATUS:BUSY
X-MICROSOFT-CDO-IMPORTANCE:1
END:VEVENT
BEGIN:VEVENT
UID:gaedj@games.golnetwork.com
LOCATION:Lees Dome Field #2
GEO:45.415776;-75.6684899
CREATED:20170219T165918Z
DTSTART:20170224T020000Z
DTEND:20170224T025000Z
DTSTAMP:20260420T144808Z
SUMMARY:Missile-toe vs. Nat & The Wookies
DESCRIPTION:Nat & The Wookies vs. Missile-toePlus d'info : #140
X-ALT-DESC;FMTTYPE=text/html:<!DOCTYPE HTML PUBLIC "-//W3C//DTD HTML 3.2//E
	N">\n<HTML>\n<HEAD>\n<TITLE></TITLE>\n</HEAD>\n<BODY>\n<h3>Nat & The Wookie
	s vs. Missile-toe</h3>Plus d'info : <a href="https://www.golnetwork.com/gam
	e/v/102704/">#140</a>\n\n</BODY>\n</HTML>
STATUS:CONFIRMED
CLASS:PUBLIC
URL:https://www.golnetwork.com/game/v/102704/
X-MICROSOFT-CDO-BUSYSTATUS:BUSY
X-MICROSOFT-CDO-IMPORTANCE:1
END:VEVENT
BEGIN:VEVENT
UID:gaedf@games.golnetwork.com
LOCATION:Hornet's Nest #2
GEO:45.4428309;-75.575268
CREATED:20170219T165833Z
DTSTART:20170224T023000Z
DTEND:20170224T032000Z
DTSTAMP:20260420T144808Z
SUMMARY:Fury vs. Feedbag
DESCRIPTION:Feedbag vs. FuryPlus d'info : #144
X-ALT-DESC;FMTTYPE=text/html:<!DOCTYPE HTML PUBLIC "-//W3C//DTD HTML 3.2//E
	N">\n<HTML>\n<HEAD>\n<TITLE></TITLE>\n</HEAD>\n<BODY>\n<h3>Feedbag vs. Fury
	</h3>Plus d'info : <a href="https://www.golnetwork.com/game/v/102702/">#144
	</a>\n\n</BODY>\n</HTML>
STATUS:CONFIRMED
CLASS:PUBLIC
URL:https://www.golnetwork.com/game/v/102702/
X-MICROSOFT-CDO-BUSYSTATUS:BUSY
X-MICROSOFT-CDO-IMPORTANCE:1
END:VEVENT
BEGIN:VEVENT
UID:gaedd@games.golnetwork.com
LOCATION:Louis Riel #2
GEO:45.4410208;-75.5715394
CREATED:20170219T165817Z
DTSTART:20170224T033000Z
DTEND:20170224T042000Z
DTSTAMP:20260420T144808Z
SUMMARY:Van Den Enden vs. Sock-it Rockets
DESCRIPTION:Sock-it Rockets vs. Van Den EndenPlus d'info : #147
X-ALT-DESC;FMTTYPE=text/html:<!DOCTYPE HTML PUBLIC "-//W3C//DTD HTML 3.2//E
	N">\n<HTML>\n<HEAD>\n<TITLE></TITLE>\n</HEAD>\n<BODY>\n<h3>Sock-it Rockets 
	vs. Van Den Enden</h3>Plus d'info : <a href="https://www.golnetwork.com/gam
	e/v/102701/">#147</a>\n\n</BODY>\n</HTML>
STATUS:CONFIRMED
CLASS:PUBLIC
URL:https://www.golnetwork.com/game/v/102701/
X-MICROSOFT-CDO-BUSYSTATUS:BUSY
X-MICROSOFT-CDO-IMPORTANCE:1
END:VEVENT
BEGIN:VEVENT
UID:gaend@games.golnetwork.com
LOCATION:Louis Riel #3
GEO:45.4410208;-75.5715394
CREATED:20170227T045828Z
DTSTART:20170303T023000Z
DTEND:20170303T032000Z
DTSTAMP:20260420T144808Z
SUMMARY:JFC vs. Van Den Enden
DESCRIPTION:Van Den Enden vs. JFCPlus d'info : #155
X-ALT-DESC;FMTTYPE=text/html:<!DOCTYPE HTML PUBLIC "-//W3C//DTD HTML 3.2//E
	N">\n<HTML>\n<HEAD>\n<TITLE></TITLE>\n</HEAD>\n<BODY>\n<h3>Van Den Enden vs
	. JFC</h3>Plus d'info : <a href="https://www.golnetwork.com/game/v/102836/"
	>#155</a>\n\n</BODY>\n</HTML>
STATUS:CONFIRMED
CLASS:PUBLIC
URL:https://www.golnetwork.com/game/v/102836/
X-MICROSOFT-CDO-BUSYSTATUS:BUSY
X-MICROSOFT-CDO-IMPORTANCE:1
END:VEVENT
END:VCALENDAR
