BEGIN:VCALENDAR
PRODID:-//gdesolutions.com//MV Framework 1.0.0.1607 Calendar//EN
VERSION:2.0
METHOD:PUBLISH
CALSCALE:GREGORIAN
BEGIN:VEVENT
UID:ga53c@games.golnetwork.com
LOCATION:Monarch Park Stadium - Field 1
GEO:43.6792789;-79.3234873
CREATED:20161230T173335Z
DTSTART:20170105T013000Z
DTEND:20170105T022000Z
DTSTAMP:20260422T064144Z
SUMMARY:FDD United vs. McMillan L'Eagles
DESCRIPTION:McMillan L'Eagles vs. FDD UnitedPlus d'info : #21
X-ALT-DESC;FMTTYPE=text/html:<!DOCTYPE HTML PUBLIC "-//W3C//DTD HTML 3.2//E
	N">\n<HTML>\n<HEAD>\n<TITLE></TITLE>\n</HEAD>\n<BODY>\n<h3>McMillan L'Eagle
	s vs. FDD United</h3>Plus d'info : <a href="https://www.golnetwork.com/game
	/v/99285/">#21</a>\n\n</BODY>\n</HTML>
STATUS:CONFIRMED
CLASS:PUBLIC
URL:https://www.golnetwork.com/game/v/99285/
X-MICROSOFT-CDO-BUSYSTATUS:BUSY
X-MICROSOFT-CDO-IMPORTANCE:1
END:VEVENT
BEGIN:VEVENT
UID:ga53e@games.golnetwork.com
LOCATION:Monarch Park Stadium - Field 1
GEO:43.6792789;-79.3234873
CREATED:20161230T173348Z
DTSTART:20170105T023000Z
DTEND:20170105T032000Z
DTSTAMP:20260422T064144Z
SUMMARY:FDD United vs. Turkey Bacon FC
DESCRIPTION:Turkey Bacon FC vs. FDD UnitedPlus d'info : #23
X-ALT-DESC;FMTTYPE=text/html:<!DOCTYPE HTML PUBLIC "-//W3C//DTD HTML 3.2//E
	N">\n<HTML>\n<HEAD>\n<TITLE></TITLE>\n</HEAD>\n<BODY>\n<h3>Turkey Bacon FC 
	vs. FDD United</h3>Plus d'info : <a href="https://www.golnetwork.com/game/v
	/99286/">#23</a>\n\n</BODY>\n</HTML>
STATUS:CONFIRMED
CLASS:PUBLIC
URL:https://www.golnetwork.com/game/v/99286/
X-MICROSOFT-CDO-BUSYSTATUS:BUSY
X-MICROSOFT-CDO-IMPORTANCE:1
END:VEVENT
BEGIN:VEVENT
UID:ga53g@games.golnetwork.com
LOCATION:Monarch Park Stadium - Field 1
GEO:43.6792789;-79.3234873
CREATED:20161230T173356Z
DTSTART:20170105T033000Z
DTEND:20170105T042000Z
DTSTAMP:20260422T064144Z
SUMMARY:Emergency FC vs. Les Foufounes
DESCRIPTION:Les Foufounes vs. Emergency FCPlus d'info : #26
X-ALT-DESC;FMTTYPE=text/html:<!DOCTYPE HTML PUBLIC "-//W3C//DTD HTML 3.2//E
	N">\n<HTML>\n<HEAD>\n<TITLE></TITLE>\n</HEAD>\n<BODY>\n<h3>Les Foufounes vs
	. Emergency FC</h3>Plus d'info : <a href="https://www.golnetwork.com/game/v
	/99287/">#26</a>\n\n</BODY>\n</HTML>
STATUS:CONFIRMED
CLASS:PUBLIC
URL:https://www.golnetwork.com/game/v/99287/
X-MICROSOFT-CDO-BUSYSTATUS:BUSY
X-MICROSOFT-CDO-IMPORTANCE:1
END:VEVENT
BEGIN:VEVENT
UID:ga6n7@games.golnetwork.com
LOCATION:Monarch Park Stadium - Field 1
GEO:43.6792789;-79.3234873
CREATED:20170109T155842Z
DTSTART:20170112T013000Z
DTEND:20170112T022000Z
DTSTAMP:20260422T064144Z
SUMMARY:Pink Panthers FC vs. Emergency FC
DESCRIPTION:Emergency FC vs. Pink Panthers FCPlus d'info : #67
X-ALT-DESC;FMTTYPE=text/html:<!DOCTYPE HTML PUBLIC "-//W3C//DTD HTML 3.2//E
	N">\n<HTML>\n<HEAD>\n<TITLE></TITLE>\n</HEAD>\n<BODY>\n<h3>Emergency FC vs.
	 Pink Panthers FC</h3>Plus d'info : <a href="https://www.golnetwork.com/gam
	e/v/99917/">#67</a>\n\n</BODY>\n</HTML>
STATUS:CONFIRMED
CLASS:PUBLIC
URL:https://www.golnetwork.com/game/v/99917/
X-MICROSOFT-CDO-BUSYSTATUS:BUSY
X-MICROSOFT-CDO-IMPORTANCE:1
END:VEVENT
BEGIN:VEVENT
UID:ga6n9@games.golnetwork.com
LOCATION:Monarch Park Stadium - Field 1
GEO:43.6792789;-79.3234873
CREATED:20170109T155902Z
DTSTART:20170112T023000Z
DTEND:20170112T032000Z
DTSTAMP:20260422T064144Z
SUMMARY:Pink Panthers FC vs. McMillan L'Eagles
DESCRIPTION:McMillan L'Eagles vs. Pink Panthers FCPlus d'info : #69
X-ALT-DESC;FMTTYPE=text/html:<!DOCTYPE HTML PUBLIC "-//W3C//DTD HTML 3.2//E
	N">\n<HTML>\n<HEAD>\n<TITLE></TITLE>\n</HEAD>\n<BODY>\n<h3>McMillan L'Eagle
	s vs. Pink Panthers FC</h3>Plus d'info : <a href="https://www.golnetwork.co
	m/game/v/99918/">#69</a>\n\n</BODY>\n</HTML>
STATUS:CONFIRMED
CLASS:PUBLIC
URL:https://www.golnetwork.com/game/v/99918/
X-MICROSOFT-CDO-BUSYSTATUS:BUSY
X-MICROSOFT-CDO-IMPORTANCE:1
END:VEVENT
BEGIN:VEVENT
UID:ga6nb@games.golnetwork.com
LOCATION:Monarch Park Stadium - Field 1
GEO:43.6792789;-79.3234873
CREATED:20170109T155912Z
DTSTART:20170112T033000Z
DTEND:20170112T042000Z
DTSTAMP:20260422T064144Z
SUMMARY:Turkey Bacon FC vs. McMillan L'Eagles
DESCRIPTION:McMillan L'Eagles vs. Turkey Bacon FCPlus d'info : #71
X-ALT-DESC;FMTTYPE=text/html:<!DOCTYPE HTML PUBLIC "-//W3C//DTD HTML 3.2//E
	N">\n<HTML>\n<HEAD>\n<TITLE></TITLE>\n</HEAD>\n<BODY>\n<h3>McMillan L'Eagle
	s vs. Turkey Bacon FC</h3>Plus d'info : <a href="https://www.golnetwork.com
	/game/v/99919/">#71</a>\n\n</BODY>\n</HTML>
STATUS:CONFIRMED
CLASS:PUBLIC
URL:https://www.golnetwork.com/game/v/99919/
X-MICROSOFT-CDO-BUSYSTATUS:BUSY
X-MICROSOFT-CDO-IMPORTANCE:1
END:VEVENT
BEGIN:VEVENT
UID:ga6nd@games.golnetwork.com
LOCATION:Monarch Park Stadium - Field 1
GEO:43.6792789;-79.3234873
CREATED:20170109T155922Z
DTSTART:20170112T043000Z
DTEND:20170112T052000Z
DTSTAMP:20260422T064144Z
SUMMARY:FDD United vs. Les Foufounes
DESCRIPTION:Les Foufounes vs. FDD UnitedPlus d'info : #74
X-ALT-DESC;FMTTYPE=text/html:<!DOCTYPE HTML PUBLIC "-//W3C//DTD HTML 3.2//E
	N">\n<HTML>\n<HEAD>\n<TITLE></TITLE>\n</HEAD>\n<BODY>\n<h3>Les Foufounes vs
	. FDD United</h3>Plus d'info : <a href="https://www.golnetwork.com/game/v/9
	9920/">#74</a>\n\n</BODY>\n</HTML>
STATUS:CONFIRMED
CLASS:PUBLIC
URL:https://www.golnetwork.com/game/v/99920/
X-MICROSOFT-CDO-BUSYSTATUS:BUSY
X-MICROSOFT-CDO-IMPORTANCE:1
END:VEVENT
BEGIN:VEVENT
UID:ga6nh@games.golnetwork.com
LOCATION:Monarch Park Stadium - Field 1
GEO:43.6792789;-79.3234873
CREATED:20170109T160115Z
DTSTART:20170119T013000Z
DTEND:20170119T022000Z
DTSTAMP:20260422T064144Z
SUMMARY:Les Foufounes vs. Pink Panthers FC
DESCRIPTION:Pink Panthers FC vs. Les FoufounesPlus d'info : #118
X-ALT-DESC;FMTTYPE=text/html:<!DOCTYPE HTML PUBLIC "-//W3C//DTD HTML 3.2//E
	N">\n<HTML>\n<HEAD>\n<TITLE></TITLE>\n</HEAD>\n<BODY>\n<h3>Pink Panthers FC
	 vs. Les Foufounes</h3>Plus d'info : <a href="https://www.golnetwork.com/ga
	me/v/99922/">#118</a>\n\n</BODY>\n</HTML>
STATUS:CONFIRMED
CLASS:PUBLIC
URL:https://www.golnetwork.com/game/v/99922/
X-MICROSOFT-CDO-BUSYSTATUS:BUSY
X-MICROSOFT-CDO-IMPORTANCE:1
END:VEVENT
BEGIN:VEVENT
UID:ga6nj@games.golnetwork.com
LOCATION:Monarch Park Stadium - Field 1
GEO:43.6792789;-79.3234873
CREATED:20170109T160235Z
DTSTART:20170119T023000Z
DTEND:20170119T032000Z
DTSTAMP:20260422T064144Z
SUMMARY:McMillan L'Eagles vs. Emergency FC
DESCRIPTION:Emergency FC vs. McMillan L'EaglesPlus d'info : #120
X-ALT-DESC;FMTTYPE=text/html:<!DOCTYPE HTML PUBLIC "-//W3C//DTD HTML 3.2//E
	N">\n<HTML>\n<HEAD>\n<TITLE></TITLE>\n</HEAD>\n<BODY>\n<h3>Emergency FC vs.
	 McMillan L'Eagles</h3>Plus d'info : <a href="https://www.golnetwork.com/ga
	me/v/99923/">#120</a>\n\n</BODY>\n</HTML>
STATUS:CONFIRMED
CLASS:PUBLIC
URL:https://www.golnetwork.com/game/v/99923/
X-MICROSOFT-CDO-BUSYSTATUS:BUSY
X-MICROSOFT-CDO-IMPORTANCE:1
END:VEVENT
BEGIN:VEVENT
UID:ga6nl@games.golnetwork.com
LOCATION:Monarch Park Stadium - Field 1
GEO:43.6792789;-79.3234873
CREATED:20170109T160242Z
DTSTART:20170119T033000Z
DTEND:20170119T042000Z
DTSTAMP:20260422T064144Z
SUMMARY:Turkey Bacon FC vs. FDD United
DESCRIPTION:FDD United vs. Turkey Bacon FCPlus d'info : #122
X-ALT-DESC;FMTTYPE=text/html:<!DOCTYPE HTML PUBLIC "-//W3C//DTD HTML 3.2//E
	N">\n<HTML>\n<HEAD>\n<TITLE></TITLE>\n</HEAD>\n<BODY>\n<h3>FDD United vs. T
	urkey Bacon FC</h3>Plus d'info : <a href="https://www.golnetwork.com/game/v
	/99924/">#122</a>\n\n</BODY>\n</HTML>
STATUS:CONFIRMED
CLASS:PUBLIC
URL:https://www.golnetwork.com/game/v/99924/
X-MICROSOFT-CDO-BUSYSTATUS:BUSY
X-MICROSOFT-CDO-IMPORTANCE:1
END:VEVENT
BEGIN:VEVENT
UID:ga6nn@games.golnetwork.com
LOCATION:Monarch Park Stadium - Field 1
GEO:43.6792789;-79.3234873
CREATED:20170109T160256Z
DTSTART:20170126T013000Z
DTEND:20170126T022000Z
DTSTAMP:20260422T064144Z
SUMMARY:Emergency FC vs. Turkey Bacon FC
DESCRIPTION:Turkey Bacon FC vs. Emergency FCPlus d'info : #169
X-ALT-DESC;FMTTYPE=text/html:<!DOCTYPE HTML PUBLIC "-//W3C//DTD HTML 3.2//E
	N">\n<HTML>\n<HEAD>\n<TITLE></TITLE>\n</HEAD>\n<BODY>\n<h3>Turkey Bacon FC 
	vs. Emergency FC</h3>Plus d'info : <a href="https://www.golnetwork.com/game
	/v/99925/">#169</a>\n\n</BODY>\n</HTML>
STATUS:CONFIRMED
CLASS:PUBLIC
URL:https://www.golnetwork.com/game/v/99925/
X-MICROSOFT-CDO-BUSYSTATUS:BUSY
X-MICROSOFT-CDO-IMPORTANCE:1
END:VEVENT
BEGIN:VEVENT
UID:ga6np@games.golnetwork.com
LOCATION:Monarch Park Stadium - Field 1
GEO:43.6792789;-79.3234873
CREATED:20170109T160306Z
DTSTART:20170126T023000Z
DTEND:20170126T032000Z
DTSTAMP:20260422T064144Z
SUMMARY:Les Foufounes vs. Turkey Bacon FC
DESCRIPTION:Turkey Bacon FC vs. Les FoufounesPlus d'info : #172
X-ALT-DESC;FMTTYPE=text/html:<!DOCTYPE HTML PUBLIC "-//W3C//DTD HTML 3.2//E
	N">\n<HTML>\n<HEAD>\n<TITLE></TITLE>\n</HEAD>\n<BODY>\n<h3>Turkey Bacon FC 
	vs. Les Foufounes</h3>Plus d'info : <a href="https://www.golnetwork.com/gam
	e/v/99926/">#172</a>\n\n</BODY>\n</HTML>
STATUS:CONFIRMED
CLASS:PUBLIC
URL:https://www.golnetwork.com/game/v/99926/
X-MICROSOFT-CDO-BUSYSTATUS:BUSY
X-MICROSOFT-CDO-IMPORTANCE:1
END:VEVENT
BEGIN:VEVENT
UID:ga6o0@games.golnetwork.com
LOCATION:Monarch Park Stadium - Field 1
GEO:43.6792789;-79.3234873
CREATED:20170109T160318Z
DTSTART:20170126T033000Z
DTEND:20170126T042000Z
DTSTAMP:20260422T064144Z
SUMMARY:Les Foufounes vs. McMillan L'Eagles
DESCRIPTION:McMillan L'Eagles vs. Les FoufounesPlus d'info : #174
X-ALT-DESC;FMTTYPE=text/html:<!DOCTYPE HTML PUBLIC "-//W3C//DTD HTML 3.2//E
	N">\n<HTML>\n<HEAD>\n<TITLE></TITLE>\n</HEAD>\n<BODY>\n<h3>McMillan L'Eagle
	s vs. Les Foufounes</h3>Plus d'info : <a href="https://www.golnetwork.com/g
	ame/v/99927/">#174</a>\n\n</BODY>\n</HTML>
STATUS:CONFIRMED
CLASS:PUBLIC
URL:https://www.golnetwork.com/game/v/99927/
X-MICROSOFT-CDO-BUSYSTATUS:BUSY
X-MICROSOFT-CDO-IMPORTANCE:1
END:VEVENT
BEGIN:VEVENT
UID:ga6o2@games.golnetwork.com
LOCATION:Monarch Park Stadium - Field 1
GEO:43.6792789;-79.3234873
CREATED:20170109T160327Z
DTSTART:20170126T043000Z
DTEND:20170126T052000Z
DTSTAMP:20260422T064144Z
SUMMARY:FDD United vs. Pink Panthers FC
DESCRIPTION:Pink Panthers FC vs. FDD UnitedPlus d'info : #176
X-ALT-DESC;FMTTYPE=text/html:<!DOCTYPE HTML PUBLIC "-//W3C//DTD HTML 3.2//E
	N">\n<HTML>\n<HEAD>\n<TITLE></TITLE>\n</HEAD>\n<BODY>\n<h3>Pink Panthers FC
	 vs. FDD United</h3>Plus d'info : <a href="https://www.golnetwork.com/game/
	v/99928/">#176</a>\n\n</BODY>\n</HTML>
STATUS:CONFIRMED
CLASS:PUBLIC
URL:https://www.golnetwork.com/game/v/99928/
X-MICROSOFT-CDO-BUSYSTATUS:BUSY
X-MICROSOFT-CDO-IMPORTANCE:1
END:VEVENT
BEGIN:VEVENT
UID:ga6o4@games.golnetwork.com
LOCATION:Monarch Park Stadium - Field 1
GEO:43.6792789;-79.3234873
CREATED:20170109T160351Z
DTSTART:20170202T013000Z
DTEND:20170202T022000Z
DTSTAMP:20260422T064144Z
SUMMARY:FDD United vs. McMillan L'Eagles
DESCRIPTION:McMillan L'Eagles vs. FDD UnitedPlus d'info : #243
X-ALT-DESC;FMTTYPE=text/html:<!DOCTYPE HTML PUBLIC "-//W3C//DTD HTML 3.2//E
	N">\n<HTML>\n<HEAD>\n<TITLE></TITLE>\n</HEAD>\n<BODY>\n<h3>McMillan L'Eagle
	s vs. FDD United</h3>Plus d'info : <a href="https://www.golnetwork.com/game
	/v/99929/">#243</a>\n\n</BODY>\n</HTML>
STATUS:CONFIRMED
CLASS:PUBLIC
URL:https://www.golnetwork.com/game/v/99929/
X-MICROSOFT-CDO-BUSYSTATUS:BUSY
X-MICROSOFT-CDO-IMPORTANCE:1
END:VEVENT
BEGIN:VEVENT
UID:ga6o8@games.golnetwork.com
LOCATION:Monarch Park Stadium - Field 1
GEO:43.6792789;-79.3234873
CREATED:20170109T160414Z
DTSTART:20170202T023000Z
DTEND:20170202T032000Z
DTSTAMP:20260422T064144Z
SUMMARY:Les Foufounes vs. Emergency FC
DESCRIPTION:Emergency FC vs. Les FoufounesPlus d'info : #245
X-ALT-DESC;FMTTYPE=text/html:<!DOCTYPE HTML PUBLIC "-//W3C//DTD HTML 3.2//E
	N">\n<HTML>\n<HEAD>\n<TITLE></TITLE>\n</HEAD>\n<BODY>\n<h3>Emergency FC vs.
	 Les Foufounes</h3>Plus d'info : <a href="https://www.golnetwork.com/game/v
	/99931/">#245</a>\n\n</BODY>\n</HTML>
STATUS:CONFIRMED
CLASS:PUBLIC
URL:https://www.golnetwork.com/game/v/99931/
X-MICROSOFT-CDO-BUSYSTATUS:BUSY
X-MICROSOFT-CDO-IMPORTANCE:1
END:VEVENT
BEGIN:VEVENT
UID:ga6o6@games.golnetwork.com
LOCATION:Monarch Park Stadium - Field 1
GEO:43.6792789;-79.3234873
CREATED:20170109T160403Z
DTSTART:20170202T033000Z
DTEND:20170202T042000Z
DTSTAMP:20260422T064144Z
SUMMARY:Pink Panthers FC vs. Turkey Bacon FC
DESCRIPTION:Turkey Bacon FC vs. Pink Panthers FCPlus d'info : #248
X-ALT-DESC;FMTTYPE=text/html:<!DOCTYPE HTML PUBLIC "-//W3C//DTD HTML 3.2//E
	N">\n<HTML>\n<HEAD>\n<TITLE></TITLE>\n</HEAD>\n<BODY>\n<h3>Turkey Bacon FC 
	vs. Pink Panthers FC</h3>Plus d'info : <a href="https://www.golnetwork.com/
	game/v/99930/">#248</a>\n\n</BODY>\n</HTML>
STATUS:CONFIRMED
CLASS:PUBLIC
URL:https://www.golnetwork.com/game/v/99930/
X-MICROSOFT-CDO-BUSYSTATUS:BUSY
X-MICROSOFT-CDO-IMPORTANCE:1
END:VEVENT
BEGIN:VEVENT
UID:ga6oa@games.golnetwork.com
LOCATION:Monarch Park Stadium - Field 1
GEO:43.6792789;-79.3234873
CREATED:20170109T160430Z
DTSTART:20170209T013000Z
DTEND:20170209T022000Z
DTSTAMP:20260422T064144Z
SUMMARY:Emergency FC vs. FDD United
DESCRIPTION:FDD United vs. Emergency FCPlus d'info : #323
X-ALT-DESC;FMTTYPE=text/html:<!DOCTYPE HTML PUBLIC "-//W3C//DTD HTML 3.2//E
	N">\n<HTML>\n<HEAD>\n<TITLE></TITLE>\n</HEAD>\n<BODY>\n<h3>FDD United vs. E
	mergency FC</h3>Plus d'info : <a href="https://www.golnetwork.com/game/v/99
	932/">#323</a>\n\n</BODY>\n</HTML>
STATUS:CONFIRMED
CLASS:PUBLIC
URL:https://www.golnetwork.com/game/v/99932/
X-MICROSOFT-CDO-BUSYSTATUS:BUSY
X-MICROSOFT-CDO-IMPORTANCE:1
END:VEVENT
BEGIN:VEVENT
UID:ga6oc@games.golnetwork.com
LOCATION:Monarch Park Stadium - Field 1
GEO:43.6792789;-79.3234873
CREATED:20170109T160441Z
DTSTART:20170209T023000Z
DTEND:20170209T032000Z
DTSTAMP:20260422T064144Z
SUMMARY:Emergency FC vs. Pink Panthers FC
DESCRIPTION:Pink Panthers FC vs. Emergency FCPlus d'info : #325
X-ALT-DESC;FMTTYPE=text/html:<!DOCTYPE HTML PUBLIC "-//W3C//DTD HTML 3.2//E
	N">\n<HTML>\n<HEAD>\n<TITLE></TITLE>\n</HEAD>\n<BODY>\n<h3>Pink Panthers FC
	 vs. Emergency FC</h3>Plus d'info : <a href="https://www.golnetwork.com/gam
	e/v/99933/">#325</a>\n\n</BODY>\n</HTML>
STATUS:CONFIRMED
CLASS:PUBLIC
URL:https://www.golnetwork.com/game/v/99933/
X-MICROSOFT-CDO-BUSYSTATUS:BUSY
X-MICROSOFT-CDO-IMPORTANCE:1
END:VEVENT
BEGIN:VEVENT
UID:ga6oe@games.golnetwork.com
LOCATION:Monarch Park Stadium - Field 1
GEO:43.6792789;-79.3234873
CREATED:20170109T160452Z
DTSTART:20170209T033000Z
DTEND:20170209T042000Z
DTSTAMP:20260422T064144Z
SUMMARY:Les Foufounes vs. Pink Panthers FC
DESCRIPTION:Pink Panthers FC vs. Les FoufounesPlus d'info : #328
X-ALT-DESC;FMTTYPE=text/html:<!DOCTYPE HTML PUBLIC "-//W3C//DTD HTML 3.2//E
	N">\n<HTML>\n<HEAD>\n<TITLE></TITLE>\n</HEAD>\n<BODY>\n<h3>Pink Panthers FC
	 vs. Les Foufounes</h3>Plus d'info : <a href="https://www.golnetwork.com/ga
	me/v/99934/">#328</a>\n\n</BODY>\n</HTML>
STATUS:CONFIRMED
CLASS:PUBLIC
URL:https://www.golnetwork.com/game/v/99934/
X-MICROSOFT-CDO-BUSYSTATUS:BUSY
X-MICROSOFT-CDO-IMPORTANCE:1
END:VEVENT
BEGIN:VEVENT
UID:ga6og@games.golnetwork.com
LOCATION:Monarch Park Stadium - Field 1
GEO:43.6792789;-79.3234873
CREATED:20170109T160516Z
DTSTART:20170209T043000Z
DTEND:20170209T052000Z
DTSTAMP:20260422T064144Z
SUMMARY:Turkey Bacon FC vs. McMillan L'Eagles
DESCRIPTION:McMillan L'Eagles vs. Turkey Bacon FCPlus d'info : #330
X-ALT-DESC;FMTTYPE=text/html:<!DOCTYPE HTML PUBLIC "-//W3C//DTD HTML 3.2//E
	N">\n<HTML>\n<HEAD>\n<TITLE></TITLE>\n</HEAD>\n<BODY>\n<h3>McMillan L'Eagle
	s vs. Turkey Bacon FC</h3>Plus d'info : <a href="https://www.golnetwork.com
	/game/v/99935/">#330</a>\n\n</BODY>\n</HTML>
STATUS:CONFIRMED
CLASS:PUBLIC
URL:https://www.golnetwork.com/game/v/99935/
X-MICROSOFT-CDO-BUSYSTATUS:BUSY
X-MICROSOFT-CDO-IMPORTANCE:1
END:VEVENT
BEGIN:VEVENT
UID:gaanj@games.golnetwork.com
LOCATION:Monarch Park Stadium - Field 1
GEO:43.6792789;-79.3234873
CREATED:20170118T143409Z
DTSTART:20170216T033000Z
DTEND:20170216T042000Z
DTSTAMP:20260422T064144Z
SUMMARY:FDD United vs. McMillan L'Eagles
DESCRIPTION:McMillan L'Eagles vs. FDD UnitedPlus d'info : #408
X-ALT-DESC;FMTTYPE=text/html:<!DOCTYPE HTML PUBLIC "-//W3C//DTD HTML 3.2//E
	N">\n<HTML>\n<HEAD>\n<TITLE></TITLE>\n</HEAD>\n<BODY>\n<h3>McMillan L'Eagle
	s vs. FDD United</h3>Plus d'info : <a href="https://www.golnetwork.com/game
	/v/101381/">#408</a>\n\n</BODY>\n</HTML>
STATUS:CONFIRMED
CLASS:PUBLIC
URL:https://www.golnetwork.com/game/v/101381/
X-MICROSOFT-CDO-BUSYSTATUS:BUSY
X-MICROSOFT-CDO-IMPORTANCE:1
END:VEVENT
BEGIN:VEVENT
UID:gaann@games.golnetwork.com
LOCATION:Monarch Park Stadium - Field 1
GEO:43.6792789;-79.3234873
CREATED:20170118T143419Z
DTSTART:20170223T023000Z
DTEND:20170223T032000Z
DTSTAMP:20260422T064144Z
SUMMARY:Pink Panthers FC vs. McMillan L'Eagles
DESCRIPTION:McMillan L'Eagles vs. Pink Panthers FCPlus d'info : #457
X-ALT-DESC;FMTTYPE=text/html:<!DOCTYPE HTML PUBLIC "-//W3C//DTD HTML 3.2//E
	N">\n<HTML>\n<HEAD>\n<TITLE></TITLE>\n</HEAD>\n<BODY>\n<h3>McMillan L'Eagle
	s vs. Pink Panthers FC</h3>Plus d'info : <a href="https://www.golnetwork.co
	m/game/v/101383/">#457</a>\n\n</BODY>\n</HTML>
STATUS:CONFIRMED
CLASS:PUBLIC
URL:https://www.golnetwork.com/game/v/101383/
X-MICROSOFT-CDO-BUSYSTATUS:BUSY
X-MICROSOFT-CDO-IMPORTANCE:1
END:VEVENT
BEGIN:VEVENT
UID:gaanl@games.golnetwork.com
LOCATION:Monarch Park Stadium - Field 1
GEO:43.6792789;-79.3234873
CREATED:20170118T143413Z
DTSTART:20170223T033000Z
DTEND:20170223T042000Z
DTSTAMP:20260422T064144Z
SUMMARY:Les Foufounes vs. FDD United
DESCRIPTION:FDD United vs. Les FoufounesPlus d'info : #459
X-ALT-DESC;FMTTYPE=text/html:<!DOCTYPE HTML PUBLIC "-//W3C//DTD HTML 3.2//E
	N">\n<HTML>\n<HEAD>\n<TITLE></TITLE>\n</HEAD>\n<BODY>\n<h3>FDD United vs. L
	es Foufounes</h3>Plus d'info : <a href="https://www.golnetwork.com/game/v/1
	01382/">#459</a>\n\n</BODY>\n</HTML>
STATUS:CONFIRMED
CLASS:PUBLIC
URL:https://www.golnetwork.com/game/v/101382/
X-MICROSOFT-CDO-BUSYSTATUS:BUSY
X-MICROSOFT-CDO-IMPORTANCE:1
END:VEVENT
END:VCALENDAR
