BEGIN:VCALENDAR
PRODID:-//gdesolutions.com//MV Framework 1.0.0.1607 Calendar//EN
VERSION:2.0
METHOD:PUBLISH
CALSCALE:GREGORIAN
BEGIN:VEVENT
UID:ga543@games.golnetwork.com
LOCATION:Monarch Park Stadium - Field 1
GEO:43.6792789;-79.3234873
CREATED:20161230T195614Z
DTSTART:20170104T030000Z
DTEND:20170104T035000Z
DTSTAMP:20260419T174622Z
SUMMARY:Diego's Return from Rehab vs. Quesada FC
DESCRIPTION:Quesada FC vs. Diego's Return from RehabPlus d'info : #14
X-ALT-DESC;FMTTYPE=text/html:<!DOCTYPE HTML PUBLIC "-//W3C//DTD HTML 3.2//E
	N">\n<HTML>\n<HEAD>\n<TITLE></TITLE>\n</HEAD>\n<BODY>\n<h3>Quesada FC vs. D
	iego's Return from Rehab</h3>Plus d'info : <a href="https://www.golnetwork.
	com/game/v/99294/">#14</a>\n\n</BODY>\n</HTML>
STATUS:CONFIRMED
CLASS:PUBLIC
URL:https://www.golnetwork.com/game/v/99294/
X-MICROSOFT-CDO-BUSYSTATUS:BUSY
X-MICROSOFT-CDO-IMPORTANCE:1
END:VEVENT
BEGIN:VEVENT
UID:ga545@games.golnetwork.com
LOCATION:Monarch Park Stadium - Field 2
GEO:43.6792789;-79.3234873
CREATED:20161230T195624Z
DTSTART:20170104T030000Z
DTEND:20170104T035000Z
DTSTAMP:20260419T174622Z
SUMMARY:Free Agents vs. Galaxy
DESCRIPTION:Galaxy vs. Free AgentsPlus d'info : #15
X-ALT-DESC;FMTTYPE=text/html:<!DOCTYPE HTML PUBLIC "-//W3C//DTD HTML 3.2//E
	N">\n<HTML>\n<HEAD>\n<TITLE></TITLE>\n</HEAD>\n<BODY>\n<h3>Galaxy vs. Free 
	Agents</h3>Plus d'info : <a href="https://www.golnetwork.com/game/v/99295/"
	>#15</a>\n\n</BODY>\n</HTML>
STATUS:CONFIRMED
CLASS:PUBLIC
URL:https://www.golnetwork.com/game/v/99295/
X-MICROSOFT-CDO-BUSYSTATUS:BUSY
X-MICROSOFT-CDO-IMPORTANCE:1
END:VEVENT
BEGIN:VEVENT
UID:ga549@games.golnetwork.com
LOCATION:Monarch Park Stadium - Field 3
GEO:43.6792789;-79.3234873
CREATED:20161230T195649Z
DTSTART:20170104T030000Z
DTEND:20170104T035000Z
DTSTAMP:20260419T174622Z
SUMMARY:XTSC Park Rangers vs. Galacticos FC
DESCRIPTION:Galacticos FC vs. XTSC Park RangersPlus d'info : #16
X-ALT-DESC;FMTTYPE=text/html:<!DOCTYPE HTML PUBLIC "-//W3C//DTD HTML 3.2//E
	N">\n<HTML>\n<HEAD>\n<TITLE></TITLE>\n</HEAD>\n<BODY>\n<h3>Galacticos FC vs
	. XTSC Park Rangers</h3>Plus d'info : <a href="https://www.golnetwork.com/g
	ame/v/99297/">#16</a>\n\n</BODY>\n</HTML>
STATUS:CONFIRMED
CLASS:PUBLIC
URL:https://www.golnetwork.com/game/v/99297/
X-MICROSOFT-CDO-BUSYSTATUS:BUSY
X-MICROSOFT-CDO-IMPORTANCE:1
END:VEVENT
BEGIN:VEVENT
UID:ga547@games.golnetwork.com
LOCATION:Monarch Park Stadium - Field 1
GEO:43.6792789;-79.3234873
CREATED:20161230T195639Z
DTSTART:20170104T040000Z
DTEND:20170104T045000Z
DTSTAMP:20260419T174622Z
SUMMARY:Entuitive FC vs. Gravy Train
DESCRIPTION:Gravy Train vs. Entuitive FCPlus d'info : #17
X-ALT-DESC;FMTTYPE=text/html:<!DOCTYPE HTML PUBLIC "-//W3C//DTD HTML 3.2//E
	N">\n<HTML>\n<HEAD>\n<TITLE></TITLE>\n</HEAD>\n<BODY>\n<h3>Gravy Train vs. 
	Entuitive FC</h3>Plus d'info : <a href="https://www.golnetwork.com/game/v/9
	9296/">#17</a>\n\n</BODY>\n</HTML>
STATUS:CONFIRMED
CLASS:PUBLIC
URL:https://www.golnetwork.com/game/v/99296/
X-MICROSOFT-CDO-BUSYSTATUS:BUSY
X-MICROSOFT-CDO-IMPORTANCE:1
END:VEVENT
BEGIN:VEVENT
UID:ga54b@games.golnetwork.com
LOCATION:Monarch Park Stadium - Field 3
GEO:43.6792789;-79.3234873
CREATED:20161230T195709Z
DTSTART:20170111T000000Z
DTEND:20170111T005000Z
DTSTAMP:20260419T174622Z
SUMMARY:XTSC Park Rangers vs. Diego's Return from Rehab
DESCRIPTION:Diego's Return from Rehab vs. XTSC Park RangersPlus d'info : #5
	7
X-ALT-DESC;FMTTYPE=text/html:<!DOCTYPE HTML PUBLIC "-//W3C//DTD HTML 3.2//E
	N">\n<HTML>\n<HEAD>\n<TITLE></TITLE>\n</HEAD>\n<BODY>\n<h3>Diego's Return f
	rom Rehab vs. XTSC Park Rangers</h3>Plus d'info : <a href="https://www.goln
	etwork.com/game/v/99298/">#57</a>\n\n</BODY>\n</HTML>
STATUS:CONFIRMED
CLASS:PUBLIC
URL:https://www.golnetwork.com/game/v/99298/
X-MICROSOFT-CDO-BUSYSTATUS:BUSY
X-MICROSOFT-CDO-IMPORTANCE:1
END:VEVENT
BEGIN:VEVENT
UID:ga54d@games.golnetwork.com
LOCATION:Monarch Park Stadium - Field 3
GEO:43.6792789;-79.3234873
CREATED:20161230T195718Z
DTSTART:20170111T010000Z
DTEND:20170111T015000Z
DTSTAMP:20260419T174622Z
SUMMARY:Entuitive FC vs. Galacticos FC
DESCRIPTION:Galacticos FC vs. Entuitive FCPlus d'info : #58
X-ALT-DESC;FMTTYPE=text/html:<!DOCTYPE HTML PUBLIC "-//W3C//DTD HTML 3.2//E
	N">\n<HTML>\n<HEAD>\n<TITLE></TITLE>\n</HEAD>\n<BODY>\n<h3>Galacticos FC vs
	. Entuitive FC</h3>Plus d'info : <a href="https://www.golnetwork.com/game/v
	/99299/">#58</a>\n\n</BODY>\n</HTML>
STATUS:CONFIRMED
CLASS:PUBLIC
URL:https://www.golnetwork.com/game/v/99299/
X-MICROSOFT-CDO-BUSYSTATUS:BUSY
X-MICROSOFT-CDO-IMPORTANCE:1
END:VEVENT
BEGIN:VEVENT
UID:ga54f@games.golnetwork.com
LOCATION:Monarch Park Stadium - Field 3
GEO:43.6792789;-79.3234873
CREATED:20161230T195732Z
DTSTART:20170111T020000Z
DTEND:20170111T025000Z
DTSTAMP:20260419T174622Z
SUMMARY:Gravy Train vs. Free Agents
DESCRIPTION:Free Agents vs. Gravy TrainPlus d'info : #59
X-ALT-DESC;FMTTYPE=text/html:<!DOCTYPE HTML PUBLIC "-//W3C//DTD HTML 3.2//E
	N">\n<HTML>\n<HEAD>\n<TITLE></TITLE>\n</HEAD>\n<BODY>\n<h3>Free Agents vs. 
	Gravy Train</h3>Plus d'info : <a href="https://www.golnetwork.com/game/v/99
	300/">#59</a>\n\n</BODY>\n</HTML>
STATUS:CONFIRMED
CLASS:PUBLIC
URL:https://www.golnetwork.com/game/v/99300/
X-MICROSOFT-CDO-BUSYSTATUS:BUSY
X-MICROSOFT-CDO-IMPORTANCE:1
END:VEVENT
BEGIN:VEVENT
UID:ga54h@games.golnetwork.com
LOCATION:Monarch Park Stadium - Field 3
GEO:43.6792789;-79.3234873
CREATED:20161230T195743Z
DTSTART:20170111T030000Z
DTEND:20170111T035000Z
DTSTAMP:20260419T174622Z
SUMMARY:Galaxy vs. Quesada FC
DESCRIPTION:Quesada FC vs. GalaxyPlus d'info : #62
X-ALT-DESC;FMTTYPE=text/html:<!DOCTYPE HTML PUBLIC "-//W3C//DTD HTML 3.2//E
	N">\n<HTML>\n<HEAD>\n<TITLE></TITLE>\n</HEAD>\n<BODY>\n<h3>Quesada FC vs. G
	alaxy</h3>Plus d'info : <a href="https://www.golnetwork.com/game/v/99301/">
	#62</a>\n\n</BODY>\n</HTML>
STATUS:CONFIRMED
CLASS:PUBLIC
URL:https://www.golnetwork.com/game/v/99301/
X-MICROSOFT-CDO-BUSYSTATUS:BUSY
X-MICROSOFT-CDO-IMPORTANCE:1
END:VEVENT
BEGIN:VEVENT
UID:ga54j@games.golnetwork.com
LOCATION:Monarch Park Stadium - Field 2
GEO:43.6792789;-79.3234873
CREATED:20161230T195759Z
DTSTART:20170118T030000Z
DTEND:20170118T035000Z
DTSTAMP:20260419T174622Z
SUMMARY:XTSC Park Rangers vs. Entuitive FC
DESCRIPTION:Entuitive FC vs. XTSC Park RangersPlus d'info : #111
X-ALT-DESC;FMTTYPE=text/html:<!DOCTYPE HTML PUBLIC "-//W3C//DTD HTML 3.2//E
	N">\n<HTML>\n<HEAD>\n<TITLE></TITLE>\n</HEAD>\n<BODY>\n<h3>Entuitive FC vs.
	 XTSC Park Rangers</h3>Plus d'info : <a href="https://www.golnetwork.com/ga
	me/v/99302/">#111</a>\n\n</BODY>\n</HTML>
STATUS:CONFIRMED
CLASS:PUBLIC
URL:https://www.golnetwork.com/game/v/99302/
X-MICROSOFT-CDO-BUSYSTATUS:BUSY
X-MICROSOFT-CDO-IMPORTANCE:1
END:VEVENT
BEGIN:VEVENT
UID:ga54p@games.golnetwork.com
LOCATION:Monarch Park Stadium - Field 3
GEO:43.6792789;-79.3234873
CREATED:20161230T195837Z
DTSTART:20170118T030000Z
DTEND:20170118T035000Z
DTSTAMP:20260419T174622Z
SUMMARY:Gravy Train vs. Galaxy
DESCRIPTION:Galaxy vs. Gravy TrainPlus d'info : #112
X-ALT-DESC;FMTTYPE=text/html:<!DOCTYPE HTML PUBLIC "-//W3C//DTD HTML 3.2//E
	N">\n<HTML>\n<HEAD>\n<TITLE></TITLE>\n</HEAD>\n<BODY>\n<h3>Galaxy vs. Gravy
	 Train</h3>Plus d'info : <a href="https://www.golnetwork.com/game/v/99305/"
	>#112</a>\n\n</BODY>\n</HTML>
STATUS:CONFIRMED
CLASS:PUBLIC
URL:https://www.golnetwork.com/game/v/99305/
X-MICROSOFT-CDO-BUSYSTATUS:BUSY
X-MICROSOFT-CDO-IMPORTANCE:1
END:VEVENT
BEGIN:VEVENT
UID:ga54n@games.golnetwork.com
LOCATION:Monarch Park Stadium - Field 2
GEO:43.6792789;-79.3234873
CREATED:20161230T195826Z
DTSTART:20170118T040000Z
DTEND:20170118T045000Z
DTSTAMP:20260419T174622Z
SUMMARY:Galacticos FC vs. Diego's Return from Rehab
DESCRIPTION:Diego's Return from Rehab vs. Galacticos FCPlus d'info : #113
X-ALT-DESC;FMTTYPE=text/html:<!DOCTYPE HTML PUBLIC "-//W3C//DTD HTML 3.2//E
	N">\n<HTML>\n<HEAD>\n<TITLE></TITLE>\n</HEAD>\n<BODY>\n<h3>Diego's Return f
	rom Rehab vs. Galacticos FC</h3>Plus d'info : <a href="https://www.golnetwo
	rk.com/game/v/99304/">#113</a>\n\n</BODY>\n</HTML>
STATUS:CONFIRMED
CLASS:PUBLIC
URL:https://www.golnetwork.com/game/v/99304/
X-MICROSOFT-CDO-BUSYSTATUS:BUSY
X-MICROSOFT-CDO-IMPORTANCE:1
END:VEVENT
BEGIN:VEVENT
UID:ga54l@games.golnetwork.com
LOCATION:Monarch Park Stadium - Field 3
GEO:43.6792789;-79.3234873
CREATED:20161230T195816Z
DTSTART:20170118T040000Z
DTEND:20170118T045000Z
DTSTAMP:20260419T174622Z
SUMMARY:Free Agents vs. Quesada FC
DESCRIPTION:Quesada FC vs. Free AgentsPlus d'info : #114
X-ALT-DESC;FMTTYPE=text/html:<!DOCTYPE HTML PUBLIC "-//W3C//DTD HTML 3.2//E
	N">\n<HTML>\n<HEAD>\n<TITLE></TITLE>\n</HEAD>\n<BODY>\n<h3>Quesada FC vs. F
	ree Agents</h3>Plus d'info : <a href="https://www.golnetwork.com/game/v/993
	03/">#114</a>\n\n</BODY>\n</HTML>
STATUS:CONFIRMED
CLASS:PUBLIC
URL:https://www.golnetwork.com/game/v/99303/
X-MICROSOFT-CDO-BUSYSTATUS:BUSY
X-MICROSOFT-CDO-IMPORTANCE:1
END:VEVENT
BEGIN:VEVENT
UID:ga550@games.golnetwork.com
LOCATION:Monarch Park Stadium - Field 3
GEO:43.6792789;-79.3234873
CREATED:20161230T195848Z
DTSTART:20170125T000000Z
DTEND:20170125T005000Z
DTSTAMP:20260419T174622Z
SUMMARY:Galacticos FC vs. Galaxy
DESCRIPTION:Galaxy vs. Galacticos FCPlus d'info : #158
X-ALT-DESC;FMTTYPE=text/html:<!DOCTYPE HTML PUBLIC "-//W3C//DTD HTML 3.2//E
	N">\n<HTML>\n<HEAD>\n<TITLE></TITLE>\n</HEAD>\n<BODY>\n<h3>Galaxy vs. Galac
	ticos FC</h3>Plus d'info : <a href="https://www.golnetwork.com/game/v/99306
	/">#158</a>\n\n</BODY>\n</HTML>
STATUS:CONFIRMED
CLASS:PUBLIC
URL:https://www.golnetwork.com/game/v/99306/
X-MICROSOFT-CDO-BUSYSTATUS:BUSY
X-MICROSOFT-CDO-IMPORTANCE:1
END:VEVENT
BEGIN:VEVENT
UID:ga552@games.golnetwork.com
LOCATION:Monarch Park Stadium - Field 3
GEO:43.6792789;-79.3234873
CREATED:20161230T195858Z
DTSTART:20170125T020000Z
DTEND:20170125T025000Z
DTSTAMP:20260419T174622Z
SUMMARY:XTSC Park Rangers vs. Free Agents
DESCRIPTION:Free Agents vs. XTSC Park RangersPlus d'info : #160
X-ALT-DESC;FMTTYPE=text/html:<!DOCTYPE HTML PUBLIC "-//W3C//DTD HTML 3.2//E
	N">\n<HTML>\n<HEAD>\n<TITLE></TITLE>\n</HEAD>\n<BODY>\n<h3>Free Agents vs. 
	XTSC Park Rangers</h3>Plus d'info : <a href="https://www.golnetwork.com/gam
	e/v/99307/">#160</a>\n\n</BODY>\n</HTML>
STATUS:CONFIRMED
CLASS:PUBLIC
URL:https://www.golnetwork.com/game/v/99307/
X-MICROSOFT-CDO-BUSYSTATUS:BUSY
X-MICROSOFT-CDO-IMPORTANCE:1
END:VEVENT
BEGIN:VEVENT
UID:ga554@games.golnetwork.com
LOCATION:Monarch Park Stadium - Field 2
GEO:43.6792789;-79.3234873
CREATED:20161230T200041Z
DTSTART:20170125T040000Z
DTEND:20170125T045000Z
DTSTAMP:20260419T174622Z
SUMMARY:Gravy Train vs. Diego's Return from Rehab
DESCRIPTION:Diego's Return from Rehab vs. Gravy TrainPlus d'info : #164
X-ALT-DESC;FMTTYPE=text/html:<!DOCTYPE HTML PUBLIC "-//W3C//DTD HTML 3.2//E
	N">\n<HTML>\n<HEAD>\n<TITLE></TITLE>\n</HEAD>\n<BODY>\n<h3>Diego's Return f
	rom Rehab vs. Gravy Train</h3>Plus d'info : <a href="https://www.golnetwork
	.com/game/v/99308/">#164</a>\n\n</BODY>\n</HTML>
STATUS:CONFIRMED
CLASS:PUBLIC
URL:https://www.golnetwork.com/game/v/99308/
X-MICROSOFT-CDO-BUSYSTATUS:BUSY
X-MICROSOFT-CDO-IMPORTANCE:1
END:VEVENT
BEGIN:VEVENT
UID:ga556@games.golnetwork.com
LOCATION:Monarch Park Stadium - Field 3
GEO:43.6792789;-79.3234873
CREATED:20161230T200054Z
DTSTART:20170125T040000Z
DTEND:20170125T045000Z
DTSTAMP:20260419T174622Z
SUMMARY:Entuitive FC vs. Quesada FC
DESCRIPTION:Quesada FC vs. Entuitive FCPlus d'info : #166
X-ALT-DESC;FMTTYPE=text/html:<!DOCTYPE HTML PUBLIC "-//W3C//DTD HTML 3.2//E
	N">\n<HTML>\n<HEAD>\n<TITLE></TITLE>\n</HEAD>\n<BODY>\n<h3>Quesada FC vs. E
	ntuitive FC</h3>Plus d'info : <a href="https://www.golnetwork.com/game/v/99
	309/">#166</a>\n\n</BODY>\n</HTML>
STATUS:CONFIRMED
CLASS:PUBLIC
URL:https://www.golnetwork.com/game/v/99309/
X-MICROSOFT-CDO-BUSYSTATUS:BUSY
X-MICROSOFT-CDO-IMPORTANCE:1
END:VEVENT
BEGIN:VEVENT
UID:ga558@games.golnetwork.com
LOCATION:Monarch Park Stadium - Field 3
GEO:43.6792789;-79.3234873
CREATED:20161230T200110Z
DTSTART:20170201T010000Z
DTEND:20170201T015000Z
DTSTAMP:20260419T174622Z
SUMMARY:Gravy Train vs. Quesada FC
DESCRIPTION:Quesada FC vs. Gravy TrainPlus d'info : #225
X-ALT-DESC;FMTTYPE=text/html:<!DOCTYPE HTML PUBLIC "-//W3C//DTD HTML 3.2//E
	N">\n<HTML>\n<HEAD>\n<TITLE></TITLE>\n</HEAD>\n<BODY>\n<h3>Quesada FC vs. G
	ravy Train</h3>Plus d'info : <a href="https://www.golnetwork.com/game/v/993
	10/">#225</a>\n\n</BODY>\n</HTML>
STATUS:CONFIRMED
CLASS:PUBLIC
URL:https://www.golnetwork.com/game/v/99310/
X-MICROSOFT-CDO-BUSYSTATUS:BUSY
X-MICROSOFT-CDO-IMPORTANCE:1
END:VEVENT
BEGIN:VEVENT
UID:ga55a@games.golnetwork.com
LOCATION:Monarch Park Stadium - Field 2
GEO:43.6792789;-79.3234873
CREATED:20161230T200125Z
DTSTART:20170201T030000Z
DTEND:20170201T035000Z
DTSTAMP:20260419T174622Z
SUMMARY:Entuitive FC vs. Diego's Return from Rehab
DESCRIPTION:Diego's Return from Rehab vs. Entuitive FCPlus d'info : #234
X-ALT-DESC;FMTTYPE=text/html:<!DOCTYPE HTML PUBLIC "-//W3C//DTD HTML 3.2//E
	N">\n<HTML>\n<HEAD>\n<TITLE></TITLE>\n</HEAD>\n<BODY>\n<h3>Diego's Return f
	rom Rehab vs. Entuitive FC</h3>Plus d'info : <a href="https://www.golnetwor
	k.com/game/v/99311/">#234</a>\n\n</BODY>\n</HTML>
STATUS:CONFIRMED
CLASS:PUBLIC
URL:https://www.golnetwork.com/game/v/99311/
X-MICROSOFT-CDO-BUSYSTATUS:BUSY
X-MICROSOFT-CDO-IMPORTANCE:1
END:VEVENT
BEGIN:VEVENT
UID:ga55c@games.golnetwork.com
LOCATION:Monarch Park Stadium - Field 2
GEO:43.6792789;-79.3234873
CREATED:20161230T200141Z
DTSTART:20170201T040000Z
DTEND:20170201T045000Z
DTSTAMP:20260419T174622Z
SUMMARY:XTSC Park Rangers vs. Galaxy
DESCRIPTION:Galaxy vs. XTSC Park RangersPlus d'info : #239
X-ALT-DESC;FMTTYPE=text/html:<!DOCTYPE HTML PUBLIC "-//W3C//DTD HTML 3.2//E
	N">\n<HTML>\n<HEAD>\n<TITLE></TITLE>\n</HEAD>\n<BODY>\n<h3>Galaxy vs. XTSC 
	Park Rangers</h3>Plus d'info : <a href="https://www.golnetwork.com/game/v/9
	9312/">#239</a>\n\n</BODY>\n</HTML>
STATUS:CONFIRMED
CLASS:PUBLIC
URL:https://www.golnetwork.com/game/v/99312/
X-MICROSOFT-CDO-BUSYSTATUS:BUSY
X-MICROSOFT-CDO-IMPORTANCE:1
END:VEVENT
BEGIN:VEVENT
UID:ga55e@games.golnetwork.com
LOCATION:Monarch Park Stadium - Field 3
GEO:43.6792789;-79.3234873
CREATED:20161230T200151Z
DTSTART:20170201T040000Z
DTEND:20170201T045000Z
DTSTAMP:20260419T174622Z
SUMMARY:Galacticos FC vs. Free Agents
DESCRIPTION:Free Agents vs. Galacticos FCPlus d'info : #240
X-ALT-DESC;FMTTYPE=text/html:<!DOCTYPE HTML PUBLIC "-//W3C//DTD HTML 3.2//E
	N">\n<HTML>\n<HEAD>\n<TITLE></TITLE>\n</HEAD>\n<BODY>\n<h3>Free Agents vs. 
	Galacticos FC</h3>Plus d'info : <a href="https://www.golnetwork.com/game/v/
	99313/">#240</a>\n\n</BODY>\n</HTML>
STATUS:CONFIRMED
CLASS:PUBLIC
URL:https://www.golnetwork.com/game/v/99313/
X-MICROSOFT-CDO-BUSYSTATUS:BUSY
X-MICROSOFT-CDO-IMPORTANCE:1
END:VEVENT
BEGIN:VEVENT
UID:ga55g@games.golnetwork.com
LOCATION:Monarch Park Stadium - Field 3
GEO:43.6792789;-79.3234873
CREATED:20161230T200206Z
DTSTART:20170208T000000Z
DTEND:20170208T005000Z
DTSTAMP:20260419T174622Z
SUMMARY:Free Agents vs. Diego's Return from Rehab
DESCRIPTION:Diego's Return from Rehab vs. Free AgentsPlus d'info : #304
X-ALT-DESC;FMTTYPE=text/html:<!DOCTYPE HTML PUBLIC "-//W3C//DTD HTML 3.2//E
	N">\n<HTML>\n<HEAD>\n<TITLE></TITLE>\n</HEAD>\n<BODY>\n<h3>Diego's Return f
	rom Rehab vs. Free Agents</h3>Plus d'info : <a href="https://www.golnetwork
	.com/game/v/99314/">#304</a>\n\n</BODY>\n</HTML>
STATUS:CONFIRMED
CLASS:PUBLIC
URL:https://www.golnetwork.com/game/v/99314/
X-MICROSOFT-CDO-BUSYSTATUS:BUSY
X-MICROSOFT-CDO-IMPORTANCE:1
END:VEVENT
BEGIN:VEVENT
UID:ga55i@games.golnetwork.com
LOCATION:Monarch Park Stadium - Field 3
GEO:43.6792789;-79.3234873
CREATED:20161230T200215Z
DTSTART:20170208T010000Z
DTEND:20170208T015000Z
DTSTAMP:20260419T174622Z
SUMMARY:Entuitive FC vs. Galaxy
DESCRIPTION:Galaxy vs. Entuitive FCPlus d'info : #305
X-ALT-DESC;FMTTYPE=text/html:<!DOCTYPE HTML PUBLIC "-//W3C//DTD HTML 3.2//E
	N">\n<HTML>\n<HEAD>\n<TITLE></TITLE>\n</HEAD>\n<BODY>\n<h3>Galaxy vs. Entui
	tive FC</h3>Plus d'info : <a href="https://www.golnetwork.com/game/v/99315/
	">#305</a>\n\n</BODY>\n</HTML>
STATUS:CONFIRMED
CLASS:PUBLIC
URL:https://www.golnetwork.com/game/v/99315/
X-MICROSOFT-CDO-BUSYSTATUS:BUSY
X-MICROSOFT-CDO-IMPORTANCE:1
END:VEVENT
BEGIN:VEVENT
UID:ga55k@games.golnetwork.com
LOCATION:Monarch Park Stadium - Field 3
GEO:43.6792789;-79.3234873
CREATED:20161230T200225Z
DTSTART:20170208T020000Z
DTEND:20170208T025000Z
DTSTAMP:20260419T174622Z
SUMMARY:Galacticos FC vs. Quesada FC
DESCRIPTION:Quesada FC vs. Galacticos FCPlus d'info : #309
X-ALT-DESC;FMTTYPE=text/html:<!DOCTYPE HTML PUBLIC "-//W3C//DTD HTML 3.2//E
	N">\n<HTML>\n<HEAD>\n<TITLE></TITLE>\n</HEAD>\n<BODY>\n<h3>Quesada FC vs. G
	alacticos FC</h3>Plus d'info : <a href="https://www.golnetwork.com/game/v/9
	9316/">#309</a>\n\n</BODY>\n</HTML>
STATUS:CONFIRMED
CLASS:PUBLIC
URL:https://www.golnetwork.com/game/v/99316/
X-MICROSOFT-CDO-BUSYSTATUS:BUSY
X-MICROSOFT-CDO-IMPORTANCE:1
END:VEVENT
BEGIN:VEVENT
UID:ga55m@games.golnetwork.com
LOCATION:Monarch Park Stadium - Field 3
GEO:43.6792789;-79.3234873
CREATED:20161230T200236Z
DTSTART:20170208T030000Z
DTEND:20170208T035000Z
DTSTAMP:20260419T174622Z
SUMMARY:XTSC Park Rangers vs. Gravy Train
DESCRIPTION:Gravy Train vs. XTSC Park RangersPlus d'info : #315
X-ALT-DESC;FMTTYPE=text/html:<!DOCTYPE HTML PUBLIC "-//W3C//DTD HTML 3.2//E
	N">\n<HTML>\n<HEAD>\n<TITLE></TITLE>\n</HEAD>\n<BODY>\n<h3>Gravy Train vs. 
	XTSC Park Rangers</h3>Plus d'info : <a href="https://www.golnetwork.com/gam
	e/v/99317/">#315</a>\n\n</BODY>\n</HTML>
STATUS:CONFIRMED
CLASS:PUBLIC
URL:https://www.golnetwork.com/game/v/99317/
X-MICROSOFT-CDO-BUSYSTATUS:BUSY
X-MICROSOFT-CDO-IMPORTANCE:1
END:VEVENT
BEGIN:VEVENT
UID:ga55o@games.golnetwork.com
LOCATION:Monarch Park Stadium - Field 2
GEO:43.6792789;-79.3234873
CREATED:20161230T200249Z
DTSTART:20170215T030000Z
DTEND:20170215T035000Z
DTSTAMP:20260419T174622Z
SUMMARY:Galacticos FC vs. Gravy Train
DESCRIPTION:Gravy Train vs. Galacticos FCPlus d'info : #395
X-ALT-DESC;FMTTYPE=text/html:<!DOCTYPE HTML PUBLIC "-//W3C//DTD HTML 3.2//E
	N">\n<HTML>\n<HEAD>\n<TITLE></TITLE>\n</HEAD>\n<BODY>\n<h3>Gravy Train vs. 
	Galacticos FC</h3>Plus d'info : <a href="https://www.golnetwork.com/game/v/
	99318/">#395</a>\n\n</BODY>\n</HTML>
STATUS:CONFIRMED
CLASS:PUBLIC
URL:https://www.golnetwork.com/game/v/99318/
X-MICROSOFT-CDO-BUSYSTATUS:BUSY
X-MICROSOFT-CDO-IMPORTANCE:1
END:VEVENT
BEGIN:VEVENT
UID:ga55q@games.golnetwork.com
LOCATION:Monarch Park Stadium - Field 3
GEO:43.6792789;-79.3234873
CREATED:20161230T200303Z
DTSTART:20170215T030000Z
DTEND:20170215T035000Z
DTSTAMP:20260419T174622Z
SUMMARY:XTSC Park Rangers vs. Quesada FC
DESCRIPTION:Quesada FC vs. XTSC Park RangersPlus d'info : #396
X-ALT-DESC;FMTTYPE=text/html:<!DOCTYPE HTML PUBLIC "-//W3C//DTD HTML 3.2//E
	N">\n<HTML>\n<HEAD>\n<TITLE></TITLE>\n</HEAD>\n<BODY>\n<h3>Quesada FC vs. X
	TSC Park Rangers</h3>Plus d'info : <a href="https://www.golnetwork.com/game
	/v/99319/">#396</a>\n\n</BODY>\n</HTML>
STATUS:CONFIRMED
CLASS:PUBLIC
URL:https://www.golnetwork.com/game/v/99319/
X-MICROSOFT-CDO-BUSYSTATUS:BUSY
X-MICROSOFT-CDO-IMPORTANCE:1
END:VEVENT
BEGIN:VEVENT
UID:ga563@games.golnetwork.com
LOCATION:Monarch Park Stadium - Field 1
GEO:43.6792789;-79.3234873
CREATED:20161230T200323Z
DTSTART:20170215T040000Z
DTEND:20170215T045000Z
DTSTAMP:20260419T174622Z
SUMMARY:Entuitive FC vs. Free Agents
DESCRIPTION:Free Agents vs. Entuitive FCPlus d'info : #400
X-ALT-DESC;FMTTYPE=text/html:<!DOCTYPE HTML PUBLIC "-//W3C//DTD HTML 3.2//E
	N">\n<HTML>\n<HEAD>\n<TITLE></TITLE>\n</HEAD>\n<BODY>\n<h3>Free Agents vs. 
	Entuitive FC</h3>Plus d'info : <a href="https://www.golnetwork.com/game/v/9
	9321/">#400</a>\n\n</BODY>\n</HTML>
STATUS:CONFIRMED
CLASS:PUBLIC
URL:https://www.golnetwork.com/game/v/99321/
X-MICROSOFT-CDO-BUSYSTATUS:BUSY
X-MICROSOFT-CDO-IMPORTANCE:1
END:VEVENT
BEGIN:VEVENT
UID:ga561@games.golnetwork.com
LOCATION:Monarch Park Stadium - Field 2
GEO:43.6792789;-79.3234873
CREATED:20161230T200315Z
DTSTART:20170215T040000Z
DTEND:20170215T045000Z
DTSTAMP:20260419T174622Z
SUMMARY:Galaxy vs. Diego's Return from Rehab
DESCRIPTION:Diego's Return from Rehab vs. GalaxyPlus d'info : #401
X-ALT-DESC;FMTTYPE=text/html:<!DOCTYPE HTML PUBLIC "-//W3C//DTD HTML 3.2//E
	N">\n<HTML>\n<HEAD>\n<TITLE></TITLE>\n</HEAD>\n<BODY>\n<h3>Diego's Return f
	rom Rehab vs. Galaxy</h3>Plus d'info : <a href="https://www.golnetwork.com/
	game/v/99320/">#401</a>\n\n</BODY>\n</HTML>
STATUS:CONFIRMED
CLASS:PUBLIC
URL:https://www.golnetwork.com/game/v/99320/
X-MICROSOFT-CDO-BUSYSTATUS:BUSY
X-MICROSOFT-CDO-IMPORTANCE:1
END:VEVENT
BEGIN:VEVENT
UID:ga565@games.golnetwork.com
LOCATION:Monarch Park Stadium - Field 1
GEO:43.6792789;-79.3234873
CREATED:20161230T200331Z
DTSTART:20170222T040000Z
DTEND:20170222T045000Z
DTSTAMP:20260419T174622Z
SUMMARY:Quesada FC vs. Entuitive FC
DESCRIPTION:Entuitive FC vs. Quesada FCPlus d'info : #450
X-ALT-DESC;FMTTYPE=text/html:<!DOCTYPE HTML PUBLIC "-//W3C//DTD HTML 3.2//E
	N">\n<HTML>\n<HEAD>\n<TITLE></TITLE>\n</HEAD>\n<BODY>\n<h3>Entuitive FC vs.
	 Quesada FC</h3>Plus d'info : <a href="https://www.golnetwork.com/game/v/99
	322/">#450</a>\n\n</BODY>\n</HTML>
STATUS:CONFIRMED
CLASS:PUBLIC
URL:https://www.golnetwork.com/game/v/99322/
X-MICROSOFT-CDO-BUSYSTATUS:BUSY
X-MICROSOFT-CDO-IMPORTANCE:1
END:VEVENT
BEGIN:VEVENT
UID:ga567@games.golnetwork.com
LOCATION:Monarch Park Stadium - Field 2
GEO:43.6792789;-79.3234873
CREATED:20161230T200335Z
DTSTART:20170222T040000Z
DTEND:20170222T045000Z
DTSTAMP:20260419T174622Z
SUMMARY:XTSC Park Rangers vs. Galacticos FC
DESCRIPTION:Galacticos FC vs. XTSC Park RangersPlus d'info : #451
X-ALT-DESC;FMTTYPE=text/html:<!DOCTYPE HTML PUBLIC "-//W3C//DTD HTML 3.2//E
	N">\n<HTML>\n<HEAD>\n<TITLE></TITLE>\n</HEAD>\n<BODY>\n<h3>Galacticos FC vs
	. XTSC Park Rangers</h3>Plus d'info : <a href="https://www.golnetwork.com/g
	ame/v/99323/">#451</a>\n\n</BODY>\n</HTML>
STATUS:CONFIRMED
CLASS:PUBLIC
URL:https://www.golnetwork.com/game/v/99323/
X-MICROSOFT-CDO-BUSYSTATUS:BUSY
X-MICROSOFT-CDO-IMPORTANCE:1
END:VEVENT
BEGIN:VEVENT
UID:ga56d@games.golnetwork.com
LOCATION:Monarch Park Stadium - Field 3
GEO:43.6792789;-79.3234873
CREATED:20161230T200407Z
DTSTART:20170301T000000Z
DTEND:20170301T005000Z
DTSTAMP:20260419T174622Z
SUMMARY:Galaxy vs. Free Agents
DESCRIPTION:Free Agents vs. GalaxyPlus d'info : #515
X-ALT-DESC;FMTTYPE=text/html:<!DOCTYPE HTML PUBLIC "-//W3C//DTD HTML 3.2//E
	N">\n<HTML>\n<HEAD>\n<TITLE></TITLE>\n</HEAD>\n<BODY>\n<h3>Free Agents vs. 
	Galaxy</h3>Plus d'info : <a href="https://www.golnetwork.com/game/v/99326/"
	>#515</a>\n\n</BODY>\n</HTML>
STATUS:CONFIRMED
CLASS:PUBLIC
URL:https://www.golnetwork.com/game/v/99326/
X-MICROSOFT-CDO-BUSYSTATUS:BUSY
X-MICROSOFT-CDO-IMPORTANCE:1
END:VEVENT
BEGIN:VEVENT
UID:ga56b@games.golnetwork.com
LOCATION:Monarch Park Stadium - Field 1
GEO:43.6792789;-79.3234873
CREATED:20161230T200352Z
DTSTART:20170301T030000Z
DTEND:20170301T035000Z
DTSTAMP:20260419T174622Z
SUMMARY:Entuitive FC vs. XTSC Park Rangers
DESCRIPTION:XTSC Park Rangers vs. Entuitive FCPlus d'info : #524
X-ALT-DESC;FMTTYPE=text/html:<!DOCTYPE HTML PUBLIC "-//W3C//DTD HTML 3.2//E
	N">\n<HTML>\n<HEAD>\n<TITLE></TITLE>\n</HEAD>\n<BODY>\n<h3>XTSC Park Ranger
	s vs. Entuitive FC</h3>Plus d'info : <a href="https://www.golnetwork.com/ga
	me/v/99325/">#524</a>\n\n</BODY>\n</HTML>
STATUS:CONFIRMED
CLASS:PUBLIC
URL:https://www.golnetwork.com/game/v/99325/
X-MICROSOFT-CDO-BUSYSTATUS:BUSY
X-MICROSOFT-CDO-IMPORTANCE:1
END:VEVENT
BEGIN:VEVENT
UID:ga569@games.golnetwork.com
LOCATION:Monarch Park Stadium - Field 2
GEO:43.6792789;-79.3234873
CREATED:20161230T200346Z
DTSTART:20170301T030000Z
DTEND:20170301T035000Z
DTSTAMP:20260419T174622Z
SUMMARY:Quesada FC vs. Galacticos FC
DESCRIPTION:Galacticos FC vs. Quesada FCPlus d'info : #525
X-ALT-DESC;FMTTYPE=text/html:<!DOCTYPE HTML PUBLIC "-//W3C//DTD HTML 3.2//E
	N">\n<HTML>\n<HEAD>\n<TITLE></TITLE>\n</HEAD>\n<BODY>\n<h3>Galacticos FC vs
	. Quesada FC</h3>Plus d'info : <a href="https://www.golnetwork.com/game/v/9
	9324/">#525</a>\n\n</BODY>\n</HTML>
STATUS:CONFIRMED
CLASS:PUBLIC
URL:https://www.golnetwork.com/game/v/99324/
X-MICROSOFT-CDO-BUSYSTATUS:BUSY
X-MICROSOFT-CDO-IMPORTANCE:1
END:VEVENT
END:VCALENDAR
