BEGIN:VCALENDAR
PRODID:-//gdesolutions.com//MV Framework 1.0.0.1607 Calendar//EN
VERSION:2.0
METHOD:PUBLISH
CALSCALE:GREGORIAN
BEGIN:VEVENT
UID:gaejj@games.golnetwork.com
LOCATION:Jesse Ketchum Public School
GEO:43.6730545;-79.3911034
CREATED:20170222T152455Z
DTSTART:20170227T233000Z
DTEND:20170228T003000Z
DTSTAMP:20260421T054204Z
SUMMARY:Squirtle Squad vs. Almost Winners
DESCRIPTION:Almost Winners vs. Squirtle SquadPlus d'info : #1
X-ALT-DESC;FMTTYPE=text/html:<!DOCTYPE HTML PUBLIC "-//W3C//DTD HTML 3.2//E
	N">\n<HTML>\n<HEAD>\n<TITLE></TITLE>\n</HEAD>\n<BODY>\n<h3>Almost Winners v
	s. Squirtle Squad</h3>Plus d'info : <a href="https://www.golnetwork.com/gam
	e/v/102785/">#1</a>\n\n</BODY>\n</HTML>
STATUS:CONFIRMED
CLASS:PUBLIC
URL:https://www.golnetwork.com/game/v/102785/
X-MICROSOFT-CDO-BUSYSTATUS:BUSY
X-MICROSOFT-CDO-IMPORTANCE:1
END:VEVENT
BEGIN:VEVENT
UID:gaeei@games.golnetwork.com
LOCATION:Jesse Ketchum Public School
GEO:43.6730545;-79.3911034
CREATED:20170222T144700Z
DTSTART:20170228T003000Z
DTEND:20170228T013000Z
DTSTAMP:20260421T054204Z
SUMMARY:Squirtle Squad vs. ITRG
DESCRIPTION:ITRG vs. Squirtle SquadPlus d'info : #2
X-ALT-DESC;FMTTYPE=text/html:<!DOCTYPE HTML PUBLIC "-//W3C//DTD HTML 3.2//E
	N">\n<HTML>\n<HEAD>\n<TITLE></TITLE>\n</HEAD>\n<BODY>\n<h3>ITRG vs. Squirtl
	e Squad</h3>Plus d'info : <a href="https://www.golnetwork.com/game/v/102717
	/">#2</a>\n\n</BODY>\n</HTML>
STATUS:CONFIRMED
CLASS:PUBLIC
URL:https://www.golnetwork.com/game/v/102717/
X-MICROSOFT-CDO-BUSYSTATUS:BUSY
X-MICROSOFT-CDO-IMPORTANCE:1
END:VEVENT
BEGIN:VEVENT
UID:gaeek@games.golnetwork.com
LOCATION:Jesse Ketchum Public School
GEO:43.6730545;-79.3911034
CREATED:20170222T144714Z
DTSTART:20170228T013000Z
DTEND:20170228T023000Z
DTSTAMP:20260421T054204Z
SUMMARY:Wilcox FC vs. 2 Goals 1 Cup
DESCRIPTION:2 Goals 1 Cup vs. Wilcox FCPlus d'info : #3
X-ALT-DESC;FMTTYPE=text/html:<!DOCTYPE HTML PUBLIC "-//W3C//DTD HTML 3.2//E
	N">\n<HTML>\n<HEAD>\n<TITLE></TITLE>\n</HEAD>\n<BODY>\n<h3>2 Goals 1 Cup vs
	. Wilcox FC</h3>Plus d'info : <a href="https://www.golnetwork.com/game/v/10
	2718/">#3</a>\n\n</BODY>\n</HTML>
STATUS:CONFIRMED
CLASS:PUBLIC
URL:https://www.golnetwork.com/game/v/102718/
X-MICROSOFT-CDO-BUSYSTATUS:BUSY
X-MICROSOFT-CDO-IMPORTANCE:1
END:VEVENT
BEGIN:VEVENT
UID:gaejl@games.golnetwork.com
LOCATION:Jesse Ketchum Public School
GEO:43.6730545;-79.3911034
CREATED:20170222T152507Z
DTSTART:20170306T233000Z
DTEND:20170307T003000Z
DTSTAMP:20260421T054204Z
SUMMARY:ITRG vs. Almost Winners
DESCRIPTION:Almost Winners vs. ITRGPlus d'info : #4
X-ALT-DESC;FMTTYPE=text/html:<!DOCTYPE HTML PUBLIC "-//W3C//DTD HTML 3.2//E
	N">\n<HTML>\n<HEAD>\n<TITLE></TITLE>\n</HEAD>\n<BODY>\n<h3>Almost Winners v
	s. ITRG</h3>Plus d'info : <a href="https://www.golnetwork.com/game/v/102786
	/">#4</a>\n\n</BODY>\n</HTML>
STATUS:CONFIRMED
CLASS:PUBLIC
URL:https://www.golnetwork.com/game/v/102786/
X-MICROSOFT-CDO-BUSYSTATUS:BUSY
X-MICROSOFT-CDO-IMPORTANCE:1
END:VEVENT
BEGIN:VEVENT
UID:gaeem@games.golnetwork.com
LOCATION:Jesse Ketchum Public School
GEO:43.6730545;-79.3911034
CREATED:20170222T144801Z
DTSTART:20170307T003000Z
DTEND:20170307T013000Z
DTSTAMP:20260421T054204Z
SUMMARY:Wilcox FC vs. Almost Winners
DESCRIPTION:Almost Winners vs. Wilcox FCPlus d'info : #5
X-ALT-DESC;FMTTYPE=text/html:<!DOCTYPE HTML PUBLIC "-//W3C//DTD HTML 3.2//E
	N">\n<HTML>\n<HEAD>\n<TITLE></TITLE>\n</HEAD>\n<BODY>\n<h3>Almost Winners v
	s. Wilcox FC</h3>Plus d'info : <a href="https://www.golnetwork.com/game/v/1
	02719/">#5</a>\n\n</BODY>\n</HTML>
STATUS:CONFIRMED
CLASS:PUBLIC
URL:https://www.golnetwork.com/game/v/102719/
X-MICROSOFT-CDO-BUSYSTATUS:BUSY
X-MICROSOFT-CDO-IMPORTANCE:1
END:VEVENT
BEGIN:VEVENT
UID:gaeeo@games.golnetwork.com
LOCATION:Jesse Ketchum Public School
GEO:43.6730545;-79.3911034
CREATED:20170222T144813Z
DTSTART:20170307T013000Z
DTEND:20170307T023000Z
DTSTAMP:20260421T054204Z
SUMMARY:2 Goals 1 Cup vs. Squirtle Squad
DESCRIPTION:Squirtle Squad vs. 2 Goals 1 CupPlus d'info : #6
X-ALT-DESC;FMTTYPE=text/html:<!DOCTYPE HTML PUBLIC "-//W3C//DTD HTML 3.2//E
	N">\n<HTML>\n<HEAD>\n<TITLE></TITLE>\n</HEAD>\n<BODY>\n<h3>Squirtle Squad v
	s. 2 Goals 1 Cup</h3>Plus d'info : <a href="https://www.golnetwork.com/game
	/v/102720/">#6</a>\n\n</BODY>\n</HTML>
STATUS:CONFIRMED
CLASS:PUBLIC
URL:https://www.golnetwork.com/game/v/102720/
X-MICROSOFT-CDO-BUSYSTATUS:BUSY
X-MICROSOFT-CDO-IMPORTANCE:1
END:VEVENT
BEGIN:VEVENT
UID:gafi1@games.golnetwork.com
LOCATION:Jesse Ketchum Public School
GEO:43.6730545;-79.3911034
CREATED:20170306T185009Z
DTSTART:20170320T223000Z
DTEND:20170320T233000Z
DTSTAMP:20260421T054204Z
SUMMARY:ITRG vs. 2 Goals 1 Cup
DESCRIPTION:2 Goals 1 Cup vs. ITRGPlus d'info : #7
X-ALT-DESC;FMTTYPE=text/html:<!DOCTYPE HTML PUBLIC "-//W3C//DTD HTML 3.2//E
	N">\n<HTML>\n<HEAD>\n<TITLE></TITLE>\n</HEAD>\n<BODY>\n<h3>2 Goals 1 Cup vs
	. ITRG</h3>Plus d'info : <a href="https://www.golnetwork.com/game/v/103127/
	">#7</a>\n\n</BODY>\n</HTML>
STATUS:CONFIRMED
CLASS:PUBLIC
URL:https://www.golnetwork.com/game/v/103127/
X-MICROSOFT-CDO-BUSYSTATUS:BUSY
X-MICROSOFT-CDO-IMPORTANCE:1
END:VEVENT
BEGIN:VEVENT
UID:gafi3@games.golnetwork.com
LOCATION:Jesse Ketchum Public School
GEO:43.6730545;-79.3911034
CREATED:20170306T185016Z
DTSTART:20170320T233000Z
DTEND:20170321T003000Z
DTSTAMP:20260421T054204Z
SUMMARY:Almost Winners vs. 2 Goals 1 Cup
DESCRIPTION:2 Goals 1 Cup vs. Almost WinnersPlus d'info : #8
X-ALT-DESC;FMTTYPE=text/html:<!DOCTYPE HTML PUBLIC "-//W3C//DTD HTML 3.2//E
	N">\n<HTML>\n<HEAD>\n<TITLE></TITLE>\n</HEAD>\n<BODY>\n<h3>2 Goals 1 Cup vs
	. Almost Winners</h3>Plus d'info : <a href="https://www.golnetwork.com/game
	/v/103128/">#8</a>\n\n</BODY>\n</HTML>
STATUS:CONFIRMED
CLASS:PUBLIC
URL:https://www.golnetwork.com/game/v/103128/
X-MICROSOFT-CDO-BUSYSTATUS:BUSY
X-MICROSOFT-CDO-IMPORTANCE:1
END:VEVENT
BEGIN:VEVENT
UID:gafi5@games.golnetwork.com
LOCATION:Jesse Ketchum Public School
GEO:43.6730545;-79.3911034
CREATED:20170306T185024Z
DTSTART:20170321T003000Z
DTEND:20170321T013000Z
DTSTAMP:20260421T054204Z
SUMMARY:Wilcox FC vs. Squirtle Squad
DESCRIPTION:Squirtle Squad vs. Wilcox FCPlus d'info : #9
X-ALT-DESC;FMTTYPE=text/html:<!DOCTYPE HTML PUBLIC "-//W3C//DTD HTML 3.2//E
	N">\n<HTML>\n<HEAD>\n<TITLE></TITLE>\n</HEAD>\n<BODY>\n<h3>Squirtle Squad v
	s. Wilcox FC</h3>Plus d'info : <a href="https://www.golnetwork.com/game/v/1
	03129/">#9</a>\n\n</BODY>\n</HTML>
STATUS:CONFIRMED
CLASS:PUBLIC
URL:https://www.golnetwork.com/game/v/103129/
X-MICROSOFT-CDO-BUSYSTATUS:BUSY
X-MICROSOFT-CDO-IMPORTANCE:1
END:VEVENT
BEGIN:VEVENT
UID:gafi7@games.golnetwork.com
LOCATION:Jesse Ketchum Public School
GEO:43.6730545;-79.3911034
CREATED:20170306T185035Z
DTSTART:20170327T223000Z
DTEND:20170327T233000Z
DTSTAMP:20260421T054204Z
SUMMARY:2 Goals 1 Cup vs. Wilcox FC
DESCRIPTION:Wilcox FC vs. 2 Goals 1 CupPlus d'info : #10
X-ALT-DESC;FMTTYPE=text/html:<!DOCTYPE HTML PUBLIC "-//W3C//DTD HTML 3.2//E
	N">\n<HTML>\n<HEAD>\n<TITLE></TITLE>\n</HEAD>\n<BODY>\n<h3>Wilcox FC vs. 2 
	Goals 1 Cup</h3>Plus d'info : <a href="https://www.golnetwork.com/game/v/10
	3130/">#10</a>\n\n</BODY>\n</HTML>
STATUS:CONFIRMED
CLASS:PUBLIC
URL:https://www.golnetwork.com/game/v/103130/
X-MICROSOFT-CDO-BUSYSTATUS:BUSY
X-MICROSOFT-CDO-IMPORTANCE:1
END:VEVENT
BEGIN:VEVENT
UID:gafi9@games.golnetwork.com
LOCATION:Jesse Ketchum Public School
GEO:43.6730545;-79.3911034
CREATED:20170306T185043Z
DTSTART:20170327T233000Z
DTEND:20170328T003000Z
DTSTAMP:20260421T054204Z
SUMMARY:ITRG vs. Wilcox FC
DESCRIPTION:Wilcox FC vs. ITRGPlus d'info : #11
X-ALT-DESC;FMTTYPE=text/html:<!DOCTYPE HTML PUBLIC "-//W3C//DTD HTML 3.2//E
	N">\n<HTML>\n<HEAD>\n<TITLE></TITLE>\n</HEAD>\n<BODY>\n<h3>Wilcox FC vs. IT
	RG</h3>Plus d'info : <a href="https://www.golnetwork.com/game/v/103131/">#1
	1</a>\n\n</BODY>\n</HTML>
STATUS:CONFIRMED
CLASS:PUBLIC
URL:https://www.golnetwork.com/game/v/103131/
X-MICROSOFT-CDO-BUSYSTATUS:BUSY
X-MICROSOFT-CDO-IMPORTANCE:1
END:VEVENT
BEGIN:VEVENT
UID:gafib@games.golnetwork.com
LOCATION:Jesse Ketchum Public School
GEO:43.6730545;-79.3911034
CREATED:20170306T185051Z
DTSTART:20170328T003000Z
DTEND:20170328T013000Z
DTSTAMP:20260421T054204Z
SUMMARY:Almost Winners vs. Squirtle Squad
DESCRIPTION:Squirtle Squad vs. Almost WinnersPlus d'info : #12
X-ALT-DESC;FMTTYPE=text/html:<!DOCTYPE HTML PUBLIC "-//W3C//DTD HTML 3.2//E
	N">\n<HTML>\n<HEAD>\n<TITLE></TITLE>\n</HEAD>\n<BODY>\n<h3>Squirtle Squad v
	s. Almost Winners</h3>Plus d'info : <a href="https://www.golnetwork.com/gam
	e/v/103132/">#12</a>\n\n</BODY>\n</HTML>
STATUS:CONFIRMED
CLASS:PUBLIC
URL:https://www.golnetwork.com/game/v/103132/
X-MICROSOFT-CDO-BUSYSTATUS:BUSY
X-MICROSOFT-CDO-IMPORTANCE:1
END:VEVENT
BEGIN:VEVENT
UID:gafid@games.golnetwork.com
LOCATION:Jesse Ketchum Public School
GEO:43.6730545;-79.3911034
CREATED:20170306T185103Z
DTSTART:20170403T223000Z
DTEND:20170403T233000Z
DTSTAMP:20260421T054204Z
SUMMARY:Squirtle Squad vs. Wilcox FC
DESCRIPTION:Wilcox FC vs. Squirtle SquadPlus d'info : #13
X-ALT-DESC;FMTTYPE=text/html:<!DOCTYPE HTML PUBLIC "-//W3C//DTD HTML 3.2//E
	N">\n<HTML>\n<HEAD>\n<TITLE></TITLE>\n</HEAD>\n<BODY>\n<h3>Wilcox FC vs. Sq
	uirtle Squad</h3>Plus d'info : <a href="https://www.golnetwork.com/game/v/1
	03133/">#13</a>\n\n</BODY>\n</HTML>
STATUS:CONFIRMED
CLASS:PUBLIC
URL:https://www.golnetwork.com/game/v/103133/
X-MICROSOFT-CDO-BUSYSTATUS:BUSY
X-MICROSOFT-CDO-IMPORTANCE:1
END:VEVENT
BEGIN:VEVENT
UID:gafif@games.golnetwork.com
LOCATION:Jesse Ketchum Public School
GEO:43.6730545;-79.3911034
CREATED:20170306T185112Z
DTSTART:20170403T233000Z
DTEND:20170404T003000Z
DTSTAMP:20260421T054204Z
SUMMARY:ITRG vs. 2 Goals 1 Cup
DESCRIPTION:2 Goals 1 Cup vs. ITRGPlus d'info : #14
X-ALT-DESC;FMTTYPE=text/html:<!DOCTYPE HTML PUBLIC "-//W3C//DTD HTML 3.2//E
	N">\n<HTML>\n<HEAD>\n<TITLE></TITLE>\n</HEAD>\n<BODY>\n<h3>2 Goals 1 Cup vs
	. ITRG</h3>Plus d'info : <a href="https://www.golnetwork.com/game/v/103134/
	">#14</a>\n\n</BODY>\n</HTML>
STATUS:CONFIRMED
CLASS:PUBLIC
URL:https://www.golnetwork.com/game/v/103134/
X-MICROSOFT-CDO-BUSYSTATUS:BUSY
X-MICROSOFT-CDO-IMPORTANCE:1
END:VEVENT
BEGIN:VEVENT
UID:gafih@games.golnetwork.com
LOCATION:Jesse Ketchum Public School
GEO:43.6730545;-79.3911034
CREATED:20170306T185122Z
DTSTART:20170404T003000Z
DTEND:20170404T013000Z
DTSTAMP:20260421T054204Z
SUMMARY:ITRG vs. Almost Winners
DESCRIPTION:Almost Winners vs. ITRGPlus d'info : #15
X-ALT-DESC;FMTTYPE=text/html:<!DOCTYPE HTML PUBLIC "-//W3C//DTD HTML 3.2//E
	N">\n<HTML>\n<HEAD>\n<TITLE></TITLE>\n</HEAD>\n<BODY>\n<h3>Almost Winners v
	s. ITRG</h3>Plus d'info : <a href="https://www.golnetwork.com/game/v/103135
	/">#15</a>\n\n</BODY>\n</HTML>
STATUS:CONFIRMED
CLASS:PUBLIC
URL:https://www.golnetwork.com/game/v/103135/
X-MICROSOFT-CDO-BUSYSTATUS:BUSY
X-MICROSOFT-CDO-IMPORTANCE:1
END:VEVENT
BEGIN:VEVENT
UID:gafil@games.golnetwork.com
LOCATION:Jesse Ketchum Public School
GEO:43.6730545;-79.3911034
CREATED:20170306T185142Z
DTSTART:20170410T223000Z
DTEND:20170410T233000Z
DTSTAMP:20260421T054204Z
SUMMARY:Squirtle Squad vs. 2 Goals 1 Cup
DESCRIPTION:2 Goals 1 Cup vs. Squirtle SquadPlus d'info : #16
X-ALT-DESC;FMTTYPE=text/html:<!DOCTYPE HTML PUBLIC "-//W3C//DTD HTML 3.2//E
	N">\n<HTML>\n<HEAD>\n<TITLE></TITLE>\n</HEAD>\n<BODY>\n<h3>2 Goals 1 Cup vs
	. Squirtle Squad</h3>Plus d'info : <a href="https://www.golnetwork.com/game
	/v/103137/">#16</a>\n\n</BODY>\n</HTML>
STATUS:CONFIRMED
CLASS:PUBLIC
URL:https://www.golnetwork.com/game/v/103137/
X-MICROSOFT-CDO-BUSYSTATUS:BUSY
X-MICROSOFT-CDO-IMPORTANCE:1
END:VEVENT
BEGIN:VEVENT
UID:gafij@games.golnetwork.com
LOCATION:Jesse Ketchum Public School
GEO:43.6730545;-79.3911034
CREATED:20170306T185133Z
DTSTART:20170410T233000Z
DTEND:20170411T003000Z
DTSTAMP:20260421T054204Z
SUMMARY:Squirtle Squad vs. ITRG
DESCRIPTION:ITRG vs. Squirtle SquadPlus d'info : #17
X-ALT-DESC;FMTTYPE=text/html:<!DOCTYPE HTML PUBLIC "-//W3C//DTD HTML 3.2//E
	N">\n<HTML>\n<HEAD>\n<TITLE></TITLE>\n</HEAD>\n<BODY>\n<h3>ITRG vs. Squirtl
	e Squad</h3>Plus d'info : <a href="https://www.golnetwork.com/game/v/103136
	/">#17</a>\n\n</BODY>\n</HTML>
STATUS:CONFIRMED
CLASS:PUBLIC
URL:https://www.golnetwork.com/game/v/103136/
X-MICROSOFT-CDO-BUSYSTATUS:BUSY
X-MICROSOFT-CDO-IMPORTANCE:1
END:VEVENT
BEGIN:VEVENT
UID:gafin@games.golnetwork.com
LOCATION:Jesse Ketchum Public School
GEO:43.6730545;-79.3911034
CREATED:20170306T185150Z
DTSTART:20170411T003000Z
DTEND:20170411T013000Z
DTSTAMP:20260421T054204Z
SUMMARY:Wilcox FC vs. Almost Winners
DESCRIPTION:Almost Winners vs. Wilcox FCPlus d'info : #18
X-ALT-DESC;FMTTYPE=text/html:<!DOCTYPE HTML PUBLIC "-//W3C//DTD HTML 3.2//E
	N">\n<HTML>\n<HEAD>\n<TITLE></TITLE>\n</HEAD>\n<BODY>\n<h3>Almost Winners v
	s. Wilcox FC</h3>Plus d'info : <a href="https://www.golnetwork.com/game/v/1
	03138/">#18</a>\n\n</BODY>\n</HTML>
STATUS:CONFIRMED
CLASS:PUBLIC
URL:https://www.golnetwork.com/game/v/103138/
X-MICROSOFT-CDO-BUSYSTATUS:BUSY
X-MICROSOFT-CDO-IMPORTANCE:1
END:VEVENT
BEGIN:VEVENT
UID:gafj0@games.golnetwork.com
LOCATION:Jesse Ketchum Public School
GEO:43.6730545;-79.3911034
CREATED:20170306T185209Z
DTSTART:20170501T223000Z
DTEND:20170501T233000Z
DTSTAMP:20260421T054204Z
SUMMARY:Squirtle Squad vs. Almost Winners
DESCRIPTION:Almost Winners vs. Squirtle SquadPlus d'info : #19
X-ALT-DESC;FMTTYPE=text/html:<!DOCTYPE HTML PUBLIC "-//W3C//DTD HTML 3.2//E
	N">\n<HTML>\n<HEAD>\n<TITLE></TITLE>\n</HEAD>\n<BODY>\n<h3>Almost Winners v
	s. Squirtle Squad</h3>Plus d'info : <a href="https://www.golnetwork.com/gam
	e/v/103140/">#19</a>\n\n</BODY>\n</HTML>
STATUS:CONFIRMED
CLASS:PUBLIC
URL:https://www.golnetwork.com/game/v/103140/
X-MICROSOFT-CDO-BUSYSTATUS:BUSY
X-MICROSOFT-CDO-IMPORTANCE:1
END:VEVENT
BEGIN:VEVENT
UID:gafip@games.golnetwork.com
LOCATION:Jesse Ketchum Public School
GEO:43.6730545;-79.3911034
CREATED:20170306T185202Z
DTSTART:20170501T233000Z
DTEND:20170502T003000Z
DTSTAMP:20260421T054204Z
SUMMARY:Wilcox FC vs. 2 Goals 1 Cup
DESCRIPTION:2 Goals 1 Cup vs. Wilcox FCPlus d'info : #20
X-ALT-DESC;FMTTYPE=text/html:<!DOCTYPE HTML PUBLIC "-//W3C//DTD HTML 3.2//E
	N">\n<HTML>\n<HEAD>\n<TITLE></TITLE>\n</HEAD>\n<BODY>\n<h3>2 Goals 1 Cup vs
	. Wilcox FC</h3>Plus d'info : <a href="https://www.golnetwork.com/game/v/10
	3139/">#20</a>\n\n</BODY>\n</HTML>
STATUS:CONFIRMED
CLASS:PUBLIC
URL:https://www.golnetwork.com/game/v/103139/
X-MICROSOFT-CDO-BUSYSTATUS:BUSY
X-MICROSOFT-CDO-IMPORTANCE:1
END:VEVENT
BEGIN:VEVENT
UID:gafj2@games.golnetwork.com
LOCATION:Jesse Ketchum Public School
GEO:43.6730545;-79.3911034
CREATED:20170306T185220Z
DTSTART:20170502T003000Z
DTEND:20170502T013000Z
DTSTAMP:20260421T054204Z
SUMMARY:ITRG vs. 2 Goals 1 Cup
DESCRIPTION:2 Goals 1 Cup vs. ITRGPlus d'info : #21
X-ALT-DESC;FMTTYPE=text/html:<!DOCTYPE HTML PUBLIC "-//W3C//DTD HTML 3.2//E
	N">\n<HTML>\n<HEAD>\n<TITLE></TITLE>\n</HEAD>\n<BODY>\n<h3>2 Goals 1 Cup vs
	. ITRG</h3>Plus d'info : <a href="https://www.golnetwork.com/game/v/103141/
	">#21</a>\n\n</BODY>\n</HTML>
STATUS:CONFIRMED
CLASS:PUBLIC
URL:https://www.golnetwork.com/game/v/103141/
X-MICROSOFT-CDO-BUSYSTATUS:BUSY
X-MICROSOFT-CDO-IMPORTANCE:1
END:VEVENT
BEGIN:VEVENT
UID:gafj4@games.golnetwork.com
LOCATION:Jesse Ketchum Public School
GEO:43.6730545;-79.3911034
CREATED:20170306T185234Z
DTSTART:20170508T233000Z
DTEND:20170509T003000Z
DTSTAMP:20260421T054204Z
SUMMARY:2 Goals 1 Cup vs. Wilcox FC
DESCRIPTION:Wilcox FC vs. 2 Goals 1 CupPlus d'info : #23
X-ALT-DESC;FMTTYPE=text/html:<!DOCTYPE HTML PUBLIC "-//W3C//DTD HTML 3.2//E
	N">\n<HTML>\n<HEAD>\n<TITLE></TITLE>\n</HEAD>\n<BODY>\n<h3>Wilcox FC vs. 2 
	Goals 1 Cup</h3>Plus d'info : <a href="https://www.golnetwork.com/game/v/10
	3142/">#23</a>\n\n</BODY>\n</HTML>
STATUS:CONFIRMED
CLASS:PUBLIC
URL:https://www.golnetwork.com/game/v/103142/
X-MICROSOFT-CDO-BUSYSTATUS:BUSY
X-MICROSOFT-CDO-IMPORTANCE:1
END:VEVENT
BEGIN:VEVENT
UID:gafj6@games.golnetwork.com
LOCATION:Jesse Ketchum Public School
GEO:43.6730545;-79.3911034
CREATED:20170306T185239Z
DTSTART:20170515T233000Z
DTEND:20170516T003000Z
DTSTAMP:20260421T054204Z
SUMMARY:2 Goals 1 Cup vs. Almost Winners
DESCRIPTION:Almost Winners vs. 2 Goals 1 CupPlus d'info : #26
X-ALT-DESC;FMTTYPE=text/html:<!DOCTYPE HTML PUBLIC "-//W3C//DTD HTML 3.2//E
	N">\n<HTML>\n<HEAD>\n<TITLE></TITLE>\n</HEAD>\n<BODY>\n<h3>Almost Winners v
	s. 2 Goals 1 Cup</h3>Plus d'info : <a href="https://www.golnetwork.com/game
	/v/103143/">#26</a>\n\n</BODY>\n</HTML>
STATUS:CONFIRMED
CLASS:PUBLIC
URL:https://www.golnetwork.com/game/v/103143/
X-MICROSOFT-CDO-BUSYSTATUS:BUSY
X-MICROSOFT-CDO-IMPORTANCE:1
END:VEVENT
BEGIN:VEVENT
UID:gafj8@games.golnetwork.com
LOCATION:Jesse Ketchum Public School
GEO:43.6730545;-79.3911034
CREATED:20170306T185242Z
DTSTART:20170516T003000Z
DTEND:20170516T013000Z
DTSTAMP:20260421T054204Z
SUMMARY:2 Goals 1 Cup vs. Squirtle Squad
DESCRIPTION:Squirtle Squad vs. 2 Goals 1 CupPlus d'info : #27
X-ALT-DESC;FMTTYPE=text/html:<!DOCTYPE HTML PUBLIC "-//W3C//DTD HTML 3.2//E
	N">\n<HTML>\n<HEAD>\n<TITLE></TITLE>\n</HEAD>\n<BODY>\n<h3>Squirtle Squad v
	s. 2 Goals 1 Cup</h3>Plus d'info : <a href="https://www.golnetwork.com/game
	/v/103144/">#27</a>\n\n</BODY>\n</HTML>
STATUS:CONFIRMED
CLASS:PUBLIC
URL:https://www.golnetwork.com/game/v/103144/
X-MICROSOFT-CDO-BUSYSTATUS:BUSY
X-MICROSOFT-CDO-IMPORTANCE:1
END:VEVENT
END:VCALENDAR
