BEGIN:VCALENDAR
PRODID:-//gdesolutions.com//MV Framework 1.0.0.1607 Calendar//EN
VERSION:2.0
METHOD:PUBLISH
CALSCALE:GREGORIAN
BEGIN:VEVENT
UID:gao7n@games.golnetwork.com
LOCATION:Central Tech - Field 3
CREATED:20170516T170532Z
DTSTART:20170525T000000Z
DTEND:20170525T010000Z
DTSTAMP:20260419T125349Z
SUMMARY:Papa Barone & the Good Time Gang vs. Sapient FC
DESCRIPTION:Sapient FC vs. Papa Barone & the Good Time GangPlus d'info : #1
	50
X-ALT-DESC;FMTTYPE=text/html:<!DOCTYPE HTML PUBLIC "-//W3C//DTD HTML 3.2//E
	N">\n<HTML>\n<HEAD>\n<TITLE></TITLE>\n</HEAD>\n<BODY>\n<h3>Sapient FC vs. P
	apa Barone & the Good Time Gang</h3>Plus d'info : <a href="https://www.goln
	etwork.com/game/v/106270/">#150</a>\n\n</BODY>\n</HTML>
STATUS:CONFIRMED
CLASS:PUBLIC
URL:https://www.golnetwork.com/game/v/106270/
X-MICROSOFT-CDO-BUSYSTATUS:BUSY
X-MICROSOFT-CDO-IMPORTANCE:1
END:VEVENT
BEGIN:VEVENT
UID:gao7p@games.golnetwork.com
LOCATION:Central Tech - Field 3
CREATED:20170516T170540Z
DTSTART:20170525T010000Z
DTEND:20170525T020000Z
DTSTAMP:20260419T125349Z
SUMMARY:FC Insurgency vs. All City FC
DESCRIPTION:All City FC vs. FC InsurgencyPlus d'info : #154
X-ALT-DESC;FMTTYPE=text/html:<!DOCTYPE HTML PUBLIC "-//W3C//DTD HTML 3.2//E
	N">\n<HTML>\n<HEAD>\n<TITLE></TITLE>\n</HEAD>\n<BODY>\n<h3>All City FC vs. 
	FC Insurgency</h3>Plus d'info : <a href="https://www.golnetwork.com/game/v/
	106271/">#154</a>\n\n</BODY>\n</HTML>
STATUS:CONFIRMED
CLASS:PUBLIC
URL:https://www.golnetwork.com/game/v/106271/
X-MICROSOFT-CDO-BUSYSTATUS:BUSY
X-MICROSOFT-CDO-IMPORTANCE:1
END:VEVENT
BEGIN:VEVENT
UID:gao80@games.golnetwork.com
LOCATION:Central Tech - Field 3
CREATED:20170516T170549Z
DTSTART:20170525T020000Z
DTEND:20170525T030000Z
DTSTAMP:20260419T125349Z
SUMMARY:Slam Dunk FC vs. Massey College
DESCRIPTION:Massey College vs. Slam Dunk FCPlus d'info : #155
X-ALT-DESC;FMTTYPE=text/html:<!DOCTYPE HTML PUBLIC "-//W3C//DTD HTML 3.2//E
	N">\n<HTML>\n<HEAD>\n<TITLE></TITLE>\n</HEAD>\n<BODY>\n<h3>Massey College v
	s. Slam Dunk FC</h3>Plus d'info : <a href="https://www.golnetwork.com/game/
	v/106272/">#155</a>\n\n</BODY>\n</HTML>
STATUS:CONFIRMED
CLASS:PUBLIC
URL:https://www.golnetwork.com/game/v/106272/
X-MICROSOFT-CDO-BUSYSTATUS:BUSY
X-MICROSOFT-CDO-IMPORTANCE:1
END:VEVENT
BEGIN:VEVENT
UID:gao82@games.golnetwork.com
LOCATION:Central Tech - Field 3
CREATED:20170516T170559Z
DTSTART:20170601T000000Z
DTEND:20170601T010000Z
DTSTAMP:20260419T125349Z
SUMMARY:FC Insurgency vs. Slam Dunk FC
DESCRIPTION:Slam Dunk FC vs. FC InsurgencyPlus d'info : #231
X-ALT-DESC;FMTTYPE=text/html:<!DOCTYPE HTML PUBLIC "-//W3C//DTD HTML 3.2//E
	N">\n<HTML>\n<HEAD>\n<TITLE></TITLE>\n</HEAD>\n<BODY>\n<h3>Slam Dunk FC vs.
	 FC Insurgency</h3>Plus d'info : <a href="https://www.golnetwork.com/game/v
	/106273/">#231</a>\n\n</BODY>\n</HTML>
STATUS:CONFIRMED
CLASS:PUBLIC
URL:https://www.golnetwork.com/game/v/106273/
X-MICROSOFT-CDO-BUSYSTATUS:BUSY
X-MICROSOFT-CDO-IMPORTANCE:1
END:VEVENT
BEGIN:VEVENT
UID:gao84@games.golnetwork.com
LOCATION:Central Tech - Field 3
CREATED:20170516T170606Z
DTSTART:20170601T010000Z
DTEND:20170601T020000Z
DTSTAMP:20260419T125349Z
SUMMARY:Papa Barone & the Good Time Gang vs. Massey College
DESCRIPTION:Massey College vs. Papa Barone & the Good Time GangPlus d'info 
	: #235
X-ALT-DESC;FMTTYPE=text/html:<!DOCTYPE HTML PUBLIC "-//W3C//DTD HTML 3.2//E
	N">\n<HTML>\n<HEAD>\n<TITLE></TITLE>\n</HEAD>\n<BODY>\n<h3>Massey College v
	s. Papa Barone & the Good Time Gang</h3>Plus d'info : <a href="https://www.
	golnetwork.com/game/v/106274/">#235</a>\n\n</BODY>\n</HTML>
STATUS:CONFIRMED
CLASS:PUBLIC
URL:https://www.golnetwork.com/game/v/106274/
X-MICROSOFT-CDO-BUSYSTATUS:BUSY
X-MICROSOFT-CDO-IMPORTANCE:1
END:VEVENT
BEGIN:VEVENT
UID:gao86@games.golnetwork.com
LOCATION:Central Tech - Field 3
CREATED:20170516T170613Z
DTSTART:20170601T020000Z
DTEND:20170601T030000Z
DTSTAMP:20260419T125349Z
SUMMARY:All City FC vs. Sapient FC
DESCRIPTION:Sapient FC vs. All City FCPlus d'info : #236
X-ALT-DESC;FMTTYPE=text/html:<!DOCTYPE HTML PUBLIC "-//W3C//DTD HTML 3.2//E
	N">\n<HTML>\n<HEAD>\n<TITLE></TITLE>\n</HEAD>\n<BODY>\n<h3>Sapient FC vs. A
	ll City FC</h3>Plus d'info : <a href="https://www.golnetwork.com/game/v/106
	275/">#236</a>\n\n</BODY>\n</HTML>
STATUS:CONFIRMED
CLASS:PUBLIC
URL:https://www.golnetwork.com/game/v/106275/
X-MICROSOFT-CDO-BUSYSTATUS:BUSY
X-MICROSOFT-CDO-IMPORTANCE:1
END:VEVENT
BEGIN:VEVENT
UID:gao88@games.golnetwork.com
LOCATION:Central Tech - Field 3
CREATED:20170516T170625Z
DTSTART:20170608T000000Z
DTEND:20170608T010000Z
DTSTAMP:20260419T125349Z
SUMMARY:All City FC vs. Slam Dunk FC
DESCRIPTION:Slam Dunk FC vs. All City FCPlus d'info : #308
X-ALT-DESC;FMTTYPE=text/html:<!DOCTYPE HTML PUBLIC "-//W3C//DTD HTML 3.2//E
	N">\n<HTML>\n<HEAD>\n<TITLE></TITLE>\n</HEAD>\n<BODY>\n<h3>Slam Dunk FC vs.
	 All City FC</h3>Plus d'info : <a href="https://www.golnetwork.com/game/v/1
	06276/">#308</a>\n\n</BODY>\n</HTML>
STATUS:CONFIRMED
CLASS:PUBLIC
URL:https://www.golnetwork.com/game/v/106276/
X-MICROSOFT-CDO-BUSYSTATUS:BUSY
X-MICROSOFT-CDO-IMPORTANCE:1
END:VEVENT
BEGIN:VEVENT
UID:gao8a@games.golnetwork.com
LOCATION:Central Tech - Field 3
CREATED:20170516T170632Z
DTSTART:20170608T010000Z
DTEND:20170608T020000Z
DTSTAMP:20260419T125349Z
SUMMARY:Massey College vs. Sapient FC
DESCRIPTION:Sapient FC vs. Massey CollegePlus d'info : #312
X-ALT-DESC;FMTTYPE=text/html:<!DOCTYPE HTML PUBLIC "-//W3C//DTD HTML 3.2//E
	N">\n<HTML>\n<HEAD>\n<TITLE></TITLE>\n</HEAD>\n<BODY>\n<h3>Sapient FC vs. M
	assey College</h3>Plus d'info : <a href="https://www.golnetwork.com/game/v/
	106277/">#312</a>\n\n</BODY>\n</HTML>
STATUS:CONFIRMED
CLASS:PUBLIC
URL:https://www.golnetwork.com/game/v/106277/
X-MICROSOFT-CDO-BUSYSTATUS:BUSY
X-MICROSOFT-CDO-IMPORTANCE:1
END:VEVENT
BEGIN:VEVENT
UID:gao8c@games.golnetwork.com
LOCATION:Central Tech - Field 3
CREATED:20170516T170639Z
DTSTART:20170608T020000Z
DTEND:20170608T030000Z
DTSTAMP:20260419T125349Z
SUMMARY:Papa Barone & the Good Time Gang vs. FC Insurgency
DESCRIPTION:FC Insurgency vs. Papa Barone & the Good Time GangPlus d'info :
	 #313
X-ALT-DESC;FMTTYPE=text/html:<!DOCTYPE HTML PUBLIC "-//W3C//DTD HTML 3.2//E
	N">\n<HTML>\n<HEAD>\n<TITLE></TITLE>\n</HEAD>\n<BODY>\n<h3>FC Insurgency vs
	. Papa Barone & the Good Time Gang</h3>Plus d'info : <a href="https://www.g
	olnetwork.com/game/v/106278/">#313</a>\n\n</BODY>\n</HTML>
STATUS:CONFIRMED
CLASS:PUBLIC
URL:https://www.golnetwork.com/game/v/106278/
X-MICROSOFT-CDO-BUSYSTATUS:BUSY
X-MICROSOFT-CDO-IMPORTANCE:1
END:VEVENT
BEGIN:VEVENT
UID:gao8e@games.golnetwork.com
LOCATION:Central Tech - Field 3
CREATED:20170516T170648Z
DTSTART:20170615T000000Z
DTEND:20170615T010000Z
DTSTAMP:20260419T125349Z
SUMMARY:Massey College vs. FC Insurgency
DESCRIPTION:FC Insurgency vs. Massey CollegePlus d'info : #392
X-ALT-DESC;FMTTYPE=text/html:<!DOCTYPE HTML PUBLIC "-//W3C//DTD HTML 3.2//E
	N">\n<HTML>\n<HEAD>\n<TITLE></TITLE>\n</HEAD>\n<BODY>\n<h3>FC Insurgency vs
	. Massey College</h3>Plus d'info : <a href="https://www.golnetwork.com/game
	/v/106279/">#392</a>\n\n</BODY>\n</HTML>
STATUS:CONFIRMED
CLASS:PUBLIC
URL:https://www.golnetwork.com/game/v/106279/
X-MICROSOFT-CDO-BUSYSTATUS:BUSY
X-MICROSOFT-CDO-IMPORTANCE:1
END:VEVENT
BEGIN:VEVENT
UID:gao8g@games.golnetwork.com
LOCATION:Central Tech - Field 3
CREATED:20170516T170655Z
DTSTART:20170615T010000Z
DTEND:20170615T020000Z
DTSTAMP:20260419T125349Z
SUMMARY:Sapient FC vs. Slam Dunk FC
DESCRIPTION:Slam Dunk FC vs. Sapient FCPlus d'info : #396
X-ALT-DESC;FMTTYPE=text/html:<!DOCTYPE HTML PUBLIC "-//W3C//DTD HTML 3.2//E
	N">\n<HTML>\n<HEAD>\n<TITLE></TITLE>\n</HEAD>\n<BODY>\n<h3>Slam Dunk FC vs.
	 Sapient FC</h3>Plus d'info : <a href="https://www.golnetwork.com/game/v/10
	6280/">#396</a>\n\n</BODY>\n</HTML>
STATUS:CONFIRMED
CLASS:PUBLIC
URL:https://www.golnetwork.com/game/v/106280/
X-MICROSOFT-CDO-BUSYSTATUS:BUSY
X-MICROSOFT-CDO-IMPORTANCE:1
END:VEVENT
BEGIN:VEVENT
UID:gao8i@games.golnetwork.com
LOCATION:Central Tech - Field 3
CREATED:20170516T170703Z
DTSTART:20170615T020000Z
DTEND:20170615T030000Z
DTSTAMP:20260419T125349Z
SUMMARY:All City FC vs. Papa Barone & the Good Time Gang
DESCRIPTION:Papa Barone & the Good Time Gang vs. All City FCPlus d'info : #
	397
X-ALT-DESC;FMTTYPE=text/html:<!DOCTYPE HTML PUBLIC "-//W3C//DTD HTML 3.2//E
	N">\n<HTML>\n<HEAD>\n<TITLE></TITLE>\n</HEAD>\n<BODY>\n<h3>Papa Barone & th
	e Good Time Gang vs. All City FC</h3>Plus d'info : <a href="https://www.gol
	network.com/game/v/106281/">#397</a>\n\n</BODY>\n</HTML>
STATUS:CONFIRMED
CLASS:PUBLIC
URL:https://www.golnetwork.com/game/v/106281/
X-MICROSOFT-CDO-BUSYSTATUS:BUSY
X-MICROSOFT-CDO-IMPORTANCE:1
END:VEVENT
BEGIN:VEVENT
UID:gao8k@games.golnetwork.com
LOCATION:Central Tech - Field 3
CREATED:20170516T170717Z
DTSTART:20170622T000000Z
DTEND:20170622T010000Z
DTSTAMP:20260419T125349Z
SUMMARY:Massey College vs. All City FC
DESCRIPTION:All City FC vs. Massey CollegePlus d'info : #471
X-ALT-DESC;FMTTYPE=text/html:<!DOCTYPE HTML PUBLIC "-//W3C//DTD HTML 3.2//E
	N">\n<HTML>\n<HEAD>\n<TITLE></TITLE>\n</HEAD>\n<BODY>\n<h3>All City FC vs. 
	Massey College</h3>Plus d'info : <a href="https://www.golnetwork.com/game/v
	/106282/">#471</a>\n\n</BODY>\n</HTML>
STATUS:CONFIRMED
CLASS:PUBLIC
URL:https://www.golnetwork.com/game/v/106282/
X-MICROSOFT-CDO-BUSYSTATUS:BUSY
X-MICROSOFT-CDO-IMPORTANCE:1
END:VEVENT
BEGIN:VEVENT
UID:gao8m@games.golnetwork.com
LOCATION:Central Tech - Field 3
CREATED:20170516T170724Z
DTSTART:20170622T010000Z
DTEND:20170622T020000Z
DTSTAMP:20260419T125349Z
SUMMARY:Slam Dunk FC vs. Papa Barone & the Good Time Gang
DESCRIPTION:Papa Barone & the Good Time Gang vs. Slam Dunk FCPlus d'info : 
	#475
X-ALT-DESC;FMTTYPE=text/html:<!DOCTYPE HTML PUBLIC "-//W3C//DTD HTML 3.2//E
	N">\n<HTML>\n<HEAD>\n<TITLE></TITLE>\n</HEAD>\n<BODY>\n<h3>Papa Barone & th
	e Good Time Gang vs. Slam Dunk FC</h3>Plus d'info : <a href="https://www.go
	lnetwork.com/game/v/106283/">#475</a>\n\n</BODY>\n</HTML>
STATUS:CONFIRMED
CLASS:PUBLIC
URL:https://www.golnetwork.com/game/v/106283/
X-MICROSOFT-CDO-BUSYSTATUS:BUSY
X-MICROSOFT-CDO-IMPORTANCE:1
END:VEVENT
BEGIN:VEVENT
UID:gao8o@games.golnetwork.com
LOCATION:Central Tech - Field 3
CREATED:20170516T170733Z
DTSTART:20170622T020000Z
DTEND:20170622T030000Z
DTSTAMP:20260419T125349Z
SUMMARY:FC Insurgency vs. Sapient FC
DESCRIPTION:Sapient FC vs. FC InsurgencyPlus d'info : #476
X-ALT-DESC;FMTTYPE=text/html:<!DOCTYPE HTML PUBLIC "-//W3C//DTD HTML 3.2//E
	N">\n<HTML>\n<HEAD>\n<TITLE></TITLE>\n</HEAD>\n<BODY>\n<h3>Sapient FC vs. F
	C Insurgency</h3>Plus d'info : <a href="https://www.golnetwork.com/game/v/1
	06284/">#476</a>\n\n</BODY>\n</HTML>
STATUS:CONFIRMED
CLASS:PUBLIC
URL:https://www.golnetwork.com/game/v/106284/
X-MICROSOFT-CDO-BUSYSTATUS:BUSY
X-MICROSOFT-CDO-IMPORTANCE:1
END:VEVENT
BEGIN:VEVENT
UID:gao8q@games.golnetwork.com
LOCATION:Central Tech - Field 3
CREATED:20170516T170747Z
DTSTART:20170629T000000Z
DTEND:20170629T010000Z
DTSTAMP:20260419T125349Z
SUMMARY:Papa Barone & the Good Time Gang vs. Sapient FC
DESCRIPTION:Sapient FC vs. Papa Barone & the Good Time GangPlus d'info : #5
	56
X-ALT-DESC;FMTTYPE=text/html:<!DOCTYPE HTML PUBLIC "-//W3C//DTD HTML 3.2//E
	N">\n<HTML>\n<HEAD>\n<TITLE></TITLE>\n</HEAD>\n<BODY>\n<h3>Sapient FC vs. P
	apa Barone & the Good Time Gang</h3>Plus d'info : <a href="https://www.goln
	etwork.com/game/v/106285/">#556</a>\n\n</BODY>\n</HTML>
STATUS:CONFIRMED
CLASS:PUBLIC
URL:https://www.golnetwork.com/game/v/106285/
X-MICROSOFT-CDO-BUSYSTATUS:BUSY
X-MICROSOFT-CDO-IMPORTANCE:1
END:VEVENT
BEGIN:VEVENT
UID:gao91@games.golnetwork.com
LOCATION:Central Tech - Field 3
CREATED:20170516T170754Z
DTSTART:20170629T010000Z
DTEND:20170629T020000Z
DTSTAMP:20260419T125349Z
SUMMARY:FC Insurgency vs. All City FC
DESCRIPTION:All City FC vs. FC InsurgencyPlus d'info : #560
X-ALT-DESC;FMTTYPE=text/html:<!DOCTYPE HTML PUBLIC "-//W3C//DTD HTML 3.2//E
	N">\n<HTML>\n<HEAD>\n<TITLE></TITLE>\n</HEAD>\n<BODY>\n<h3>All City FC vs. 
	FC Insurgency</h3>Plus d'info : <a href="https://www.golnetwork.com/game/v/
	106286/">#560</a>\n\n</BODY>\n</HTML>
STATUS:CONFIRMED
CLASS:PUBLIC
URL:https://www.golnetwork.com/game/v/106286/
X-MICROSOFT-CDO-BUSYSTATUS:BUSY
X-MICROSOFT-CDO-IMPORTANCE:1
END:VEVENT
BEGIN:VEVENT
UID:gao93@games.golnetwork.com
LOCATION:Central Tech - Field 3
CREATED:20170516T170803Z
DTSTART:20170629T020000Z
DTEND:20170629T030000Z
DTSTAMP:20260419T125349Z
SUMMARY:Slam Dunk FC vs. Massey College
DESCRIPTION:Massey College vs. Slam Dunk FCPlus d'info : #561
X-ALT-DESC;FMTTYPE=text/html:<!DOCTYPE HTML PUBLIC "-//W3C//DTD HTML 3.2//E
	N">\n<HTML>\n<HEAD>\n<TITLE></TITLE>\n</HEAD>\n<BODY>\n<h3>Massey College v
	s. Slam Dunk FC</h3>Plus d'info : <a href="https://www.golnetwork.com/game/
	v/106287/">#561</a>\n\n</BODY>\n</HTML>
STATUS:CONFIRMED
CLASS:PUBLIC
URL:https://www.golnetwork.com/game/v/106287/
X-MICROSOFT-CDO-BUSYSTATUS:BUSY
X-MICROSOFT-CDO-IMPORTANCE:1
END:VEVENT
BEGIN:VEVENT
UID:gao95@games.golnetwork.com
LOCATION:Central Tech - Field 3
CREATED:20170516T170815Z
DTSTART:20170706T000000Z
DTEND:20170706T010000Z
DTSTAMP:20260419T125349Z
SUMMARY:FC Insurgency vs. Slam Dunk FC
DESCRIPTION:Slam Dunk FC vs. FC InsurgencyPlus d'info : #597
X-ALT-DESC;FMTTYPE=text/html:<!DOCTYPE HTML PUBLIC "-//W3C//DTD HTML 3.2//E
	N">\n<HTML>\n<HEAD>\n<TITLE></TITLE>\n</HEAD>\n<BODY>\n<h3>Slam Dunk FC vs.
	 FC Insurgency</h3>Plus d'info : <a href="https://www.golnetwork.com/game/v
	/106288/">#597</a>\n\n</BODY>\n</HTML>
STATUS:CONFIRMED
CLASS:PUBLIC
URL:https://www.golnetwork.com/game/v/106288/
X-MICROSOFT-CDO-BUSYSTATUS:BUSY
X-MICROSOFT-CDO-IMPORTANCE:1
END:VEVENT
BEGIN:VEVENT
UID:gao97@games.golnetwork.com
LOCATION:Central Tech - Field 3
CREATED:20170516T170824Z
DTSTART:20170706T010000Z
DTEND:20170706T020000Z
DTSTAMP:20260419T125349Z
SUMMARY:Papa Barone & the Good Time Gang vs. Massey College
DESCRIPTION:Massey College vs. Papa Barone & the Good Time GangPlus d'info 
	: #598
X-ALT-DESC;FMTTYPE=text/html:<!DOCTYPE HTML PUBLIC "-//W3C//DTD HTML 3.2//E
	N">\n<HTML>\n<HEAD>\n<TITLE></TITLE>\n</HEAD>\n<BODY>\n<h3>Massey College v
	s. Papa Barone & the Good Time Gang</h3>Plus d'info : <a href="https://www.
	golnetwork.com/game/v/106289/">#598</a>\n\n</BODY>\n</HTML>
STATUS:CONFIRMED
CLASS:PUBLIC
URL:https://www.golnetwork.com/game/v/106289/
X-MICROSOFT-CDO-BUSYSTATUS:BUSY
X-MICROSOFT-CDO-IMPORTANCE:1
END:VEVENT
BEGIN:VEVENT
UID:gao99@games.golnetwork.com
LOCATION:Central Tech - Field 3
CREATED:20170516T170831Z
DTSTART:20170706T020000Z
DTEND:20170706T030000Z
DTSTAMP:20260419T125349Z
SUMMARY:All City FC vs. Sapient FC
DESCRIPTION:Sapient FC vs. All City FCPlus d'info : #599
X-ALT-DESC;FMTTYPE=text/html:<!DOCTYPE HTML PUBLIC "-//W3C//DTD HTML 3.2//E
	N">\n<HTML>\n<HEAD>\n<TITLE></TITLE>\n</HEAD>\n<BODY>\n<h3>Sapient FC vs. A
	ll City FC</h3>Plus d'info : <a href="https://www.golnetwork.com/game/v/106
	290/">#599</a>\n\n</BODY>\n</HTML>
STATUS:CONFIRMED
CLASS:PUBLIC
URL:https://www.golnetwork.com/game/v/106290/
X-MICROSOFT-CDO-BUSYSTATUS:BUSY
X-MICROSOFT-CDO-IMPORTANCE:1
END:VEVENT
BEGIN:VEVENT
UID:gao9b@games.golnetwork.com
LOCATION:Central Tech - Field 3
CREATED:20170516T170839Z
DTSTART:20170713T020000Z
DTEND:20170713T030000Z
DTSTAMP:20260419T125349Z
SUMMARY:Sapient FC vs. FC Insurgency
DESCRIPTION:FC Insurgency vs. Sapient FCPlus d'info : #658
X-ALT-DESC;FMTTYPE=text/html:<!DOCTYPE HTML PUBLIC "-//W3C//DTD HTML 3.2//E
	N">\n<HTML>\n<HEAD>\n<TITLE></TITLE>\n</HEAD>\n<BODY>\n<h3>FC Insurgency vs
	. Sapient FC</h3>Plus d'info : <a href="https://www.golnetwork.com/game/v/1
	06291/">#658</a>\n\n</BODY>\n</HTML>
STATUS:CONFIRMED
CLASS:PUBLIC
URL:https://www.golnetwork.com/game/v/106291/
X-MICROSOFT-CDO-BUSYSTATUS:BUSY
X-MICROSOFT-CDO-IMPORTANCE:1
END:VEVENT
BEGIN:VEVENT
UID:gao9f@games.golnetwork.com
LOCATION:Central Tech - Field 3
CREATED:20170516T170848Z
DTSTART:20170720T010000Z
DTEND:20170720T020000Z
DTSTAMP:20260419T125349Z
SUMMARY:All City FC vs. FC Insurgency
DESCRIPTION:FC Insurgency vs. All City FCPlus d'info : #716
X-ALT-DESC;FMTTYPE=text/html:<!DOCTYPE HTML PUBLIC "-//W3C//DTD HTML 3.2//E
	N">\n<HTML>\n<HEAD>\n<TITLE></TITLE>\n</HEAD>\n<BODY>\n<h3>FC Insurgency vs
	. All City FC</h3>Plus d'info : <a href="https://www.golnetwork.com/game/v/
	106293/">#716</a>\n\n</BODY>\n</HTML>
STATUS:CONFIRMED
CLASS:PUBLIC
URL:https://www.golnetwork.com/game/v/106293/
X-MICROSOFT-CDO-BUSYSTATUS:BUSY
X-MICROSOFT-CDO-IMPORTANCE:1
END:VEVENT
BEGIN:VEVENT
UID:gao9d@games.golnetwork.com
LOCATION:Central Tech - Field 3
CREATED:20170516T170842Z
DTSTART:20170720T020000Z
DTEND:20170720T030000Z
DTSTAMP:20260419T125349Z
SUMMARY:Slam Dunk FC vs. Sapient FC
DESCRIPTION:Sapient FC vs. Slam Dunk FCPlus d'info : #717
X-ALT-DESC;FMTTYPE=text/html:<!DOCTYPE HTML PUBLIC "-//W3C//DTD HTML 3.2//E
	N">\n<HTML>\n<HEAD>\n<TITLE></TITLE>\n</HEAD>\n<BODY>\n<h3>Sapient FC vs. S
	lam Dunk FC</h3>Plus d'info : <a href="https://www.golnetwork.com/game/v/10
	6292/">#717</a>\n\n</BODY>\n</HTML>
STATUS:CONFIRMED
CLASS:PUBLIC
URL:https://www.golnetwork.com/game/v/106292/
X-MICROSOFT-CDO-BUSYSTATUS:BUSY
X-MICROSOFT-CDO-IMPORTANCE:1
END:VEVENT
END:VCALENDAR
