BEGIN:VCALENDAR
PRODID:-//gdesolutions.com//MV Framework 1.0.0.1607 Calendar//EN
VERSION:2.0
METHOD:PUBLISH
CALSCALE:GREGORIAN
BEGIN:VEVENT
UID:gai2m@games.golnetwork.com
LOCATION:Fieldhouse C & D
GEO:45.10662;-94.578209
CREATED:20170330T202025Z
DTSTART:20170401T163000Z
DTEND:20170401T171400Z
DTSTAMP:20260426T030201Z
SUMMARY:Soccer Team vs. CAC Tsunami
DESCRIPTION:CAC Tsunami vs. Soccer TeamPlus d'info : #335
X-ALT-DESC;FMTTYPE=text/html:<!DOCTYPE HTML PUBLIC "-//W3C//DTD HTML 3.2//E
	N">\n<HTML>\n<HEAD>\n<TITLE></TITLE>\n</HEAD>\n<BODY>\n<h3>CAC Tsunami vs. 
	Soccer Team</h3>Plus d'info : <a href="https://www.golnetwork.com/game/v/10
	4015/">#335</a>\n\n</BODY>\n</HTML>
STATUS:CONFIRMED
CLASS:PUBLIC
URL:https://www.golnetwork.com/game/v/104015/
X-MICROSOFT-CDO-BUSYSTATUS:BUSY
X-MICROSOFT-CDO-IMPORTANCE:1
END:VEVENT
BEGIN:VEVENT
UID:gai2o@games.golnetwork.com
LOCATION:Fieldhouse C & D
GEO:45.10662;-94.578209
CREATED:20170330T202025Z
DTSTART:20170401T173000Z
DTEND:20170401T181400Z
DTSTAMP:20260426T030201Z
SUMMARY:FC Flying Buttresses vs. MEUS FC
DESCRIPTION:MEUS FC vs. FC Flying ButtressesPlus d'info : #336
X-ALT-DESC;FMTTYPE=text/html:<!DOCTYPE HTML PUBLIC "-//W3C//DTD HTML 3.2//E
	N">\n<HTML>\n<HEAD>\n<TITLE></TITLE>\n</HEAD>\n<BODY>\n<h3>MEUS FC vs. FC F
	lying Buttresses</h3>Plus d'info : <a href="https://www.golnetwork.com/game
	/v/104016/">#336</a>\n\n</BODY>\n</HTML>
STATUS:CONFIRMED
CLASS:PUBLIC
URL:https://www.golnetwork.com/game/v/104016/
X-MICROSOFT-CDO-BUSYSTATUS:BUSY
X-MICROSOFT-CDO-IMPORTANCE:1
END:VEVENT
BEGIN:VEVENT
UID:gai2q@games.golnetwork.com
LOCATION:Fieldhouse C & D
GEO:45.10662;-94.578209
CREATED:20170330T202025Z
DTSTART:20170409T174500Z
DTEND:20170409T182900Z
DTSTAMP:20260426T030201Z
SUMMARY:MEUS FC vs. CAC Tsunami
DESCRIPTION:CAC Tsunami vs. MEUS FCPlus d'info : #379
X-ALT-DESC;FMTTYPE=text/html:<!DOCTYPE HTML PUBLIC "-//W3C//DTD HTML 3.2//E
	N">\n<HTML>\n<HEAD>\n<TITLE></TITLE>\n</HEAD>\n<BODY>\n<h3>CAC Tsunami vs. 
	MEUS FC</h3>Plus d'info : <a href="https://www.golnetwork.com/game/v/104017
	/">#379</a>\n\n</BODY>\n</HTML>
STATUS:CONFIRMED
CLASS:PUBLIC
URL:https://www.golnetwork.com/game/v/104017/
X-MICROSOFT-CDO-BUSYSTATUS:BUSY
X-MICROSOFT-CDO-IMPORTANCE:1
END:VEVENT
END:VCALENDAR
