BEGIN:VCALENDAR
PRODID:-//gdesolutions.com//MV Framework 1.0.0.1607 Calendar//EN
VERSION:2.0
METHOD:PUBLISH
CALSCALE:GREGORIAN
BEGIN:VEVENT
UID:gaqjd@games.golnetwork.com
LOCATION:Fernbank #3 (Magna centre)
GEO:44.0434203;-79.4388319
CREATED:20170527T230834Z
DTSTART:20170530T223000Z
DTEND:20170530T232500Z
DTSTAMP:20260423T073650Z
SUMMARY:The Cleaners vs. Fatta Chinguina
DESCRIPTION:Fatta Chinguina vs. The CleanersPlus d'info : #1
X-ALT-DESC;FMTTYPE=text/html:<!DOCTYPE HTML PUBLIC "-//W3C//DTD HTML 3.2//E
	N">\n<HTML>\n<HEAD>\n<TITLE></TITLE>\n</HEAD>\n<BODY>\n<h3>Fatta Chinguina 
	vs. The Cleaners</h3>Plus d'info : <a href="https://www.golnetwork.com/game
	/v/107156/">#1</a>\n\n</BODY>\n</HTML>
STATUS:CONFIRMED
CLASS:PUBLIC
URL:https://www.golnetwork.com/game/v/107156/
X-MICROSOFT-CDO-BUSYSTATUS:BUSY
X-MICROSOFT-CDO-IMPORTANCE:1
END:VEVENT
BEGIN:VEVENT
UID:gaqjb@games.golnetwork.com
LOCATION:Max Stiles
CREATED:20170527T230834Z
DTSTART:20170530T223000Z
DTEND:20170530T232500Z
DTSTAMP:20260423T073650Z
SUMMARY:Teal FC vs. Old Timers
DESCRIPTION:Old Timers vs. Teal FCPlus d'info : #2
X-ALT-DESC;FMTTYPE=text/html:<!DOCTYPE HTML PUBLIC "-//W3C//DTD HTML 3.2//E
	N">\n<HTML>\n<HEAD>\n<TITLE></TITLE>\n</HEAD>\n<BODY>\n<h3>Old Timers vs. T
	eal FC</h3>Plus d'info : <a href="https://www.golnetwork.com/game/v/107155/
	">#2</a>\n\n</BODY>\n</HTML>
STATUS:CONFIRMED
CLASS:PUBLIC
URL:https://www.golnetwork.com/game/v/107155/
X-MICROSOFT-CDO-BUSYSTATUS:BUSY
X-MICROSOFT-CDO-IMPORTANCE:1
END:VEVENT
BEGIN:VEVENT
UID:gaqjh@games.golnetwork.com
LOCATION:Fernbank #3 (Magna centre)
GEO:44.0434203;-79.4388319
CREATED:20170527T230834Z
DTSTART:20170530T233000Z
DTEND:20170531T002500Z
DTSTAMP:20260423T073650Z
SUMMARY:The Red Dragons FC vs. Beercelona
DESCRIPTION:Beercelona vs. The Red Dragons FCPlus d'info : #3
X-ALT-DESC;FMTTYPE=text/html:<!DOCTYPE HTML PUBLIC "-//W3C//DTD HTML 3.2//E
	N">\n<HTML>\n<HEAD>\n<TITLE></TITLE>\n</HEAD>\n<BODY>\n<h3>Beercelona vs. T
	he Red Dragons FC</h3>Plus d'info : <a href="https://www.golnetwork.com/gam
	e/v/107158/">#3</a>\n\n</BODY>\n</HTML>
STATUS:CONFIRMED
CLASS:PUBLIC
URL:https://www.golnetwork.com/game/v/107158/
X-MICROSOFT-CDO-BUSYSTATUS:BUSY
X-MICROSOFT-CDO-IMPORTANCE:1
END:VEVENT
BEGIN:VEVENT
UID:gb090@games.golnetwork.com
LOCATION:Fernbank #3 (Magna centre)
GEO:44.0434203;-79.4388319
CREATED:20170605T142449Z
DTSTART:20170606T223000Z
DTEND:20170606T232500Z
DTSTAMP:20260423T073650Z
SUMMARY:Teal FC vs. The Red Dragons FC
DESCRIPTION:The Red Dragons FC vs. Teal FCPlus d'info : #4
X-ALT-DESC;FMTTYPE=text/html:<!DOCTYPE HTML PUBLIC "-//W3C//DTD HTML 3.2//E
	N">\n<HTML>\n<HEAD>\n<TITLE></TITLE>\n</HEAD>\n<BODY>\n<h3>The Red Dragons 
	FC vs. Teal FC</h3>Plus d'info : <a href="https://www.golnetwork.com/game/v
	/107379/">#4</a>\n\n</BODY>\n</HTML>
STATUS:CONFIRMED
CLASS:PUBLIC
URL:https://www.golnetwork.com/game/v/107379/
X-MICROSOFT-CDO-BUSYSTATUS:BUSY
X-MICROSOFT-CDO-IMPORTANCE:1
END:VEVENT
BEGIN:VEVENT
UID:gb092@games.golnetwork.com
LOCATION:Fernbank #3 (Magna centre)
GEO:44.0434203;-79.4388319
CREATED:20170605T142449Z
DTSTART:20170606T233000Z
DTEND:20170607T002500Z
DTSTAMP:20260423T073650Z
SUMMARY:Old Timers vs. Fatta Chinguina
DESCRIPTION:Fatta Chinguina vs. Old TimersPlus d'info : #5
X-ALT-DESC;FMTTYPE=text/html:<!DOCTYPE HTML PUBLIC "-//W3C//DTD HTML 3.2//E
	N">\n<HTML>\n<HEAD>\n<TITLE></TITLE>\n</HEAD>\n<BODY>\n<h3>Fatta Chinguina 
	vs. Old Timers</h3>Plus d'info : <a href="https://www.golnetwork.com/game/v
	/107380/">#5</a>\n\n</BODY>\n</HTML>
STATUS:CONFIRMED
CLASS:PUBLIC
URL:https://www.golnetwork.com/game/v/107380/
X-MICROSOFT-CDO-BUSYSTATUS:BUSY
X-MICROSOFT-CDO-IMPORTANCE:1
END:VEVENT
BEGIN:VEVENT
UID:gb094@games.golnetwork.com
LOCATION:Max Stiles
CREATED:20170605T142449Z
DTSTART:20170606T233000Z
DTEND:20170607T002500Z
DTSTAMP:20260423T073650Z
SUMMARY:The Cleaners vs. Beercelona
DESCRIPTION:Beercelona vs. The CleanersPlus d'info : #6
X-ALT-DESC;FMTTYPE=text/html:<!DOCTYPE HTML PUBLIC "-//W3C//DTD HTML 3.2//E
	N">\n<HTML>\n<HEAD>\n<TITLE></TITLE>\n</HEAD>\n<BODY>\n<h3>Beercelona vs. T
	he Cleaners</h3>Plus d'info : <a href="https://www.golnetwork.com/game/v/10
	7381/">#6</a>\n\n</BODY>\n</HTML>
STATUS:CONFIRMED
CLASS:PUBLIC
URL:https://www.golnetwork.com/game/v/107381/
X-MICROSOFT-CDO-BUSYSTATUS:BUSY
X-MICROSOFT-CDO-IMPORTANCE:1
END:VEVENT
BEGIN:VEVENT
UID:gb09a@games.golnetwork.com
LOCATION:Fernbank #3 (Magna centre)
GEO:44.0434203;-79.4388319
CREATED:20170605T142449Z
DTSTART:20170613T223000Z
DTEND:20170613T232500Z
DTSTAMP:20260423T073650Z
SUMMARY:Fatta Chinguina vs. The Red Dragons FC
DESCRIPTION:The Red Dragons FC vs. Fatta ChinguinaPlus d'info : #7
X-ALT-DESC;FMTTYPE=text/html:<!DOCTYPE HTML PUBLIC "-//W3C//DTD HTML 3.2//E
	N">\n<HTML>\n<HEAD>\n<TITLE></TITLE>\n</HEAD>\n<BODY>\n<h3>The Red Dragons 
	FC vs. Fatta Chinguina</h3>Plus d'info : <a href="https://www.golnetwork.co
	m/game/v/107384/">#7</a>\n\n</BODY>\n</HTML>
STATUS:CONFIRMED
CLASS:PUBLIC
URL:https://www.golnetwork.com/game/v/107384/
X-MICROSOFT-CDO-BUSYSTATUS:BUSY
X-MICROSOFT-CDO-IMPORTANCE:1
END:VEVENT
BEGIN:VEVENT
UID:gb098@games.golnetwork.com
LOCATION:Fernbank #3 (Magna centre)
GEO:44.0434203;-79.4388319
CREATED:20170605T142449Z
DTSTART:20170613T233000Z
DTEND:20170614T002500Z
DTSTAMP:20260423T073650Z
SUMMARY:The Cleaners vs. Old Timers
DESCRIPTION:Old Timers vs. The CleanersPlus d'info : #8
X-ALT-DESC;FMTTYPE=text/html:<!DOCTYPE HTML PUBLIC "-//W3C//DTD HTML 3.2//E
	N">\n<HTML>\n<HEAD>\n<TITLE></TITLE>\n</HEAD>\n<BODY>\n<h3>Old Timers vs. T
	he Cleaners</h3>Plus d'info : <a href="https://www.golnetwork.com/game/v/10
	7383/">#8</a>\n\n</BODY>\n</HTML>
STATUS:CONFIRMED
CLASS:PUBLIC
URL:https://www.golnetwork.com/game/v/107383/
X-MICROSOFT-CDO-BUSYSTATUS:BUSY
X-MICROSOFT-CDO-IMPORTANCE:1
END:VEVENT
BEGIN:VEVENT
UID:gb096@games.golnetwork.com
LOCATION:Max Stiles
CREATED:20170605T142449Z
DTSTART:20170613T233000Z
DTEND:20170614T002500Z
DTSTAMP:20260423T073650Z
SUMMARY:Beercelona vs. Teal FC
DESCRIPTION:Teal FC vs. BeercelonaPlus d'info : #9
X-ALT-DESC;FMTTYPE=text/html:<!DOCTYPE HTML PUBLIC "-//W3C//DTD HTML 3.2//E
	N">\n<HTML>\n<HEAD>\n<TITLE></TITLE>\n</HEAD>\n<BODY>\n<h3>Teal FC vs. Beer
	celona</h3>Plus d'info : <a href="https://www.golnetwork.com/game/v/107382/
	">#9</a>\n\n</BODY>\n</HTML>
STATUS:CONFIRMED
CLASS:PUBLIC
URL:https://www.golnetwork.com/game/v/107382/
X-MICROSOFT-CDO-BUSYSTATUS:BUSY
X-MICROSOFT-CDO-IMPORTANCE:1
END:VEVENT
BEGIN:VEVENT
UID:gb09e@games.golnetwork.com
LOCATION:Max Stiles
CREATED:20170605T142449Z
DTSTART:20170620T223000Z
DTEND:20170620T232500Z
DTSTAMP:20260423T073650Z
SUMMARY:Fatta Chinguina vs. Beercelona
DESCRIPTION:Beercelona vs. Fatta ChinguinaPlus d'info : #10
X-ALT-DESC;FMTTYPE=text/html:<!DOCTYPE HTML PUBLIC "-//W3C//DTD HTML 3.2//E
	N">\n<HTML>\n<HEAD>\n<TITLE></TITLE>\n</HEAD>\n<BODY>\n<h3>Beercelona vs. F
	atta Chinguina</h3>Plus d'info : <a href="https://www.golnetwork.com/game/v
	/107386/">#10</a>\n\n</BODY>\n</HTML>
STATUS:RESCHEDULED
CLASS:PUBLIC
URL:https://www.golnetwork.com/game/v/107386/
X-MICROSOFT-CDO-BUSYSTATUS:BUSY
X-MICROSOFT-CDO-IMPORTANCE:1
END:VEVENT
BEGIN:VEVENT
UID:gb09c@games.golnetwork.com
LOCATION:Fernbank #3 (Magna centre)
GEO:44.0434203;-79.4388319
CREATED:20170605T142449Z
DTSTART:20170620T233000Z
DTEND:20170621T002500Z
DTSTAMP:20260423T073650Z
SUMMARY:Teal FC vs. The Cleaners
DESCRIPTION:The Cleaners vs. Teal FCPlus d'info : #11
X-ALT-DESC;FMTTYPE=text/html:<!DOCTYPE HTML PUBLIC "-//W3C//DTD HTML 3.2//E
	N">\n<HTML>\n<HEAD>\n<TITLE></TITLE>\n</HEAD>\n<BODY>\n<h3>The Cleaners vs.
	 Teal FC</h3>Plus d'info : <a href="https://www.golnetwork.com/game/v/10738
	5/">#11</a>\n\n</BODY>\n</HTML>
STATUS:RESCHEDULED
CLASS:PUBLIC
URL:https://www.golnetwork.com/game/v/107385/
X-MICROSOFT-CDO-BUSYSTATUS:BUSY
X-MICROSOFT-CDO-IMPORTANCE:1
END:VEVENT
BEGIN:VEVENT
UID:gb09g@games.golnetwork.com
LOCATION:Max Stiles
CREATED:20170605T142449Z
DTSTART:20170620T233000Z
DTEND:20170621T002500Z
DTSTAMP:20260423T073650Z
SUMMARY:The Red Dragons FC vs. Old Timers
DESCRIPTION:Old Timers vs. The Red Dragons FCPlus d'info : #12
X-ALT-DESC;FMTTYPE=text/html:<!DOCTYPE HTML PUBLIC "-//W3C//DTD HTML 3.2//E
	N">\n<HTML>\n<HEAD>\n<TITLE></TITLE>\n</HEAD>\n<BODY>\n<h3>Old Timers vs. T
	he Red Dragons FC</h3>Plus d'info : <a href="https://www.golnetwork.com/gam
	e/v/107387/">#12</a>\n\n</BODY>\n</HTML>
STATUS:RESCHEDULED
CLASS:PUBLIC
URL:https://www.golnetwork.com/game/v/107387/
X-MICROSOFT-CDO-BUSYSTATUS:BUSY
X-MICROSOFT-CDO-IMPORTANCE:1
END:VEVENT
BEGIN:VEVENT
UID:gb09m@games.golnetwork.com
LOCATION:Max Stiles
CREATED:20170605T142449Z
DTSTART:20170627T223000Z
DTEND:20170627T232500Z
DTSTAMP:20260423T073650Z
SUMMARY:Old Timers vs. Beercelona
DESCRIPTION:Beercelona vs. Old TimersPlus d'info : #13
X-ALT-DESC;FMTTYPE=text/html:<!DOCTYPE HTML PUBLIC "-//W3C//DTD HTML 3.2//E
	N">\n<HTML>\n<HEAD>\n<TITLE></TITLE>\n</HEAD>\n<BODY>\n<h3>Beercelona vs. O
	ld Timers</h3>Plus d'info : <a href="https://www.golnetwork.com/game/v/1073
	90/">#13</a>\n\n</BODY>\n</HTML>
STATUS:RESCHEDULED
CLASS:PUBLIC
URL:https://www.golnetwork.com/game/v/107390/
X-MICROSOFT-CDO-BUSYSTATUS:BUSY
X-MICROSOFT-CDO-IMPORTANCE:1
END:VEVENT
BEGIN:VEVENT
UID:gb09k@games.golnetwork.com
LOCATION:Fernbank #3 (Magna centre)
GEO:44.0434203;-79.4388319
CREATED:20170605T142449Z
DTSTART:20170627T233000Z
DTEND:20170628T002500Z
DTSTAMP:20260423T073650Z
SUMMARY:The Red Dragons FC vs. The Cleaners
DESCRIPTION:The Cleaners vs. The Red Dragons FCPlus d'info : #14
X-ALT-DESC;FMTTYPE=text/html:<!DOCTYPE HTML PUBLIC "-//W3C//DTD HTML 3.2//E
	N">\n<HTML>\n<HEAD>\n<TITLE></TITLE>\n</HEAD>\n<BODY>\n<h3>The Cleaners vs.
	 The Red Dragons FC</h3>Plus d'info : <a href="https://www.golnetwork.com/g
	ame/v/107389/">#14</a>\n\n</BODY>\n</HTML>
STATUS:RESCHEDULED
CLASS:PUBLIC
URL:https://www.golnetwork.com/game/v/107389/
X-MICROSOFT-CDO-BUSYSTATUS:BUSY
X-MICROSOFT-CDO-IMPORTANCE:1
END:VEVENT
BEGIN:VEVENT
UID:gb09i@games.golnetwork.com
LOCATION:Max Stiles
CREATED:20170605T142449Z
DTSTART:20170627T233000Z
DTEND:20170628T002500Z
DTSTAMP:20260423T073650Z
SUMMARY:Fatta Chinguina vs. Teal FC
DESCRIPTION:Teal FC vs. Fatta ChinguinaPlus d'info : #15
X-ALT-DESC;FMTTYPE=text/html:<!DOCTYPE HTML PUBLIC "-//W3C//DTD HTML 3.2//E
	N">\n<HTML>\n<HEAD>\n<TITLE></TITLE>\n</HEAD>\n<BODY>\n<h3>Teal FC vs. Fatt
	a Chinguina</h3>Plus d'info : <a href="https://www.golnetwork.com/game/v/10
	7388/">#15</a>\n\n</BODY>\n</HTML>
STATUS:RESCHEDULED
CLASS:PUBLIC
URL:https://www.golnetwork.com/game/v/107388/
X-MICROSOFT-CDO-BUSYSTATUS:BUSY
X-MICROSOFT-CDO-IMPORTANCE:1
END:VEVENT
BEGIN:VEVENT
UID:gb09o@games.golnetwork.com
LOCATION:Fernbank #3 (Magna centre)
GEO:44.0434203;-79.4388319
CREATED:20170605T142449Z
DTSTART:20170704T223000Z
DTEND:20170704T232500Z
DTSTAMP:20260423T073650Z
SUMMARY:Teal FC vs. The Red Dragons FC
DESCRIPTION:The Red Dragons FC vs. Teal FCPlus d'info : #16
X-ALT-DESC;FMTTYPE=text/html:<!DOCTYPE HTML PUBLIC "-//W3C//DTD HTML 3.2//E
	N">\n<HTML>\n<HEAD>\n<TITLE></TITLE>\n</HEAD>\n<BODY>\n<h3>The Red Dragons 
	FC vs. Teal FC</h3>Plus d'info : <a href="https://www.golnetwork.com/game/v
	/107391/">#16</a>\n\n</BODY>\n</HTML>
STATUS:CONFIRMED
CLASS:PUBLIC
URL:https://www.golnetwork.com/game/v/107391/
X-MICROSOFT-CDO-BUSYSTATUS:BUSY
X-MICROSOFT-CDO-IMPORTANCE:1
END:VEVENT
BEGIN:VEVENT
UID:gb09q@games.golnetwork.com
LOCATION:Fernbank #3 (Magna centre)
GEO:44.0434203;-79.4388319
CREATED:20170605T142449Z
DTSTART:20170704T233000Z
DTEND:20170705T002500Z
DTSTAMP:20260423T073650Z
SUMMARY:Old Timers vs. Fatta Chinguina
DESCRIPTION:Fatta Chinguina vs. Old TimersPlus d'info : #17
X-ALT-DESC;FMTTYPE=text/html:<!DOCTYPE HTML PUBLIC "-//W3C//DTD HTML 3.2//E
	N">\n<HTML>\n<HEAD>\n<TITLE></TITLE>\n</HEAD>\n<BODY>\n<h3>Fatta Chinguina 
	vs. Old Timers</h3>Plus d'info : <a href="https://www.golnetwork.com/game/v
	/107392/">#17</a>\n\n</BODY>\n</HTML>
STATUS:CONFIRMED
CLASS:PUBLIC
URL:https://www.golnetwork.com/game/v/107392/
X-MICROSOFT-CDO-BUSYSTATUS:BUSY
X-MICROSOFT-CDO-IMPORTANCE:1
END:VEVENT
BEGIN:VEVENT
UID:gb0a1@games.golnetwork.com
LOCATION:Max Stiles
CREATED:20170605T142449Z
DTSTART:20170704T233000Z
DTEND:20170705T002500Z
DTSTAMP:20260423T073650Z
SUMMARY:Beercelona vs. The Cleaners
DESCRIPTION:The Cleaners vs. BeercelonaPlus d'info : #18
X-ALT-DESC;FMTTYPE=text/html:<!DOCTYPE HTML PUBLIC "-//W3C//DTD HTML 3.2//E
	N">\n<HTML>\n<HEAD>\n<TITLE></TITLE>\n</HEAD>\n<BODY>\n<h3>The Cleaners vs.
	 Beercelona</h3>Plus d'info : <a href="https://www.golnetwork.com/game/v/10
	7393/">#18</a>\n\n</BODY>\n</HTML>
STATUS:CONFIRMED
CLASS:PUBLIC
URL:https://www.golnetwork.com/game/v/107393/
X-MICROSOFT-CDO-BUSYSTATUS:BUSY
X-MICROSOFT-CDO-IMPORTANCE:1
END:VEVENT
BEGIN:VEVENT
UID:gb0a5@games.golnetwork.com
LOCATION:Max Stiles
CREATED:20170605T142449Z
DTSTART:20170711T223000Z
DTEND:20170711T232500Z
DTSTAMP:20260423T073650Z
SUMMARY:Beercelona vs. The Red Dragons FC
DESCRIPTION:The Red Dragons FC vs. BeercelonaPlus d'info : #19
X-ALT-DESC;FMTTYPE=text/html:<!DOCTYPE HTML PUBLIC "-//W3C//DTD HTML 3.2//E
	N">\n<HTML>\n<HEAD>\n<TITLE></TITLE>\n</HEAD>\n<BODY>\n<h3>The Red Dragons 
	FC vs. Beercelona</h3>Plus d'info : <a href="https://www.golnetwork.com/gam
	e/v/107395/">#19</a>\n\n</BODY>\n</HTML>
STATUS:CONFIRMED
CLASS:PUBLIC
URL:https://www.golnetwork.com/game/v/107395/
X-MICROSOFT-CDO-BUSYSTATUS:BUSY
X-MICROSOFT-CDO-IMPORTANCE:1
END:VEVENT
BEGIN:VEVENT
UID:gb0a3@games.golnetwork.com
LOCATION:Fernbank #3 (Magna centre)
GEO:44.0434203;-79.4388319
CREATED:20170605T142449Z
DTSTART:20170711T233000Z
DTEND:20170712T002500Z
DTSTAMP:20260423T073650Z
SUMMARY:Teal FC vs. Old Timers
DESCRIPTION:Old Timers vs. Teal FCPlus d'info : #20
X-ALT-DESC;FMTTYPE=text/html:<!DOCTYPE HTML PUBLIC "-//W3C//DTD HTML 3.2//E
	N">\n<HTML>\n<HEAD>\n<TITLE></TITLE>\n</HEAD>\n<BODY>\n<h3>Old Timers vs. T
	eal FC</h3>Plus d'info : <a href="https://www.golnetwork.com/game/v/107394/
	">#20</a>\n\n</BODY>\n</HTML>
STATUS:CONFIRMED
CLASS:PUBLIC
URL:https://www.golnetwork.com/game/v/107394/
X-MICROSOFT-CDO-BUSYSTATUS:BUSY
X-MICROSOFT-CDO-IMPORTANCE:1
END:VEVENT
BEGIN:VEVENT
UID:gb0a7@games.golnetwork.com
LOCATION:Max Stiles
CREATED:20170605T142449Z
DTSTART:20170711T233000Z
DTEND:20170712T002500Z
DTSTAMP:20260423T073650Z
SUMMARY:The Cleaners vs. Fatta Chinguina
DESCRIPTION:Fatta Chinguina vs. The CleanersPlus d'info : #21
X-ALT-DESC;FMTTYPE=text/html:<!DOCTYPE HTML PUBLIC "-//W3C//DTD HTML 3.2//E
	N">\n<HTML>\n<HEAD>\n<TITLE></TITLE>\n</HEAD>\n<BODY>\n<h3>Fatta Chinguina 
	vs. The Cleaners</h3>Plus d'info : <a href="https://www.golnetwork.com/game
	/v/107396/">#21</a>\n\n</BODY>\n</HTML>
STATUS:CONFIRMED
CLASS:PUBLIC
URL:https://www.golnetwork.com/game/v/107396/
X-MICROSOFT-CDO-BUSYSTATUS:BUSY
X-MICROSOFT-CDO-IMPORTANCE:1
END:VEVENT
BEGIN:VEVENT
UID:gb0ab@games.golnetwork.com
LOCATION:Max Stiles
CREATED:20170605T142449Z
DTSTART:20170718T223000Z
DTEND:20170718T232500Z
DTSTAMP:20260423T073650Z
SUMMARY:The Cleaners vs. Old Timers
DESCRIPTION:Old Timers vs. The CleanersPlus d'info : #22
X-ALT-DESC;FMTTYPE=text/html:<!DOCTYPE HTML PUBLIC "-//W3C//DTD HTML 3.2//E
	N">\n<HTML>\n<HEAD>\n<TITLE></TITLE>\n</HEAD>\n<BODY>\n<h3>Old Timers vs. T
	he Cleaners</h3>Plus d'info : <a href="https://www.golnetwork.com/game/v/10
	7398/">#22</a>\n\n</BODY>\n</HTML>
STATUS:CONFIRMED
CLASS:PUBLIC
URL:https://www.golnetwork.com/game/v/107398/
X-MICROSOFT-CDO-BUSYSTATUS:BUSY
X-MICROSOFT-CDO-IMPORTANCE:1
END:VEVENT
BEGIN:VEVENT
UID:gb0a9@games.golnetwork.com
LOCATION:Fernbank #3 (Magna centre)
GEO:44.0434203;-79.4388319
CREATED:20170605T142449Z
DTSTART:20170718T233000Z
DTEND:20170719T002500Z
DTSTAMP:20260423T073650Z
SUMMARY:Beercelona vs. Teal FC
DESCRIPTION:Teal FC vs. BeercelonaPlus d'info : #23
X-ALT-DESC;FMTTYPE=text/html:<!DOCTYPE HTML PUBLIC "-//W3C//DTD HTML 3.2//E
	N">\n<HTML>\n<HEAD>\n<TITLE></TITLE>\n</HEAD>\n<BODY>\n<h3>Teal FC vs. Beer
	celona</h3>Plus d'info : <a href="https://www.golnetwork.com/game/v/107397/
	">#23</a>\n\n</BODY>\n</HTML>
STATUS:CONFIRMED
CLASS:PUBLIC
URL:https://www.golnetwork.com/game/v/107397/
X-MICROSOFT-CDO-BUSYSTATUS:BUSY
X-MICROSOFT-CDO-IMPORTANCE:1
END:VEVENT
BEGIN:VEVENT
UID:gb0ad@games.golnetwork.com
LOCATION:Max Stiles
CREATED:20170605T142449Z
DTSTART:20170718T233000Z
DTEND:20170719T002500Z
DTSTAMP:20260423T073650Z
SUMMARY:Fatta Chinguina vs. The Red Dragons FC
DESCRIPTION:The Red Dragons FC vs. Fatta ChinguinaPlus d'info : #24
X-ALT-DESC;FMTTYPE=text/html:<!DOCTYPE HTML PUBLIC "-//W3C//DTD HTML 3.2//E
	N">\n<HTML>\n<HEAD>\n<TITLE></TITLE>\n</HEAD>\n<BODY>\n<h3>The Red Dragons 
	FC vs. Fatta Chinguina</h3>Plus d'info : <a href="https://www.golnetwork.co
	m/game/v/107399/">#24</a>\n\n</BODY>\n</HTML>
STATUS:CONFIRMED
CLASS:PUBLIC
URL:https://www.golnetwork.com/game/v/107399/
X-MICROSOFT-CDO-BUSYSTATUS:BUSY
X-MICROSOFT-CDO-IMPORTANCE:1
END:VEVENT
BEGIN:VEVENT
UID:gb0af@games.golnetwork.com
LOCATION:Max Stiles
CREATED:20170605T142449Z
DTSTART:20170725T223000Z
DTEND:20170725T232500Z
DTSTAMP:20260423T073650Z
SUMMARY:Teal FC vs. The Cleaners
DESCRIPTION:The Cleaners vs. Teal FCPlus d'info : #25
X-ALT-DESC;FMTTYPE=text/html:<!DOCTYPE HTML PUBLIC "-//W3C//DTD HTML 3.2//E
	N">\n<HTML>\n<HEAD>\n<TITLE></TITLE>\n</HEAD>\n<BODY>\n<h3>The Cleaners vs.
	 Teal FC</h3>Plus d'info : <a href="https://www.golnetwork.com/game/v/10740
	0/">#25</a>\n\n</BODY>\n</HTML>
STATUS:CONFIRMED
CLASS:PUBLIC
URL:https://www.golnetwork.com/game/v/107400/
X-MICROSOFT-CDO-BUSYSTATUS:BUSY
X-MICROSOFT-CDO-IMPORTANCE:1
END:VEVENT
BEGIN:VEVENT
UID:gb0ah@games.golnetwork.com
LOCATION:Fernbank #3 (Magna centre)
GEO:44.0434203;-79.4388319
CREATED:20170605T142449Z
DTSTART:20170725T233000Z
DTEND:20170726T002500Z
DTSTAMP:20260423T073650Z
SUMMARY:Fatta Chinguina vs. Beercelona
DESCRIPTION:Beercelona vs. Fatta ChinguinaPlus d'info : #26
X-ALT-DESC;FMTTYPE=text/html:<!DOCTYPE HTML PUBLIC "-//W3C//DTD HTML 3.2//E
	N">\n<HTML>\n<HEAD>\n<TITLE></TITLE>\n</HEAD>\n<BODY>\n<h3>Beercelona vs. F
	atta Chinguina</h3>Plus d'info : <a href="https://www.golnetwork.com/game/v
	/107401/">#26</a>\n\n</BODY>\n</HTML>
STATUS:CONFIRMED
CLASS:PUBLIC
URL:https://www.golnetwork.com/game/v/107401/
X-MICROSOFT-CDO-BUSYSTATUS:BUSY
X-MICROSOFT-CDO-IMPORTANCE:1
END:VEVENT
BEGIN:VEVENT
UID:gb0aj@games.golnetwork.com
LOCATION:Max Stiles
CREATED:20170605T142449Z
DTSTART:20170725T233000Z
DTEND:20170726T002500Z
DTSTAMP:20260423T073650Z
SUMMARY:The Red Dragons FC vs. Old Timers
DESCRIPTION:Old Timers vs. The Red Dragons FCPlus d'info : #27
X-ALT-DESC;FMTTYPE=text/html:<!DOCTYPE HTML PUBLIC "-//W3C//DTD HTML 3.2//E
	N">\n<HTML>\n<HEAD>\n<TITLE></TITLE>\n</HEAD>\n<BODY>\n<h3>Old Timers vs. T
	he Red Dragons FC</h3>Plus d'info : <a href="https://www.golnetwork.com/gam
	e/v/107402/">#27</a>\n\n</BODY>\n</HTML>
STATUS:CONFIRMED
CLASS:PUBLIC
URL:https://www.golnetwork.com/game/v/107402/
X-MICROSOFT-CDO-BUSYSTATUS:BUSY
X-MICROSOFT-CDO-IMPORTANCE:1
END:VEVENT
BEGIN:VEVENT
UID:gb0an@games.golnetwork.com
LOCATION:Max Stiles
CREATED:20170605T142449Z
DTSTART:20170801T223000Z
DTEND:20170801T232500Z
DTSTAMP:20260423T073650Z
SUMMARY:The Red Dragons FC vs. The Cleaners
DESCRIPTION:The Cleaners vs. The Red Dragons FCPlus d'info : #28
X-ALT-DESC;FMTTYPE=text/html:<!DOCTYPE HTML PUBLIC "-//W3C//DTD HTML 3.2//E
	N">\n<HTML>\n<HEAD>\n<TITLE></TITLE>\n</HEAD>\n<BODY>\n<h3>The Cleaners vs.
	 The Red Dragons FC</h3>Plus d'info : <a href="https://www.golnetwork.com/g
	ame/v/107404/">#28</a>\n\n</BODY>\n</HTML>
STATUS:CONFIRMED
CLASS:PUBLIC
URL:https://www.golnetwork.com/game/v/107404/
X-MICROSOFT-CDO-BUSYSTATUS:BUSY
X-MICROSOFT-CDO-IMPORTANCE:1
END:VEVENT
BEGIN:VEVENT
UID:gb0al@games.golnetwork.com
LOCATION:Fernbank #3 (Magna centre)
GEO:44.0434203;-79.4388319
CREATED:20170605T142449Z
DTSTART:20170801T233000Z
DTEND:20170802T002500Z
DTSTAMP:20260423T073650Z
SUMMARY:Fatta Chinguina vs. Teal FC
DESCRIPTION:Teal FC vs. Fatta ChinguinaPlus d'info : #29
X-ALT-DESC;FMTTYPE=text/html:<!DOCTYPE HTML PUBLIC "-//W3C//DTD HTML 3.2//E
	N">\n<HTML>\n<HEAD>\n<TITLE></TITLE>\n</HEAD>\n<BODY>\n<h3>Teal FC vs. Fatt
	a Chinguina</h3>Plus d'info : <a href="https://www.golnetwork.com/game/v/10
	7403/">#29</a>\n\n</BODY>\n</HTML>
STATUS:CONFIRMED
CLASS:PUBLIC
URL:https://www.golnetwork.com/game/v/107403/
X-MICROSOFT-CDO-BUSYSTATUS:BUSY
X-MICROSOFT-CDO-IMPORTANCE:1
END:VEVENT
BEGIN:VEVENT
UID:gb0ap@games.golnetwork.com
LOCATION:Max Stiles
CREATED:20170605T142449Z
DTSTART:20170801T233000Z
DTEND:20170802T002500Z
DTSTAMP:20260423T073650Z
SUMMARY:Old Timers vs. Beercelona
DESCRIPTION:Beercelona vs. Old TimersPlus d'info : #30
X-ALT-DESC;FMTTYPE=text/html:<!DOCTYPE HTML PUBLIC "-//W3C//DTD HTML 3.2//E
	N">\n<HTML>\n<HEAD>\n<TITLE></TITLE>\n</HEAD>\n<BODY>\n<h3>Beercelona vs. O
	ld Timers</h3>Plus d'info : <a href="https://www.golnetwork.com/game/v/1074
	05/">#30</a>\n\n</BODY>\n</HTML>
STATUS:CONFIRMED
CLASS:PUBLIC
URL:https://www.golnetwork.com/game/v/107405/
X-MICROSOFT-CDO-BUSYSTATUS:BUSY
X-MICROSOFT-CDO-IMPORTANCE:1
END:VEVENT
BEGIN:VEVENT
UID:gb4q3@games.golnetwork.com
LOCATION:Max Stiles
CREATED:20170806T105142Z
DTSTART:20170808T223000Z
DTEND:20170808T232500Z
DTSTAMP:20260423T073650Z
SUMMARY:Fatta Chinguina vs. Beercelona
DESCRIPTION:Beercelona vs. Fatta ChinguinaPlus d'info : R#10
X-ALT-DESC;FMTTYPE=text/html:<!DOCTYPE HTML PUBLIC "-//W3C//DTD HTML 3.2//E
	N">\n<HTML>\n<HEAD>\n<TITLE></TITLE>\n</HEAD>\n<BODY>\n<h3>Beercelona vs. F
	atta Chinguina</h3>Plus d'info : <a href="https://www.golnetwork.com/game/v
	/109068/">R#10</a>\n\n</BODY>\n</HTML>
STATUS:CONFIRMED
CLASS:PUBLIC
URL:https://www.golnetwork.com/game/v/109068/
X-MICROSOFT-CDO-BUSYSTATUS:BUSY
X-MICROSOFT-CDO-IMPORTANCE:1
END:VEVENT
BEGIN:VEVENT
UID:gb4q5@games.golnetwork.com
LOCATION:Fernbank #3 (Magna centre)
GEO:44.0434203;-79.4388319
CREATED:20170806T105216Z
DTSTART:20170808T233000Z
DTEND:20170809T002500Z
DTSTAMP:20260423T073650Z
SUMMARY:Teal FC vs. The Cleaners
DESCRIPTION:The Cleaners vs. Teal FCPlus d'info : R#11
X-ALT-DESC;FMTTYPE=text/html:<!DOCTYPE HTML PUBLIC "-//W3C//DTD HTML 3.2//E
	N">\n<HTML>\n<HEAD>\n<TITLE></TITLE>\n</HEAD>\n<BODY>\n<h3>The Cleaners vs.
	 Teal FC</h3>Plus d'info : <a href="https://www.golnetwork.com/game/v/10906
	9/">R#11</a>\n\n</BODY>\n</HTML>
STATUS:CONFIRMED
CLASS:PUBLIC
URL:https://www.golnetwork.com/game/v/109069/
X-MICROSOFT-CDO-BUSYSTATUS:BUSY
X-MICROSOFT-CDO-IMPORTANCE:1
END:VEVENT
BEGIN:VEVENT
UID:gb4q7@games.golnetwork.com
LOCATION:Max Stiles
CREATED:20170806T105243Z
DTSTART:20170808T233000Z
DTEND:20170809T002500Z
DTSTAMP:20260423T073650Z
SUMMARY:The Red Dragons FC vs. Old Timers
DESCRIPTION:Old Timers vs. The Red Dragons FCPlus d'info : R#12
X-ALT-DESC;FMTTYPE=text/html:<!DOCTYPE HTML PUBLIC "-//W3C//DTD HTML 3.2//E
	N">\n<HTML>\n<HEAD>\n<TITLE></TITLE>\n</HEAD>\n<BODY>\n<h3>Old Timers vs. T
	he Red Dragons FC</h3>Plus d'info : <a href="https://www.golnetwork.com/gam
	e/v/109070/">R#12</a>\n\n</BODY>\n</HTML>
STATUS:CONFIRMED
CLASS:PUBLIC
URL:https://www.golnetwork.com/game/v/109070/
X-MICROSOFT-CDO-BUSYSTATUS:BUSY
X-MICROSOFT-CDO-IMPORTANCE:1
END:VEVENT
BEGIN:VEVENT
UID:gb4q9@games.golnetwork.com
LOCATION:Fernbank #3 (Magna centre)
GEO:44.0434203;-79.4388319
CREATED:20170806T105407Z
DTSTART:20170814T223000Z
DTEND:20170814T232500Z
DTSTAMP:20260423T073650Z
SUMMARY:Old Timers vs. Beercelona
DESCRIPTION:Beercelona vs. Old TimersPlus d'info : R#13
X-ALT-DESC;FMTTYPE=text/html:<!DOCTYPE HTML PUBLIC "-//W3C//DTD HTML 3.2//E
	N">\n<HTML>\n<HEAD>\n<TITLE></TITLE>\n</HEAD>\n<BODY>\n<h3>Beercelona vs. O
	ld Timers</h3>Plus d'info : <a href="https://www.golnetwork.com/game/v/1090
	71/">R#13</a>\n\n</BODY>\n</HTML>
STATUS:CONFIRMED
CLASS:PUBLIC
URL:https://www.golnetwork.com/game/v/109071/
X-MICROSOFT-CDO-BUSYSTATUS:BUSY
X-MICROSOFT-CDO-IMPORTANCE:1
END:VEVENT
BEGIN:VEVENT
UID:gb4qd@games.golnetwork.com
LOCATION:Fernbank #3 (Magna centre)
GEO:44.0434203;-79.4388319
CREATED:20170806T105545Z
DTSTART:20170814T233000Z
DTEND:20170815T002500Z
DTSTAMP:20260423T073650Z
SUMMARY:Fatta Chinguina vs. Teal FC
DESCRIPTION:Teal FC vs. Fatta ChinguinaPlus d'info : R#15
X-ALT-DESC;FMTTYPE=text/html:<!DOCTYPE HTML PUBLIC "-//W3C//DTD HTML 3.2//E
	N">\n<HTML>\n<HEAD>\n<TITLE></TITLE>\n</HEAD>\n<BODY>\n<h3>Teal FC vs. Fatt
	a Chinguina</h3>Plus d'info : <a href="https://www.golnetwork.com/game/v/10
	9073/">R#15</a>\n\n</BODY>\n</HTML>
STATUS:CONFIRMED
CLASS:PUBLIC
URL:https://www.golnetwork.com/game/v/109073/
X-MICROSOFT-CDO-BUSYSTATUS:BUSY
X-MICROSOFT-CDO-IMPORTANCE:1
END:VEVENT
BEGIN:VEVENT
UID:gb4qb@games.golnetwork.com
LOCATION:Fernbank #2 (Magna Centre)
CREATED:20170806T105451Z
DTSTART:20170814T233000Z
DTEND:20170815T002500Z
DTSTAMP:20260423T073650Z
SUMMARY:The Red Dragons FC vs. The Cleaners
DESCRIPTION:The Cleaners vs. The Red Dragons FCPlus d'info : R#14
X-ALT-DESC;FMTTYPE=text/html:<!DOCTYPE HTML PUBLIC "-//W3C//DTD HTML 3.2//E
	N">\n<HTML>\n<HEAD>\n<TITLE></TITLE>\n</HEAD>\n<BODY>\n<h3>The Cleaners vs.
	 The Red Dragons FC</h3>Plus d'info : <a href="https://www.golnetwork.com/g
	ame/v/109072/">R#14</a>\n\n</BODY>\n</HTML>
STATUS:CONFIRMED
CLASS:PUBLIC
URL:https://www.golnetwork.com/game/v/109072/
X-MICROSOFT-CDO-BUSYSTATUS:BUSY
X-MICROSOFT-CDO-IMPORTANCE:1
END:VEVENT
END:VCALENDAR
