BEGIN:VCALENDAR
PRODID:-//gdesolutions.com//MV Framework 1.0.0.1607 Calendar//EN
VERSION:2.0
METHOD:PUBLISH
CALSCALE:GREGORIAN
BEGIN:VEVENT
UID:gajfi@games.golnetwork.com
LOCATION:Molson Stadium
GEO:45.10662;-94.578209
CREATED:20170429T182009Z
DTSTART:20170430T170000Z
DTEND:20170430T174400Z
DTSTAMP:20260424T185845Z
SUMMARY:Los Galacticos vs. Ibra Remontada
DESCRIPTION:Ibra Remontada vs. Los GalacticosPlus d'info : #6
X-ALT-DESC;FMTTYPE=text/html:<!DOCTYPE HTML PUBLIC "-//W3C//DTD HTML 3.2//E
	N">\n<HTML>\n<HEAD>\n<TITLE></TITLE>\n</HEAD>\n<BODY>\n<h3>Ibra Remontada v
	s. Los Galacticos</h3>Plus d'info : <a href="https://www.golnetwork.com/gam
	e/v/104553/">#6</a>\n\n</BODY>\n</HTML>
STATUS:CONFIRMED
CLASS:PUBLIC
URL:https://www.golnetwork.com/game/v/104553/
X-MICROSOFT-CDO-BUSYSTATUS:BUSY
X-MICROSOFT-CDO-IMPORTANCE:1
END:VEVENT
BEGIN:VEVENT
UID:gajfk@games.golnetwork.com
LOCATION:Molson Stadium
GEO:45.10662;-94.578209
CREATED:20170429T182009Z
DTSTART:20170430T180000Z
DTEND:20170430T184400Z
DTSTAMP:20260424T185845Z
SUMMARY:Put It In vs. Batman Returns
DESCRIPTION:Batman Returns vs. Put It InPlus d'info : #7
X-ALT-DESC;FMTTYPE=text/html:<!DOCTYPE HTML PUBLIC "-//W3C//DTD HTML 3.2//E
	N">\n<HTML>\n<HEAD>\n<TITLE></TITLE>\n</HEAD>\n<BODY>\n<h3>Batman Returns v
	s. Put It In</h3>Plus d'info : <a href="https://www.golnetwork.com/game/v/1
	04554/">#7</a>\n\n</BODY>\n</HTML>
STATUS:CONFIRMED
CLASS:PUBLIC
URL:https://www.golnetwork.com/game/v/104554/
X-MICROSOFT-CDO-BUSYSTATUS:BUSY
X-MICROSOFT-CDO-IMPORTANCE:1
END:VEVENT
BEGIN:VEVENT
UID:gajfm@games.golnetwork.com
LOCATION:Molson Stadium
GEO:45.10662;-94.578209
CREATED:20170429T182009Z
DTSTART:20170430T180000Z
DTEND:20170430T184400Z
DTSTAMP:20260424T185845Z
SUMMARY:WAVE FC vs. ABCDE FC (OPB)
DESCRIPTION:ABCDE FC (OPB) vs. WAVE FCPlus d'info : #8
X-ALT-DESC;FMTTYPE=text/html:<!DOCTYPE HTML PUBLIC "-//W3C//DTD HTML 3.2//E
	N">\n<HTML>\n<HEAD>\n<TITLE></TITLE>\n</HEAD>\n<BODY>\n<h3>ABCDE FC (OPB) v
	s. WAVE FC</h3>Plus d'info : <a href="https://www.golnetwork.com/game/v/104
	555/">#8</a>\n\n</BODY>\n</HTML>
STATUS:CONFIRMED
CLASS:PUBLIC
URL:https://www.golnetwork.com/game/v/104555/
X-MICROSOFT-CDO-BUSYSTATUS:BUSY
X-MICROSOFT-CDO-IMPORTANCE:1
END:VEVENT
BEGIN:VEVENT
UID:gajg1@games.golnetwork.com
LOCATION:Molson Stadium
GEO:45.10662;-94.578209
CREATED:20170429T182010Z
DTSTART:20170501T203000Z
DTEND:20170501T211400Z
DTSTAMP:20260424T185845Z
SUMMARY:Wenger Out vs. Balotellitubbies (OPB)
DESCRIPTION:Balotellitubbies (OPB) vs. Wenger OutPlus d'info : #13
X-ALT-DESC;FMTTYPE=text/html:<!DOCTYPE HTML PUBLIC "-//W3C//DTD HTML 3.2//E
	N">\n<HTML>\n<HEAD>\n<TITLE></TITLE>\n</HEAD>\n<BODY>\n<h3>Balotellitubbies
	 (OPB) vs. Wenger Out</h3>Plus d'info : <a href="https://www.golnetwork.com
	/game/v/104558/">#13</a>\n\n</BODY>\n</HTML>
STATUS:CONFIRMED
CLASS:PUBLIC
URL:https://www.golnetwork.com/game/v/104558/
X-MICROSOFT-CDO-BUSYSTATUS:BUSY
X-MICROSOFT-CDO-IMPORTANCE:1
END:VEVENT
BEGIN:VEVENT
UID:gajg3@games.golnetwork.com
LOCATION:Molson Stadium
GEO:45.10662;-94.578209
CREATED:20170429T182010Z
DTSTART:20170501T203000Z
DTEND:20170501T211400Z
DTSTAMP:20260424T185845Z
SUMMARY:N'Golo Kante vs. Los Galacticos
DESCRIPTION:Los Galacticos vs. N'Golo KantePlus d'info : #14
X-ALT-DESC;FMTTYPE=text/html:<!DOCTYPE HTML PUBLIC "-//W3C//DTD HTML 3.2//E
	N">\n<HTML>\n<HEAD>\n<TITLE></TITLE>\n</HEAD>\n<BODY>\n<h3>Los Galacticos v
	s. N'Golo Kante</h3>Plus d'info : <a href="https://www.golnetwork.com/game/
	v/104559/">#14</a>\n\n</BODY>\n</HTML>
STATUS:CONFIRMED
CLASS:PUBLIC
URL:https://www.golnetwork.com/game/v/104559/
X-MICROSOFT-CDO-BUSYSTATUS:BUSY
X-MICROSOFT-CDO-IMPORTANCE:1
END:VEVENT
BEGIN:VEVENT
UID:gajgb@games.golnetwork.com
LOCATION:Molson Stadium
GEO:45.10662;-94.578209
CREATED:20170429T182010Z
DTSTART:20170502T211500Z
DTEND:20170502T215900Z
DTSTAMP:20260424T185845Z
SUMMARY:Ibra Remontada vs. Batman Returns
DESCRIPTION:Batman Returns vs. Ibra RemontadaPlus d'info : #18
X-ALT-DESC;FMTTYPE=text/html:<!DOCTYPE HTML PUBLIC "-//W3C//DTD HTML 3.2//E
	N">\n<HTML>\n<HEAD>\n<TITLE></TITLE>\n</HEAD>\n<BODY>\n<h3>Batman Returns v
	s. Ibra Remontada</h3>Plus d'info : <a href="https://www.golnetwork.com/gam
	e/v/104563/">#18</a>\n\n</BODY>\n</HTML>
STATUS:CONFIRMED
CLASS:PUBLIC
URL:https://www.golnetwork.com/game/v/104563/
X-MICROSOFT-CDO-BUSYSTATUS:BUSY
X-MICROSOFT-CDO-IMPORTANCE:1
END:VEVENT
BEGIN:VEVENT
UID:gajgf@games.golnetwork.com
LOCATION:Molson Stadium
GEO:45.10662;-94.578209
CREATED:20170429T182010Z
DTSTART:20170503T211500Z
DTEND:20170503T215900Z
DTSTAMP:20260424T185845Z
SUMMARY:N'Golo Kante vs. Balotellitubbies (OPB)
DESCRIPTION:Balotellitubbies (OPB) vs. N'Golo KantePlus d'info : #20
X-ALT-DESC;FMTTYPE=text/html:<!DOCTYPE HTML PUBLIC "-//W3C//DTD HTML 3.2//E
	N">\n<HTML>\n<HEAD>\n<TITLE></TITLE>\n</HEAD>\n<BODY>\n<h3>Balotellitubbies
	 (OPB) vs. N'Golo Kante</h3>Plus d'info : <a href="https://www.golnetwork.c
	om/game/v/104565/">#20</a>\n\n</BODY>\n</HTML>
STATUS:CONFIRMED
CLASS:PUBLIC
URL:https://www.golnetwork.com/game/v/104565/
X-MICROSOFT-CDO-BUSYSTATUS:BUSY
X-MICROSOFT-CDO-IMPORTANCE:1
END:VEVENT
BEGIN:VEVENT
UID:gajgh@games.golnetwork.com
LOCATION:Molson Stadium
GEO:45.10662;-94.578209
CREATED:20170429T182010Z
DTSTART:20170505T201500Z
DTEND:20170505T205900Z
DTSTAMP:20260424T185845Z
SUMMARY:Los Maestros (OPB11) vs. Ibra Remontada
DESCRIPTION:Ibra Remontada vs. Los Maestros (OPB11)Plus d'info : #21
X-ALT-DESC;FMTTYPE=text/html:<!DOCTYPE HTML PUBLIC "-//W3C//DTD HTML 3.2//E
	N">\n<HTML>\n<HEAD>\n<TITLE></TITLE>\n</HEAD>\n<BODY>\n<h3>Ibra Remontada v
	s. Los Maestros (OPB11)</h3>Plus d'info : <a href="https://www.golnetwork.c
	om/game/v/104566/">#21</a>\n\n</BODY>\n</HTML>
STATUS:CONFIRMED
CLASS:PUBLIC
URL:https://www.golnetwork.com/game/v/104566/
X-MICROSOFT-CDO-BUSYSTATUS:BUSY
X-MICROSOFT-CDO-IMPORTANCE:1
END:VEVENT
BEGIN:VEVENT
UID:gajgp@games.golnetwork.com
LOCATION:Molson Stadium
GEO:45.10662;-94.578209
CREATED:20170429T182010Z
DTSTART:20170506T210000Z
DTEND:20170506T214400Z
DTSTAMP:20260424T185845Z
SUMMARY:TIBETAN_McGiLL vs. e-LEMON-ators
DESCRIPTION:e-LEMON-ators vs. TIBETAN_McGiLLPlus d'info : #25
X-ALT-DESC;FMTTYPE=text/html:<!DOCTYPE HTML PUBLIC "-//W3C//DTD HTML 3.2//E
	N">\n<HTML>\n<HEAD>\n<TITLE></TITLE>\n</HEAD>\n<BODY>\n<h3>e-LEMON-ators vs
	. TIBETAN_McGiLL</h3>Plus d'info : <a href="https://www.golnetwork.com/game
	/v/104570/">#25</a>\n\n</BODY>\n</HTML>
STATUS:CONFIRMED
CLASS:PUBLIC
URL:https://www.golnetwork.com/game/v/104570/
X-MICROSOFT-CDO-BUSYSTATUS:BUSY
X-MICROSOFT-CDO-IMPORTANCE:1
END:VEVENT
BEGIN:VEVENT
UID:gajh4@games.golnetwork.com
LOCATION:Molson Stadium
GEO:45.10662;-94.578209
CREATED:20170429T182010Z
DTSTART:20170506T220000Z
DTEND:20170506T224400Z
DTSTAMP:20260424T185845Z
SUMMARY:Los Maestros (OPB11) vs. WAVE FC
DESCRIPTION:WAVE FC vs. Los Maestros (OPB11)Plus d'info : #28
X-ALT-DESC;FMTTYPE=text/html:<!DOCTYPE HTML PUBLIC "-//W3C//DTD HTML 3.2//E
	N">\n<HTML>\n<HEAD>\n<TITLE></TITLE>\n</HEAD>\n<BODY>\n<h3>WAVE FC vs. Los 
	Maestros (OPB11)</h3>Plus d'info : <a href="https://www.golnetwork.com/game
	/v/104573/">#28</a>\n\n</BODY>\n</HTML>
STATUS:CONFIRMED
CLASS:PUBLIC
URL:https://www.golnetwork.com/game/v/104573/
X-MICROSOFT-CDO-BUSYSTATUS:BUSY
X-MICROSOFT-CDO-IMPORTANCE:1
END:VEVENT
BEGIN:VEVENT
UID:gajh2@games.golnetwork.com
LOCATION:Molson Stadium
GEO:45.10662;-94.578209
CREATED:20170429T182010Z
DTSTART:20170506T220000Z
DTEND:20170506T224400Z
DTSTAMP:20260424T185845Z
SUMMARY:Put It In vs. ABCDE FC (OPB)
DESCRIPTION:ABCDE FC (OPB) vs. Put It InPlus d'info : #27
X-ALT-DESC;FMTTYPE=text/html:<!DOCTYPE HTML PUBLIC "-//W3C//DTD HTML 3.2//E
	N">\n<HTML>\n<HEAD>\n<TITLE></TITLE>\n</HEAD>\n<BODY>\n<h3>ABCDE FC (OPB) v
	s. Put It In</h3>Plus d'info : <a href="https://www.golnetwork.com/game/v/1
	04572/">#27</a>\n\n</BODY>\n</HTML>
STATUS:CONFIRMED
CLASS:PUBLIC
URL:https://www.golnetwork.com/game/v/104572/
X-MICROSOFT-CDO-BUSYSTATUS:BUSY
X-MICROSOFT-CDO-IMPORTANCE:1
END:VEVENT
BEGIN:VEVENT
UID:gajh6@games.golnetwork.com
LOCATION:Molson Stadium
GEO:45.10662;-94.578209
CREATED:20170429T182010Z
DTSTART:20170506T230000Z
DTEND:20170506T234400Z
DTSTAMP:20260424T185845Z
SUMMARY:Los Galacticos vs. e-LEMON-ators
DESCRIPTION:e-LEMON-ators vs. Los GalacticosPlus d'info : #29
X-ALT-DESC;FMTTYPE=text/html:<!DOCTYPE HTML PUBLIC "-//W3C//DTD HTML 3.2//E
	N">\n<HTML>\n<HEAD>\n<TITLE></TITLE>\n</HEAD>\n<BODY>\n<h3>e-LEMON-ators vs
	. Los Galacticos</h3>Plus d'info : <a href="https://www.golnetwork.com/game
	/v/104574/">#29</a>\n\n</BODY>\n</HTML>
STATUS:CONFIRMED
CLASS:PUBLIC
URL:https://www.golnetwork.com/game/v/104574/
X-MICROSOFT-CDO-BUSYSTATUS:BUSY
X-MICROSOFT-CDO-IMPORTANCE:1
END:VEVENT
BEGIN:VEVENT
UID:gajh8@games.golnetwork.com
LOCATION:Molson Stadium
GEO:45.10662;-94.578209
CREATED:20170429T182010Z
DTSTART:20170506T230000Z
DTEND:20170506T234400Z
DTSTAMP:20260424T185845Z
SUMMARY:TIBETAN_McGiLL vs. Balotellitubbies (OPB)
DESCRIPTION:Balotellitubbies (OPB) vs. TIBETAN_McGiLLPlus d'info : #30
X-ALT-DESC;FMTTYPE=text/html:<!DOCTYPE HTML PUBLIC "-//W3C//DTD HTML 3.2//E
	N">\n<HTML>\n<HEAD>\n<TITLE></TITLE>\n</HEAD>\n<BODY>\n<h3>Balotellitubbies
	 (OPB) vs. TIBETAN_McGiLL</h3>Plus d'info : <a href="https://www.golnetwork
	.com/game/v/104575/">#30</a>\n\n</BODY>\n</HTML>
STATUS:CONFIRMED
CLASS:PUBLIC
URL:https://www.golnetwork.com/game/v/104575/
X-MICROSOFT-CDO-BUSYSTATUS:BUSY
X-MICROSOFT-CDO-IMPORTANCE:1
END:VEVENT
BEGIN:VEVENT
UID:gajho@games.golnetwork.com
LOCATION:Molson Stadium
GEO:45.10662;-94.578209
CREATED:20170429T182010Z
DTSTART:20170508T213000Z
DTEND:20170508T221400Z
DTSTAMP:20260424T185845Z
SUMMARY:Los Maestros (OPB11) vs. ABCDE FC (OPB)
DESCRIPTION:ABCDE FC (OPB) vs. Los Maestros (OPB11)Plus d'info : #38
X-ALT-DESC;FMTTYPE=text/html:<!DOCTYPE HTML PUBLIC "-//W3C//DTD HTML 3.2//E
	N">\n<HTML>\n<HEAD>\n<TITLE></TITLE>\n</HEAD>\n<BODY>\n<h3>ABCDE FC (OPB) v
	s. Los Maestros (OPB11)</h3>Plus d'info : <a href="https://www.golnetwork.c
	om/game/v/104583/">#38</a>\n\n</BODY>\n</HTML>
STATUS:CONFIRMED
CLASS:PUBLIC
URL:https://www.golnetwork.com/game/v/104583/
X-MICROSOFT-CDO-BUSYSTATUS:BUSY
X-MICROSOFT-CDO-IMPORTANCE:1
END:VEVENT
BEGIN:VEVENT
UID:gajhq@games.golnetwork.com
LOCATION:Molson Stadium
GEO:45.10662;-94.578209
CREATED:20170429T182010Z
DTSTART:20170509T201500Z
DTEND:20170509T205900Z
DTSTAMP:20260424T185845Z
SUMMARY:Ibra Remontada vs. Put It In
DESCRIPTION:Put It In vs. Ibra RemontadaPlus d'info : #39
X-ALT-DESC;FMTTYPE=text/html:<!DOCTYPE HTML PUBLIC "-//W3C//DTD HTML 3.2//E
	N">\n<HTML>\n<HEAD>\n<TITLE></TITLE>\n</HEAD>\n<BODY>\n<h3>Put It In vs. Ib
	ra Remontada</h3>Plus d'info : <a href="https://www.golnetwork.com/game/v/1
	04584/">#39</a>\n\n</BODY>\n</HTML>
STATUS:CONFIRMED
CLASS:PUBLIC
URL:https://www.golnetwork.com/game/v/104584/
X-MICROSOFT-CDO-BUSYSTATUS:BUSY
X-MICROSOFT-CDO-IMPORTANCE:1
END:VEVENT
BEGIN:VEVENT
UID:gaji3@games.golnetwork.com
LOCATION:Molson Stadium
GEO:45.10662;-94.578209
CREATED:20170429T182010Z
DTSTART:20170509T211500Z
DTEND:20170509T215900Z
DTSTAMP:20260424T185845Z
SUMMARY:Batman Returns vs. WAVE FC
DESCRIPTION:WAVE FC vs. Batman ReturnsPlus d'info : #41
X-ALT-DESC;FMTTYPE=text/html:<!DOCTYPE HTML PUBLIC "-//W3C//DTD HTML 3.2//E
	N">\n<HTML>\n<HEAD>\n<TITLE></TITLE>\n</HEAD>\n<BODY>\n<h3>WAVE FC vs. Batm
	an Returns</h3>Plus d'info : <a href="https://www.golnetwork.com/game/v/104
	586/">#41</a>\n\n</BODY>\n</HTML>
STATUS:CONFIRMED
CLASS:PUBLIC
URL:https://www.golnetwork.com/game/v/104586/
X-MICROSOFT-CDO-BUSYSTATUS:BUSY
X-MICROSOFT-CDO-IMPORTANCE:1
END:VEVENT
BEGIN:VEVENT
UID:gaji5@games.golnetwork.com
LOCATION:Molson Stadium
GEO:45.10662;-94.578209
CREATED:20170429T182010Z
DTSTART:20170509T211500Z
DTEND:20170509T215900Z
DTSTAMP:20260424T185845Z
SUMMARY:Los Galacticos vs. TIBETAN_McGiLL
DESCRIPTION:TIBETAN_McGiLL vs. Los GalacticosPlus d'info : #42
X-ALT-DESC;FMTTYPE=text/html:<!DOCTYPE HTML PUBLIC "-//W3C//DTD HTML 3.2//E
	N">\n<HTML>\n<HEAD>\n<TITLE></TITLE>\n</HEAD>\n<BODY>\n<h3>TIBETAN_McGiLL v
	s. Los Galacticos</h3>Plus d'info : <a href="https://www.golnetwork.com/gam
	e/v/104587/">#42</a>\n\n</BODY>\n</HTML>
STATUS:CONFIRMED
CLASS:PUBLIC
URL:https://www.golnetwork.com/game/v/104587/
X-MICROSOFT-CDO-BUSYSTATUS:BUSY
X-MICROSOFT-CDO-IMPORTANCE:1
END:VEVENT
BEGIN:VEVENT
UID:gajib@games.golnetwork.com
LOCATION:Molson Stadium
GEO:45.10662;-94.578209
CREATED:20170429T182010Z
DTSTART:20170511T201500Z
DTEND:20170511T205900Z
DTSTAMP:20260424T185845Z
SUMMARY:WAVE FC vs. Put It In
DESCRIPTION:Put It In vs. WAVE FCPlus d'info : #47
X-ALT-DESC;FMTTYPE=text/html:<!DOCTYPE HTML PUBLIC "-//W3C//DTD HTML 3.2//E
	N">\n<HTML>\n<HEAD>\n<TITLE></TITLE>\n</HEAD>\n<BODY>\n<h3>Put It In vs. WA
	VE FC</h3>Plus d'info : <a href="https://www.golnetwork.com/game/v/104590/"
	>#47</a>\n\n</BODY>\n</HTML>
STATUS:CONFIRMED
CLASS:PUBLIC
URL:https://www.golnetwork.com/game/v/104590/
X-MICROSOFT-CDO-BUSYSTATUS:BUSY
X-MICROSOFT-CDO-IMPORTANCE:1
END:VEVENT
BEGIN:VEVENT
UID:gajid@games.golnetwork.com
LOCATION:Molson Stadium
GEO:45.10662;-94.578209
CREATED:20170429T182010Z
DTSTART:20170511T201500Z
DTEND:20170511T205900Z
DTSTAMP:20260424T185845Z
SUMMARY:Ibra Remontada vs. ABCDE FC (OPB)
DESCRIPTION:ABCDE FC (OPB) vs. Ibra RemontadaPlus d'info : #48
X-ALT-DESC;FMTTYPE=text/html:<!DOCTYPE HTML PUBLIC "-//W3C//DTD HTML 3.2//E
	N">\n<HTML>\n<HEAD>\n<TITLE></TITLE>\n</HEAD>\n<BODY>\n<h3>ABCDE FC (OPB) v
	s. Ibra Remontada</h3>Plus d'info : <a href="https://www.golnetwork.com/gam
	e/v/104591/">#48</a>\n\n</BODY>\n</HTML>
STATUS:CONFIRMED
CLASS:PUBLIC
URL:https://www.golnetwork.com/game/v/104591/
X-MICROSOFT-CDO-BUSYSTATUS:BUSY
X-MICROSOFT-CDO-IMPORTANCE:1
END:VEVENT
BEGIN:VEVENT
UID:gajih@games.golnetwork.com
LOCATION:Molson Stadium
GEO:45.10662;-94.578209
CREATED:20170429T182010Z
DTSTART:20170511T211500Z
DTEND:20170511T215900Z
DTSTAMP:20260424T185845Z
SUMMARY:Los Galacticos vs. Balotellitubbies (OPB)
DESCRIPTION:Balotellitubbies (OPB) vs. Los GalacticosPlus d'info : #50
X-ALT-DESC;FMTTYPE=text/html:<!DOCTYPE HTML PUBLIC "-//W3C//DTD HTML 3.2//E
	N">\n<HTML>\n<HEAD>\n<TITLE></TITLE>\n</HEAD>\n<BODY>\n<h3>Balotellitubbies
	 (OPB) vs. Los Galacticos</h3>Plus d'info : <a href="https://www.golnetwork
	.com/game/v/104593/">#50</a>\n\n</BODY>\n</HTML>
STATUS:CONFIRMED
CLASS:PUBLIC
URL:https://www.golnetwork.com/game/v/104593/
X-MICROSOFT-CDO-BUSYSTATUS:BUSY
X-MICROSOFT-CDO-IMPORTANCE:1
END:VEVENT
BEGIN:VEVENT
UID:gajil@games.golnetwork.com
LOCATION:Molson Stadium
GEO:45.10662;-94.578209
CREATED:20170429T182010Z
DTSTART:20170512T201500Z
DTEND:20170512T205900Z
DTSTAMP:20260424T185845Z
SUMMARY:Wenger Out vs. TIBETAN_McGiLL
DESCRIPTION:TIBETAN_McGiLL vs. Wenger OutPlus d'info : #52
X-ALT-DESC;FMTTYPE=text/html:<!DOCTYPE HTML PUBLIC "-//W3C//DTD HTML 3.2//E
	N">\n<HTML>\n<HEAD>\n<TITLE></TITLE>\n</HEAD>\n<BODY>\n<h3>TIBETAN_McGiLL v
	s. Wenger Out</h3>Plus d'info : <a href="https://www.golnetwork.com/game/v/
	104595/">#52</a>\n\n</BODY>\n</HTML>
STATUS:CONFIRMED
CLASS:PUBLIC
URL:https://www.golnetwork.com/game/v/104595/
X-MICROSOFT-CDO-BUSYSTATUS:BUSY
X-MICROSOFT-CDO-IMPORTANCE:1
END:VEVENT
BEGIN:VEVENT
UID:gajj2@games.golnetwork.com
LOCATION:Molson Stadium
GEO:45.10662;-94.578209
CREATED:20170429T182010Z
DTSTART:20170513T150000Z
DTEND:20170513T154400Z
DTSTAMP:20260424T185845Z
SUMMARY:e-LEMON-ators vs. Wenger Out
DESCRIPTION:Wenger Out vs. e-LEMON-atorsPlus d'info : #56
X-ALT-DESC;FMTTYPE=text/html:<!DOCTYPE HTML PUBLIC "-//W3C//DTD HTML 3.2//E
	N">\n<HTML>\n<HEAD>\n<TITLE></TITLE>\n</HEAD>\n<BODY>\n<h3>Wenger Out vs. e
	-LEMON-ators</h3>Plus d'info : <a href="https://www.golnetwork.com/game/v/1
	04599/">#56</a>\n\n</BODY>\n</HTML>
STATUS:CONFIRMED
CLASS:PUBLIC
URL:https://www.golnetwork.com/game/v/104599/
X-MICROSOFT-CDO-BUSYSTATUS:BUSY
X-MICROSOFT-CDO-IMPORTANCE:1
END:VEVENT
BEGIN:VEVENT
UID:gajjc@games.golnetwork.com
LOCATION:Molson Stadium
GEO:45.10662;-94.578209
CREATED:20170429T182010Z
DTSTART:20170513T180000Z
DTEND:20170513T184400Z
DTSTAMP:20260424T185845Z
SUMMARY:Batman Returns vs. Los Maestros (OPB11)
DESCRIPTION:Los Maestros (OPB11) vs. Batman ReturnsPlus d'info : #61
X-ALT-DESC;FMTTYPE=text/html:<!DOCTYPE HTML PUBLIC "-//W3C//DTD HTML 3.2//E
	N">\n<HTML>\n<HEAD>\n<TITLE></TITLE>\n</HEAD>\n<BODY>\n<h3>Los Maestros (OP
	B11) vs. Batman Returns</h3>Plus d'info : <a href="https://www.golnetwork.c
	om/game/v/104604/">#61</a>\n\n</BODY>\n</HTML>
STATUS:CONFIRMED
CLASS:PUBLIC
URL:https://www.golnetwork.com/game/v/104604/
X-MICROSOFT-CDO-BUSYSTATUS:BUSY
X-MICROSOFT-CDO-IMPORTANCE:1
END:VEVENT
BEGIN:VEVENT
UID:gajjm@games.golnetwork.com
LOCATION:Molson Stadium
GEO:45.10662;-94.578209
CREATED:20170429T182011Z
DTSTART:20170513T200000Z
DTEND:20170513T204400Z
DTSTAMP:20260424T185845Z
SUMMARY:WAVE FC vs. Ibra Remontada
DESCRIPTION:Ibra Remontada vs. WAVE FCPlus d'info : #66
X-ALT-DESC;FMTTYPE=text/html:<!DOCTYPE HTML PUBLIC "-//W3C//DTD HTML 3.2//E
	N">\n<HTML>\n<HEAD>\n<TITLE></TITLE>\n</HEAD>\n<BODY>\n<h3>Ibra Remontada v
	s. WAVE FC</h3>Plus d'info : <a href="https://www.golnetwork.com/game/v/104
	609/">#66</a>\n\n</BODY>\n</HTML>
STATUS:CONFIRMED
CLASS:PUBLIC
URL:https://www.golnetwork.com/game/v/104609/
X-MICROSOFT-CDO-BUSYSTATUS:BUSY
X-MICROSOFT-CDO-IMPORTANCE:1
END:VEVENT
BEGIN:VEVENT
UID:gajjo@games.golnetwork.com
LOCATION:Molson Stadium
GEO:45.10662;-94.578209
CREATED:20170429T182011Z
DTSTART:20170513T210000Z
DTEND:20170513T214400Z
DTSTAMP:20260424T185845Z
SUMMARY:TIBETAN_McGiLL vs. N'Golo Kante
DESCRIPTION:N'Golo Kante vs. TIBETAN_McGiLLPlus d'info : #67
X-ALT-DESC;FMTTYPE=text/html:<!DOCTYPE HTML PUBLIC "-//W3C//DTD HTML 3.2//E
	N">\n<HTML>\n<HEAD>\n<TITLE></TITLE>\n</HEAD>\n<BODY>\n<h3>N'Golo Kante vs.
	 TIBETAN_McGiLL</h3>Plus d'info : <a href="https://www.golnetwork.com/game/
	v/104610/">#67</a>\n\n</BODY>\n</HTML>
STATUS:CONFIRMED
CLASS:PUBLIC
URL:https://www.golnetwork.com/game/v/104610/
X-MICROSOFT-CDO-BUSYSTATUS:BUSY
X-MICROSOFT-CDO-IMPORTANCE:1
END:VEVENT
BEGIN:VEVENT
UID:gajjq@games.golnetwork.com
LOCATION:Molson Stadium
GEO:45.10662;-94.578209
CREATED:20170429T182011Z
DTSTART:20170513T210000Z
DTEND:20170513T214400Z
DTSTAMP:20260424T185845Z
SUMMARY:Balotellitubbies (OPB) vs. ABCDE FC (OPB)
DESCRIPTION:ABCDE FC (OPB) vs. Balotellitubbies (OPB)Plus d'info : #68
X-ALT-DESC;FMTTYPE=text/html:<!DOCTYPE HTML PUBLIC "-//W3C//DTD HTML 3.2//E
	N">\n<HTML>\n<HEAD>\n<TITLE></TITLE>\n</HEAD>\n<BODY>\n<h3>ABCDE FC (OPB) v
	s. Balotellitubbies (OPB)</h3>Plus d'info : <a href="https://www.golnetwork
	.com/game/v/104611/">#68</a>\n\n</BODY>\n</HTML>
STATUS:CONFIRMED
CLASS:PUBLIC
URL:https://www.golnetwork.com/game/v/104611/
X-MICROSOFT-CDO-BUSYSTATUS:BUSY
X-MICROSOFT-CDO-IMPORTANCE:1
END:VEVENT
BEGIN:VEVENT
UID:gajk5@games.golnetwork.com
LOCATION:Molson Stadium
GEO:45.10662;-94.578209
CREATED:20170429T182011Z
DTSTART:20170514T160000Z
DTEND:20170514T164400Z
DTSTAMP:20260424T185845Z
SUMMARY:e-LEMON-ators vs. N'Golo Kante
DESCRIPTION:N'Golo Kante vs. e-LEMON-atorsPlus d'info : #73
X-ALT-DESC;FMTTYPE=text/html:<!DOCTYPE HTML PUBLIC "-//W3C//DTD HTML 3.2//E
	N">\n<HTML>\n<HEAD>\n<TITLE></TITLE>\n</HEAD>\n<BODY>\n<h3>N'Golo Kante vs.
	 e-LEMON-ators</h3>Plus d'info : <a href="https://www.golnetwork.com/game/v
	/104614/">#73</a>\n\n</BODY>\n</HTML>
STATUS:CONFIRMED
CLASS:PUBLIC
URL:https://www.golnetwork.com/game/v/104614/
X-MICROSOFT-CDO-BUSYSTATUS:BUSY
X-MICROSOFT-CDO-IMPORTANCE:1
END:VEVENT
BEGIN:VEVENT
UID:gajkn@games.golnetwork.com
LOCATION:Molson Stadium
GEO:45.10662;-94.578209
CREATED:20170429T182011Z
DTSTART:20170514T200000Z
DTEND:20170514T204400Z
DTSTAMP:20260424T185845Z
SUMMARY:Wenger Out vs. WAVE FC
DESCRIPTION:WAVE FC vs. Wenger OutPlus d'info : #82
X-ALT-DESC;FMTTYPE=text/html:<!DOCTYPE HTML PUBLIC "-//W3C//DTD HTML 3.2//E
	N">\n<HTML>\n<HEAD>\n<TITLE></TITLE>\n</HEAD>\n<BODY>\n<h3>WAVE FC vs. Weng
	er Out</h3>Plus d'info : <a href="https://www.golnetwork.com/game/v/104623/
	">#82</a>\n\n</BODY>\n</HTML>
STATUS:CONFIRMED
CLASS:PUBLIC
URL:https://www.golnetwork.com/game/v/104623/
X-MICROSOFT-CDO-BUSYSTATUS:BUSY
X-MICROSOFT-CDO-IMPORTANCE:1
END:VEVENT
BEGIN:VEVENT
UID:gajkl@games.golnetwork.com
LOCATION:Molson Stadium
GEO:45.10662;-94.578209
CREATED:20170429T182011Z
DTSTART:20170514T200000Z
DTEND:20170514T204400Z
DTSTAMP:20260424T185845Z
SUMMARY:TIBETAN_McGiLL vs. Put It In
DESCRIPTION:Put It In vs. TIBETAN_McGiLLPlus d'info : #81
X-ALT-DESC;FMTTYPE=text/html:<!DOCTYPE HTML PUBLIC "-//W3C//DTD HTML 3.2//E
	N">\n<HTML>\n<HEAD>\n<TITLE></TITLE>\n</HEAD>\n<BODY>\n<h3>Put It In vs. TI
	BETAN_McGiLL</h3>Plus d'info : <a href="https://www.golnetwork.com/game/v/1
	04622/">#81</a>\n\n</BODY>\n</HTML>
STATUS:CONFIRMED
CLASS:PUBLIC
URL:https://www.golnetwork.com/game/v/104622/
X-MICROSOFT-CDO-BUSYSTATUS:BUSY
X-MICROSOFT-CDO-IMPORTANCE:1
END:VEVENT
BEGIN:VEVENT
UID:gajl0@games.golnetwork.com
LOCATION:Molson Stadium
GEO:45.10662;-94.578209
CREATED:20170429T182011Z
DTSTART:20170514T210000Z
DTEND:20170514T214400Z
DTSTAMP:20260424T185845Z
SUMMARY:e-LEMON-ators vs. Batman Returns
DESCRIPTION:Batman Returns vs. e-LEMON-atorsPlus d'info : #84
X-ALT-DESC;FMTTYPE=text/html:<!DOCTYPE HTML PUBLIC "-//W3C//DTD HTML 3.2//E
	N">\n<HTML>\n<HEAD>\n<TITLE></TITLE>\n</HEAD>\n<BODY>\n<h3>Batman Returns v
	s. e-LEMON-ators</h3>Plus d'info : <a href="https://www.golnetwork.com/game
	/v/104625/">#84</a>\n\n</BODY>\n</HTML>
STATUS:CONFIRMED
CLASS:PUBLIC
URL:https://www.golnetwork.com/game/v/104625/
X-MICROSOFT-CDO-BUSYSTATUS:BUSY
X-MICROSOFT-CDO-IMPORTANCE:1
END:VEVENT
BEGIN:VEVENT
UID:gajl4@games.golnetwork.com
LOCATION:Molson Stadium
GEO:45.10662;-94.578209
CREATED:20170429T182011Z
DTSTART:20170515T203000Z
DTEND:20170515T211400Z
DTSTAMP:20260424T185845Z
SUMMARY:Put It In vs. Los Maestros (OPB11)
DESCRIPTION:Los Maestros (OPB11) vs. Put It InPlus d'info : #86
X-ALT-DESC;FMTTYPE=text/html:<!DOCTYPE HTML PUBLIC "-//W3C//DTD HTML 3.2//E
	N">\n<HTML>\n<HEAD>\n<TITLE></TITLE>\n</HEAD>\n<BODY>\n<h3>Los Maestros (OP
	B11) vs. Put It In</h3>Plus d'info : <a href="https://www.golnetwork.com/ga
	me/v/104627/">#86</a>\n\n</BODY>\n</HTML>
STATUS:CONFIRMED
CLASS:PUBLIC
URL:https://www.golnetwork.com/game/v/104627/
X-MICROSOFT-CDO-BUSYSTATUS:BUSY
X-MICROSOFT-CDO-IMPORTANCE:1
END:VEVENT
BEGIN:VEVENT
UID:gajl6@games.golnetwork.com
LOCATION:Molson Stadium
GEO:45.10662;-94.578209
CREATED:20170429T182011Z
DTSTART:20170515T213000Z
DTEND:20170515T221400Z
DTSTAMP:20260424T185845Z
SUMMARY:Batman Returns vs. ABCDE FC (OPB)
DESCRIPTION:ABCDE FC (OPB) vs. Batman ReturnsPlus d'info : #87
X-ALT-DESC;FMTTYPE=text/html:<!DOCTYPE HTML PUBLIC "-//W3C//DTD HTML 3.2//E
	N">\n<HTML>\n<HEAD>\n<TITLE></TITLE>\n</HEAD>\n<BODY>\n<h3>ABCDE FC (OPB) v
	s. Batman Returns</h3>Plus d'info : <a href="https://www.golnetwork.com/gam
	e/v/104628/">#87</a>\n\n</BODY>\n</HTML>
STATUS:CONFIRMED
CLASS:PUBLIC
URL:https://www.golnetwork.com/game/v/104628/
X-MICROSOFT-CDO-BUSYSTATUS:BUSY
X-MICROSOFT-CDO-IMPORTANCE:1
END:VEVENT
BEGIN:VEVENT
UID:gajl8@games.golnetwork.com
LOCATION:Molson Stadium
GEO:45.10662;-94.578209
CREATED:20170429T182011Z
DTSTART:20170515T213000Z
DTEND:20170515T221400Z
DTSTAMP:20260424T185845Z
SUMMARY:Wenger Out vs. Los Galacticos
DESCRIPTION:Los Galacticos vs. Wenger OutPlus d'info : #88
X-ALT-DESC;FMTTYPE=text/html:<!DOCTYPE HTML PUBLIC "-//W3C//DTD HTML 3.2//E
	N">\n<HTML>\n<HEAD>\n<TITLE></TITLE>\n</HEAD>\n<BODY>\n<h3>Los Galacticos v
	s. Wenger Out</h3>Plus d'info : <a href="https://www.golnetwork.com/game/v/
	104629/">#88</a>\n\n</BODY>\n</HTML>
STATUS:CONFIRMED
CLASS:PUBLIC
URL:https://www.golnetwork.com/game/v/104629/
X-MICROSOFT-CDO-BUSYSTATUS:BUSY
X-MICROSOFT-CDO-IMPORTANCE:1
END:VEVENT
BEGIN:VEVENT
UID:gajlc@games.golnetwork.com
LOCATION:Molson Stadium
GEO:45.10662;-94.578209
CREATED:20170429T182011Z
DTSTART:20170520T220000Z
DTEND:20170520T224400Z
DTSTAMP:20260424T185845Z
SUMMARY:e-LEMON-ators vs. Balotellitubbies (OPB)
DESCRIPTION:Balotellitubbies (OPB) vs. e-LEMON-atorsPlus d'info : #90
X-ALT-DESC;FMTTYPE=text/html:<!DOCTYPE HTML PUBLIC "-//W3C//DTD HTML 3.2//E
	N">\n<HTML>\n<HEAD>\n<TITLE></TITLE>\n</HEAD>\n<BODY>\n<h3>Balotellitubbies
	 (OPB) vs. e-LEMON-ators</h3>Plus d'info : <a href="https://www.golnetwork.
	com/game/v/104631/">#90</a>\n\n</BODY>\n</HTML>
STATUS:CONFIRMED
CLASS:PUBLIC
URL:https://www.golnetwork.com/game/v/104631/
X-MICROSOFT-CDO-BUSYSTATUS:BUSY
X-MICROSOFT-CDO-IMPORTANCE:1
END:VEVENT
BEGIN:VEVENT
UID:gajlo@games.golnetwork.com
LOCATION:Molson Stadium
GEO:45.10662;-94.578209
CREATED:20170429T182011Z
DTSTART:20170521T010000Z
DTEND:20170521T014400Z
DTSTAMP:20260424T185845Z
SUMMARY:N'Golo Kante vs. Los Maestros (OPB11)
DESCRIPTION:Los Maestros (OPB11) vs. N'Golo KantePlus d'info : #96
X-ALT-DESC;FMTTYPE=text/html:<!DOCTYPE HTML PUBLIC "-//W3C//DTD HTML 3.2//E
	N">\n<HTML>\n<HEAD>\n<TITLE></TITLE>\n</HEAD>\n<BODY>\n<h3>Los Maestros (OP
	B11) vs. N'Golo Kante</h3>Plus d'info : <a href="https://www.golnetwork.com
	/game/v/104637/">#96</a>\n\n</BODY>\n</HTML>
STATUS:CONFIRMED
CLASS:PUBLIC
URL:https://www.golnetwork.com/game/v/104637/
X-MICROSOFT-CDO-BUSYSTATUS:BUSY
X-MICROSOFT-CDO-IMPORTANCE:1
END:VEVENT
BEGIN:VEVENT
UID:gajha@games.golnetwork.com
LOCATION:Molson Stadium
GEO:45.10662;-94.578209
CREATED:20170429T182010Z
DTSTART:20170523T201500Z
DTEND:20170523T205900Z
DTSTAMP:20260424T185845Z
SUMMARY:N'Golo Kante vs. Wenger Out
DESCRIPTION:Wenger Out vs. N'Golo KantePlus d'info : #31
X-ALT-DESC;FMTTYPE=text/html:<!DOCTYPE HTML PUBLIC "-//W3C//DTD HTML 3.2//E
	N">\n<HTML>\n<HEAD>\n<TITLE></TITLE>\n</HEAD>\n<BODY>\n<h3>Wenger Out vs. N
	'Golo Kante</h3>Plus d'info : <a href="https://www.golnetwork.com/game/v/10
	4576/">#31</a>\n\n</BODY>\n</HTML>
STATUS:CONFIRMED
CLASS:PUBLIC
URL:https://www.golnetwork.com/game/v/104576/
X-MICROSOFT-CDO-BUSYSTATUS:BUSY
X-MICROSOFT-CDO-IMPORTANCE:1
END:VEVENT
END:VCALENDAR
