BEGIN:VCALENDAR
PRODID:-//gdesolutions.com//MV Framework 1.0.0.1607 Calendar//EN
VERSION:2.0
METHOD:PUBLISH
CALSCALE:GREGORIAN
BEGIN:VEVENT
UID:gb57p@games.golnetwork.com
LOCATION:Matt Anthony Field #1
GEO:45.4196785;-75.6767132
CREATED:20170809T193728Z
DTSTART:20170813T193000Z
DTEND:20170813T210000Z
DTSTAMP:20260426T043940Z
SUMMARY:Squad Goalz vs. LifeDNA
DESCRIPTION:LifeDNA vs. Squad GoalzPlus d'info : #106
X-ALT-DESC;FMTTYPE=text/html:<!DOCTYPE HTML PUBLIC "-//W3C//DTD HTML 3.2//E
	N">\n<HTML>\n<HEAD>\n<TITLE></TITLE>\n</HEAD>\n<BODY>\n<h3>LifeDNA vs. Squa
	d Goalz</h3>Plus d'info : <a href="https://www.golnetwork.com/game/v/109187
	/">#106</a>\n\n</BODY>\n</HTML>
STATUS:CONFIRMED
CLASS:PUBLIC
URL:https://www.golnetwork.com/game/v/109187/
X-MICROSOFT-CDO-BUSYSTATUS:BUSY
X-MICROSOFT-CDO-IMPORTANCE:1
END:VEVENT
BEGIN:VEVENT
UID:gb580@games.golnetwork.com
LOCATION:Centrepoint Park Central East 1
GEO:45.341513;-75.7700039
CREATED:20170809T193754Z
DTSTART:20170813T203000Z
DTEND:20170813T220000Z
DTSTAMP:20260426T043940Z
SUMMARY:Pregame Pancakes FC vs. Ninjas United
DESCRIPTION:Ninjas United vs. Pregame Pancakes FCPlus d'info : #108
X-ALT-DESC;FMTTYPE=text/html:<!DOCTYPE HTML PUBLIC "-//W3C//DTD HTML 3.2//E
	N">\n<HTML>\n<HEAD>\n<TITLE></TITLE>\n</HEAD>\n<BODY>\n<h3>Ninjas United vs
	. Pregame Pancakes FC</h3>Plus d'info : <a href="https://www.golnetwork.com
	/game/v/109188/">#108</a>\n\n</BODY>\n</HTML>
STATUS:CONFIRMED
CLASS:PUBLIC
URL:https://www.golnetwork.com/game/v/109188/
X-MICROSOFT-CDO-BUSYSTATUS:BUSY
X-MICROSOFT-CDO-IMPORTANCE:1
END:VEVENT
BEGIN:VEVENT
UID:gb582@games.golnetwork.com
LOCATION:Centrepoint Park Central east 2
GEO:45.341513;-75.7700039
CREATED:20170809T193816Z
DTSTART:20170813T221500Z
DTEND:20170813T234500Z
DTSTAMP:20260426T043940Z
SUMMARY:Compadres FC vs. Mambas FC
DESCRIPTION:Mambas FC vs. Compadres FCPlus d'info : #113
X-ALT-DESC;FMTTYPE=text/html:<!DOCTYPE HTML PUBLIC "-//W3C//DTD HTML 3.2//E
	N">\n<HTML>\n<HEAD>\n<TITLE></TITLE>\n</HEAD>\n<BODY>\n<h3>Mambas FC vs. Co
	mpadres FC</h3>Plus d'info : <a href="https://www.golnetwork.com/game/v/109
	189/">#113</a>\n\n</BODY>\n</HTML>
STATUS:CONFIRMED
CLASS:PUBLIC
URL:https://www.golnetwork.com/game/v/109189/
X-MICROSOFT-CDO-BUSYSTATUS:BUSY
X-MICROSOFT-CDO-IMPORTANCE:1
END:VEVENT
BEGIN:VEVENT
UID:gb6gd@games.golnetwork.com
LOCATION:Centrepoint Park Central East 1
GEO:45.341513;-75.7700039
CREATED:20170817T034454Z
DTSTART:20170820T190000Z
DTEND:20170820T203000Z
DTSTAMP:20260426T043940Z
SUMMARY:Indy 500 Goalscorers vs. Ninjas United
DESCRIPTION:Ninjas United vs. Indy 500 GoalscorersPlus d'info : #115
X-ALT-DESC;FMTTYPE=text/html:<!DOCTYPE HTML PUBLIC "-//W3C//DTD HTML 3.2//E
	N">\n<HTML>\n<HEAD>\n<TITLE></TITLE>\n</HEAD>\n<BODY>\n<h3>Ninjas United vs
	. Indy 500 Goalscorers</h3>Plus d'info : <a href="https://www.golnetwork.co
	m/game/v/109667/">#115</a>\n\n</BODY>\n</HTML>
STATUS:CONFIRMED
CLASS:PUBLIC
URL:https://www.golnetwork.com/game/v/109667/
X-MICROSOFT-CDO-BUSYSTATUS:BUSY
X-MICROSOFT-CDO-IMPORTANCE:1
END:VEVENT
BEGIN:VEVENT
UID:gb6gn@games.golnetwork.com
LOCATION:Centrepointe Park East
GEO:45.341513;-75.7700039
CREATED:20170817T034710Z
DTSTART:20170820T203000Z
DTEND:20170820T220000Z
DTSTAMP:20260426T043940Z
SUMMARY:Mambas FC vs. Squad Goalz
DESCRIPTION:Squad Goalz vs. Mambas FCPlus d'info : #118
X-ALT-DESC;FMTTYPE=text/html:<!DOCTYPE HTML PUBLIC "-//W3C//DTD HTML 3.2//E
	N">\n<HTML>\n<HEAD>\n<TITLE></TITLE>\n</HEAD>\n<BODY>\n<h3>Squad Goalz vs. 
	Mambas FC</h3>Plus d'info : <a href="https://www.golnetwork.com/game/v/1096
	72/">#118</a>\n\n</BODY>\n</HTML>
STATUS:CONFIRMED
CLASS:PUBLIC
URL:https://www.golnetwork.com/game/v/109672/
X-MICROSOFT-CDO-BUSYSTATUS:BUSY
X-MICROSOFT-CDO-IMPORTANCE:1
END:VEVENT
BEGIN:VEVENT
UID:gb6gb@games.golnetwork.com
LOCATION:Centrepoint Park Central East 1
GEO:45.341513;-75.7700039
CREATED:20170817T034418Z
DTSTART:20170820T221500Z
DTEND:20170820T234500Z
DTSTAMP:20260426T043940Z
SUMMARY:Compadres FC vs. LifeDNA
DESCRIPTION:LifeDNA vs. Compadres FCPlus d'info : #121
X-ALT-DESC;FMTTYPE=text/html:<!DOCTYPE HTML PUBLIC "-//W3C//DTD HTML 3.2//E
	N">\n<HTML>\n<HEAD>\n<TITLE></TITLE>\n</HEAD>\n<BODY>\n<h3>LifeDNA vs. Comp
	adres FC</h3>Plus d'info : <a href="https://www.golnetwork.com/game/v/10966
	6/">#121</a>\n\n</BODY>\n</HTML>
STATUS:CONFIRMED
CLASS:PUBLIC
URL:https://www.golnetwork.com/game/v/109666/
X-MICROSOFT-CDO-BUSYSTATUS:BUSY
X-MICROSOFT-CDO-IMPORTANCE:1
END:VEVENT
BEGIN:VEVENT
UID:gb6o7@games.golnetwork.com
LOCATION:Centrepoint Park Central East 1
GEO:45.341513;-75.7700039
CREATED:20170824T061811Z
DTSTART:20170827T221500Z
DTEND:20170827T234500Z
DTSTAMP:20260426T043940Z
SUMMARY:LifeDNA vs. Ninjas United
DESCRIPTION:Ninjas United vs. LifeDNAPlus d'info : #127
X-ALT-DESC;FMTTYPE=text/html:<!DOCTYPE HTML PUBLIC "-//W3C//DTD HTML 3.2//E
	N">\n<HTML>\n<HEAD>\n<TITLE></TITLE>\n</HEAD>\n<BODY>\n<h3>Ninjas United vs
	. LifeDNA</h3>Plus d'info : <a href="https://www.golnetwork.com/game/v/1097
	72/">#127</a>\n\n</BODY>\n</HTML>
STATUS:CONFIRMED
CLASS:PUBLIC
URL:https://www.golnetwork.com/game/v/109772/
X-MICROSOFT-CDO-BUSYSTATUS:BUSY
X-MICROSOFT-CDO-IMPORTANCE:1
END:VEVENT
END:VCALENDAR
