BEGIN:VCALENDAR
PRODID:-//gdesolutions.com//MV Framework 1.0.0.1607 Calendar//EN
VERSION:2.0
METHOD:PUBLISH
CALSCALE:GREGORIAN
BEGIN:VEVENT
UID:gaqic@games.golnetwork.com
LOCATION:Molson Stadium
GEO:45.10662;-94.578209
CREATED:20170526T010704Z
DTSTART:20170528T183000Z
DTEND:20170528T191400Z
DTSTAMP:20260422T034850Z
SUMMARY:WAVE FC vs. e-LEMON-ators
DESCRIPTION:e-LEMON-ators vs. WAVE FCPlus d'info : R#113
X-ALT-DESC;FMTTYPE=text/html:<!DOCTYPE HTML PUBLIC "-//W3C//DTD HTML 3.2//E
	N">\n<HTML>\n<HEAD>\n<TITLE></TITLE>\n</HEAD>\n<BODY>\n<h3>e-LEMON-ators vs
	. WAVE FC</h3>Plus d'info : <a href="https://www.golnetwork.com/game/v/1071
	42/">R#113</a>\n\n</BODY>\n</HTML>
STATUS:CONFIRMED
CLASS:PUBLIC
URL:https://www.golnetwork.com/game/v/107142/
X-MICROSOFT-CDO-BUSYSTATUS:BUSY
X-MICROSOFT-CDO-IMPORTANCE:1
END:VEVENT
BEGIN:VEVENT
UID:gapod@games.golnetwork.com
LOCATION:Molson Stadium
GEO:45.10662;-94.578209
CREATED:20170522T162156Z
DTSTART:20170528T193000Z
DTEND:20170528T201400Z
DTSTAMP:20260422T034850Z
SUMMARY:N'Golo Kante vs. Ibra Remontada
DESCRIPTION:Ibra Remontada vs. N'Golo KantePlus d'info : #104
X-ALT-DESC;FMTTYPE=text/html:<!DOCTYPE HTML PUBLIC "-//W3C//DTD HTML 3.2//E
	N">\n<HTML>\n<HEAD>\n<TITLE></TITLE>\n</HEAD>\n<BODY>\n<h3>Ibra Remontada v
	s. N'Golo Kante</h3>Plus d'info : <a href="https://www.golnetwork.com/game/
	v/106859/">#104</a>\n\n</BODY>\n</HTML>
STATUS:CONFIRMED
CLASS:PUBLIC
URL:https://www.golnetwork.com/game/v/106859/
X-MICROSOFT-CDO-BUSYSTATUS:BUSY
X-MICROSOFT-CDO-IMPORTANCE:1
END:VEVENT
BEGIN:VEVENT
UID:gapob@games.golnetwork.com
LOCATION:Molson Stadium
GEO:45.10662;-94.578209
CREATED:20170522T162156Z
DTSTART:20170528T193000Z
DTEND:20170528T201400Z
DTSTAMP:20260422T034850Z
SUMMARY:Balotellitubbies (OPB) vs. Batman Returns
DESCRIPTION:Batman Returns vs. Balotellitubbies (OPB)Plus d'info : #105
X-ALT-DESC;FMTTYPE=text/html:<!DOCTYPE HTML PUBLIC "-//W3C//DTD HTML 3.2//E
	N">\n<HTML>\n<HEAD>\n<TITLE></TITLE>\n</HEAD>\n<BODY>\n<h3>Batman Returns v
	s. Balotellitubbies (OPB)</h3>Plus d'info : <a href="https://www.golnetwork
	.com/game/v/106858/">#105</a>\n\n</BODY>\n</HTML>
STATUS:CONFIRMED
CLASS:PUBLIC
URL:https://www.golnetwork.com/game/v/106858/
X-MICROSOFT-CDO-BUSYSTATUS:BUSY
X-MICROSOFT-CDO-IMPORTANCE:1
END:VEVENT
BEGIN:VEVENT
UID:gapo7@games.golnetwork.com
LOCATION:Molson Stadium
GEO:45.10662;-94.578209
CREATED:20170522T162156Z
DTSTART:20170529T211500Z
DTEND:20170529T215900Z
DTSTAMP:20260422T034850Z
SUMMARY:ABCDE FC (OPB) vs. Los Maestros (OPB11)
DESCRIPTION:Los Maestros (OPB11) vs. ABCDE FC (OPB)Plus d'info : #111
X-ALT-DESC;FMTTYPE=text/html:<!DOCTYPE HTML PUBLIC "-//W3C//DTD HTML 3.2//E
	N">\n<HTML>\n<HEAD>\n<TITLE></TITLE>\n</HEAD>\n<BODY>\n<h3>Los Maestros (OP
	B11) vs. ABCDE FC (OPB)</h3>Plus d'info : <a href="https://www.golnetwork.c
	om/game/v/106856/">#111</a>\n\n</BODY>\n</HTML>
STATUS:CONFIRMED
CLASS:PUBLIC
URL:https://www.golnetwork.com/game/v/106856/
X-MICROSOFT-CDO-BUSYSTATUS:BUSY
X-MICROSOFT-CDO-IMPORTANCE:1
END:VEVENT
BEGIN:VEVENT
UID:gapo9@games.golnetwork.com
LOCATION:Molson Stadium
GEO:45.10662;-94.578209
CREATED:20170522T162156Z
DTSTART:20170531T211500Z
DTEND:20170531T215900Z
DTSTAMP:20260422T034850Z
SUMMARY:WAVE FC vs. e-LEMON-ators
DESCRIPTION:e-LEMON-ators vs. WAVE FCPlus d'info : #114
X-ALT-DESC;FMTTYPE=text/html:<!DOCTYPE HTML PUBLIC "-//W3C//DTD HTML 3.2//E
	N">\n<HTML>\n<HEAD>\n<TITLE></TITLE>\n</HEAD>\n<BODY>\n<h3>e-LEMON-ators vs
	. WAVE FC</h3>Plus d'info : <a href="https://www.golnetwork.com/game/v/1068
	57/">#114</a>\n\n</BODY>\n</HTML>
STATUS:RESCHEDULED
CLASS:PUBLIC
URL:https://www.golnetwork.com/game/v/106857/
X-MICROSOFT-CDO-BUSYSTATUS:BUSY
X-MICROSOFT-CDO-IMPORTANCE:1
END:VEVENT
BEGIN:VEVENT
UID:gapoh@games.golnetwork.com
LOCATION:Molson Stadium
GEO:45.10662;-94.578209
CREATED:20170522T162156Z
DTSTART:20170531T211500Z
DTEND:20170531T215900Z
DTSTAMP:20260422T034850Z
SUMMARY:e-LEMON-ators vs. Batman Returns
DESCRIPTION:Batman Returns vs. e-LEMON-atorsPlus d'info : #113
X-ALT-DESC;FMTTYPE=text/html:<!DOCTYPE HTML PUBLIC "-//W3C//DTD HTML 3.2//E
	N">\n<HTML>\n<HEAD>\n<TITLE></TITLE>\n</HEAD>\n<BODY>\n<h3>Batman Returns v
	s. e-LEMON-ators</h3>Plus d'info : <a href="https://www.golnetwork.com/game
	/v/106861/">#113</a>\n\n</BODY>\n</HTML>
STATUS:CONFIRMED
CLASS:PUBLIC
URL:https://www.golnetwork.com/game/v/106861/
X-MICROSOFT-CDO-BUSYSTATUS:BUSY
X-MICROSOFT-CDO-IMPORTANCE:1
END:VEVENT
BEGIN:VEVENT
UID:gapof@games.golnetwork.com
LOCATION:Molson Stadium
GEO:45.10662;-94.578209
CREATED:20170522T162156Z
DTSTART:20170531T211500Z
DTEND:20170531T215900Z
DTSTAMP:20260422T034850Z
SUMMARY:N'Golo Kante vs. Los Maestros (OPB11)
DESCRIPTION:Los Maestros (OPB11) vs. N'Golo KantePlus d'info : #112
X-ALT-DESC;FMTTYPE=text/html:<!DOCTYPE HTML PUBLIC "-//W3C//DTD HTML 3.2//E
	N">\n<HTML>\n<HEAD>\n<TITLE></TITLE>\n</HEAD>\n<BODY>\n<h3>Los Maestros (OP
	B11) vs. N'Golo Kante</h3>Plus d'info : <a href="https://www.golnetwork.com
	/game/v/106860/">#112</a>\n\n</BODY>\n</HTML>
STATUS:CONFIRMED
CLASS:PUBLIC
URL:https://www.golnetwork.com/game/v/106860/
X-MICROSOFT-CDO-BUSYSTATUS:BUSY
X-MICROSOFT-CDO-IMPORTANCE:1
END:VEVENT
BEGIN:VEVENT
UID:gapoj@games.golnetwork.com
LOCATION:Molson Stadium
GEO:45.10662;-94.578209
CREATED:20170522T162156Z
DTSTART:20170603T231500Z
DTEND:20170603T235900Z
DTSTAMP:20260422T034850Z
SUMMARY:Batman Returns vs. N'Golo Kante
DESCRIPTION:N'Golo Kante vs. Batman ReturnsPlus d'info : #116
X-ALT-DESC;FMTTYPE=text/html:<!DOCTYPE HTML PUBLIC "-//W3C//DTD HTML 3.2//E
	N">\n<HTML>\n<HEAD>\n<TITLE></TITLE>\n</HEAD>\n<BODY>\n<h3>N'Golo Kante vs.
	 Batman Returns</h3>Plus d'info : <a href="https://www.golnetwork.com/game/
	v/106862/">#116</a>\n\n</BODY>\n</HTML>
STATUS:CONFIRMED
CLASS:PUBLIC
URL:https://www.golnetwork.com/game/v/106862/
X-MICROSOFT-CDO-BUSYSTATUS:BUSY
X-MICROSOFT-CDO-IMPORTANCE:1
END:VEVENT
END:VCALENDAR
